BEGIN:VCALENDAR
VERSION:2.0
PRODID:-//Trinity Lutheran Church - Bemidji - ECPv6.15.20//NONSGML v1.0//EN
CALSCALE:GREGORIAN
METHOD:PUBLISH
X-ORIGINAL-URL:https://www.trinitybemidji.org
X-WR-CALDESC:Events for Trinity Lutheran Church - Bemidji
REFRESH-INTERVAL;VALUE=DURATION:PT1H
X-Robots-Tag:noindex
X-PUBLISHED-TTL:PT1H
BEGIN:VTIMEZONE
TZID:America/Chicago
BEGIN:DAYLIGHT
TZOFFSETFROM:-0600
TZOFFSETTO:-0500
TZNAME:CDT
DTSTART:20220313T080000
END:DAYLIGHT
BEGIN:STANDARD
TZOFFSETFROM:-0500
TZOFFSETTO:-0600
TZNAME:CST
DTSTART:20221106T070000
END:STANDARD
BEGIN:DAYLIGHT
TZOFFSETFROM:-0600
TZOFFSETTO:-0500
TZNAME:CDT
DTSTART:20230312T080000
END:DAYLIGHT
BEGIN:STANDARD
TZOFFSETFROM:-0500
TZOFFSETTO:-0600
TZNAME:CST
DTSTART:20231105T070000
END:STANDARD
BEGIN:DAYLIGHT
TZOFFSETFROM:-0600
TZOFFSETTO:-0500
TZNAME:CDT
DTSTART:20240310T080000
END:DAYLIGHT
BEGIN:STANDARD
TZOFFSETFROM:-0500
TZOFFSETTO:-0600
TZNAME:CST
DTSTART:20241103T070000
END:STANDARD
END:VTIMEZONE
BEGIN:VEVENT
DTSTART;TZID=America/Chicago:20231203T090000
DTEND;TZID=America/Chicago:20231203T100000
DTSTAMP:20260425T110121
CREATED:20230509T165314Z
LAST-MODIFIED:20230509T165314Z
UID:29262-1701594000-1701597600@www.trinitybemidji.org
SUMMARY:Divine Worship
DESCRIPTION:
URL:https://www.trinitybemidji.org/event/divine-worship-107/
CATEGORIES:Meeting
END:VEVENT
BEGIN:VEVENT
DTSTART;TZID=America/Chicago:20231203T103000
DTEND;TZID=America/Chicago:20231203T113000
DTSTAMP:20260425T110121
CREATED:20230509T165752Z
LAST-MODIFIED:20230509T165752Z
UID:29296-1701599400-1701603000@www.trinitybemidji.org
SUMMARY:Bible Study
DESCRIPTION:
URL:https://www.trinitybemidji.org/event/bible-study-108/
CATEGORIES:Meeting
END:VEVENT
BEGIN:VEVENT
DTSTART;TZID=America/Chicago:20231203T103000
DTEND;TZID=America/Chicago:20231203T113000
DTSTAMP:20260425T110121
CREATED:20230509T170318Z
LAST-MODIFIED:20230509T170318Z
UID:29403-1701599400-1701603000@www.trinitybemidji.org
SUMMARY:Sunday School
DESCRIPTION:
URL:https://www.trinitybemidji.org/event/sunday-school-67/
CATEGORIES:Meeting
END:VEVENT
BEGIN:VEVENT
DTSTART;TZID=America/Chicago:20231204T190000
DTEND;TZID=America/Chicago:20231204T200000
DTSTAMP:20260425T110121
CREATED:20230509T170105Z
LAST-MODIFIED:20230509T170105Z
UID:29360-1701716400-1701720000@www.trinitybemidji.org
SUMMARY:Men's Group
DESCRIPTION:
URL:https://www.trinitybemidji.org/event/mens-group-18/
CATEGORIES:Meeting
END:VEVENT
BEGIN:VEVENT
DTSTART;TZID=America/Chicago:20231207T173000
DTEND;TZID=America/Chicago:20231207T183000
DTSTAMP:20260425T110121
CREATED:20230509T165832Z
LAST-MODIFIED:20230509T165832Z
UID:29307-1701970200-1701973800@www.trinitybemidji.org
SUMMARY:Board of Elders
DESCRIPTION:
URL:https://www.trinitybemidji.org/event/board-of-elders-29/
CATEGORIES:Meeting
END:VEVENT
BEGIN:VEVENT
DTSTART;TZID=America/Chicago:20231210T090000
DTEND;TZID=America/Chicago:20231210T100000
DTSTAMP:20260425T110121
CREATED:20230509T165315Z
LAST-MODIFIED:20230509T165315Z
UID:29263-1702198800-1702202400@www.trinitybemidji.org
SUMMARY:Divine Worship
DESCRIPTION:
URL:https://www.trinitybemidji.org/event/divine-worship-108/
CATEGORIES:Meeting
END:VEVENT
BEGIN:VEVENT
DTSTART;TZID=America/Chicago:20231210T103000
DTEND;TZID=America/Chicago:20231210T113000
DTSTAMP:20260425T110121
CREATED:20230509T165802Z
LAST-MODIFIED:20230509T165802Z
UID:29297-1702204200-1702207800@www.trinitybemidji.org
SUMMARY:Bible Study
DESCRIPTION:
URL:https://www.trinitybemidji.org/event/bible-study-109/
CATEGORIES:Meeting
END:VEVENT
BEGIN:VEVENT
DTSTART;TZID=America/Chicago:20231210T103000
DTEND;TZID=America/Chicago:20231210T113000
DTSTAMP:20260425T110121
CREATED:20230509T170320Z
LAST-MODIFIED:20230509T170320Z
UID:29404-1702204200-1702207800@www.trinitybemidji.org
SUMMARY:Sunday School
DESCRIPTION:
URL:https://www.trinitybemidji.org/event/sunday-school-68/
CATEGORIES:Meeting
END:VEVENT
BEGIN:VEVENT
DTSTART;TZID=America/Chicago:20231211T170000
DTEND;TZID=America/Chicago:20231211T183000
DTSTAMP:20260425T110121
CREATED:20230509T170003Z
LAST-MODIFIED:20230509T170003Z
UID:29337-1702314000-1702319400@www.trinitybemidji.org
SUMMARY:Active Christian Fellowship
DESCRIPTION:
URL:https://www.trinitybemidji.org/event/active-christian-fellowship-28/
CATEGORIES:Meeting
END:VEVENT
BEGIN:VEVENT
DTSTART;TZID=America/Chicago:20231214T133000
DTEND;TZID=America/Chicago:20231214T143000
DTSTAMP:20260425T110121
CREATED:20230509T170233Z
LAST-MODIFIED:20230509T170233Z
UID:29387-1702560600-1702564200@www.trinitybemidji.org
SUMMARY:Hannah Circle
DESCRIPTION:
URL:https://www.trinitybemidji.org/event/hannah-circle-8/
CATEGORIES:Meeting
END:VEVENT
BEGIN:VEVENT
DTSTART;TZID=America/Chicago:20231217T090000
DTEND;TZID=America/Chicago:20231217T100000
DTSTAMP:20260425T110121
CREATED:20230509T165316Z
LAST-MODIFIED:20230509T165316Z
UID:29264-1702803600-1702807200@www.trinitybemidji.org
SUMMARY:Divine Worship
DESCRIPTION:
URL:https://www.trinitybemidji.org/event/divine-worship-109/
CATEGORIES:Meeting
END:VEVENT
BEGIN:VEVENT
DTSTART;TZID=America/Chicago:20231217T103000
DTEND;TZID=America/Chicago:20231217T113000
DTSTAMP:20260425T110121
CREATED:20230509T165803Z
LAST-MODIFIED:20230509T165803Z
UID:29298-1702809000-1702812600@www.trinitybemidji.org
SUMMARY:Bible Study
DESCRIPTION:
URL:https://www.trinitybemidji.org/event/bible-study-110/
CATEGORIES:Meeting
END:VEVENT
BEGIN:VEVENT
DTSTART;TZID=America/Chicago:20231217T103000
DTEND;TZID=America/Chicago:20231217T113000
DTSTAMP:20260425T110121
CREATED:20230509T170320Z
LAST-MODIFIED:20230509T170320Z
UID:29405-1702809000-1702812600@www.trinitybemidji.org
SUMMARY:Sunday School
DESCRIPTION:
URL:https://www.trinitybemidji.org/event/sunday-school-69/
CATEGORIES:Meeting
END:VEVENT
BEGIN:VEVENT
DTSTART;TZID=America/Chicago:20231219T093000
DTEND;TZID=America/Chicago:20231219T223000
DTSTAMP:20260425T110121
CREATED:20230509T170218Z
LAST-MODIFIED:20230509T170218Z
UID:29382-1702978200-1703025000@www.trinitybemidji.org
SUMMARY:Eunice Circle
DESCRIPTION:
URL:https://www.trinitybemidji.org/event/eunice-circle-21/
CATEGORIES:Meeting
END:VEVENT
BEGIN:VEVENT
DTSTART;TZID=America/Chicago:20231221T090000
DTEND;TZID=America/Chicago:20231221T100000
DTSTAMP:20260425T110121
CREATED:20230509T170036Z
LAST-MODIFIED:20230509T170036Z
UID:29351-1703149200-1703152800@www.trinitybemidji.org
SUMMARY:Happy Quilters
DESCRIPTION:
URL:https://www.trinitybemidji.org/event/happy-quilters-14/
CATEGORIES:Meeting
END:VEVENT
BEGIN:VEVENT
DTSTART;TZID=America/Chicago:20231221T180000
DTEND;TZID=America/Chicago:20231221T190000
DTSTAMP:20260425T110121
CREATED:20230509T165850Z
LAST-MODIFIED:20230509T165850Z
UID:29314-1703181600-1703185200@www.trinitybemidji.org
SUMMARY:Church Boards
DESCRIPTION:
URL:https://www.trinitybemidji.org/event/church-boards-25/
CATEGORIES:Meeting
END:VEVENT
BEGIN:VEVENT
DTSTART;TZID=America/Chicago:20231221T180000
DTEND;TZID=America/Chicago:20231221T190000
DTSTAMP:20260425T110121
CREATED:20230509T165905Z
LAST-MODIFIED:20230509T165905Z
UID:29321-1703181600-1703185200@www.trinitybemidji.org
SUMMARY:Church Council
DESCRIPTION:
URL:https://www.trinitybemidji.org/event/church-council-23/
CATEGORIES:Meeting
END:VEVENT
BEGIN:VEVENT
DTSTART;TZID=America/Chicago:20231224T090000
DTEND;TZID=America/Chicago:20231224T100000
DTSTAMP:20260425T110121
CREATED:20230509T165317Z
LAST-MODIFIED:20230509T165317Z
UID:29265-1703408400-1703412000@www.trinitybemidji.org
SUMMARY:Divine Worship
DESCRIPTION:
URL:https://www.trinitybemidji.org/event/divine-worship-110/
CATEGORIES:Meeting
END:VEVENT
BEGIN:VEVENT
DTSTART;TZID=America/Chicago:20231228T090000
DTEND;TZID=America/Chicago:20231228T100000
DTSTAMP:20260425T110121
CREATED:20230509T170047Z
LAST-MODIFIED:20230509T170047Z
UID:29352-1703754000-1703757600@www.trinitybemidji.org
SUMMARY:Happy Quilters
DESCRIPTION:
URL:https://www.trinitybemidji.org/event/happy-quilters-15/
CATEGORIES:Meeting
END:VEVENT
BEGIN:VEVENT
DTSTART;TZID=America/Chicago:20231231T103000
DTEND;TZID=America/Chicago:20231231T113000
DTSTAMP:20260425T110121
CREATED:20230509T165805Z
LAST-MODIFIED:20230509T165805Z
UID:29299-1704018600-1704022200@www.trinitybemidji.org
SUMMARY:Bible Study
DESCRIPTION:
URL:https://www.trinitybemidji.org/event/bible-study-111/
CATEGORIES:Meeting
END:VEVENT
BEGIN:VEVENT
DTSTART;TZID=America/Chicago:20231231T113000
DTEND;TZID=America/Chicago:20231231T123000
DTSTAMP:20260425T110121
CREATED:20230509T165934Z
LAST-MODIFIED:20230509T165934Z
UID:29329-1704022200-1704025800@www.trinitybemidji.org
SUMMARY:Christian Singles
DESCRIPTION:
URL:https://www.trinitybemidji.org/event/christian-singles-26/
CATEGORIES:Meeting
END:VEVENT
END:VCALENDAR