BEGIN:VCALENDAR
VERSION:2.0
PRODID:-//Trinity Lutheran Church - Bemidji - ECPv6.15.20//NONSGML v1.0//EN
CALSCALE:GREGORIAN
METHOD:PUBLISH
X-ORIGINAL-URL:https://www.trinitybemidji.org
X-WR-CALDESC:Events for Trinity Lutheran Church - Bemidji
REFRESH-INTERVAL;VALUE=DURATION:PT1H
X-Robots-Tag:noindex
X-PUBLISHED-TTL:PT1H
BEGIN:VTIMEZONE
TZID:America/Chicago
BEGIN:DAYLIGHT
TZOFFSETFROM:-0600
TZOFFSETTO:-0500
TZNAME:CDT
DTSTART:20230312T080000
END:DAYLIGHT
BEGIN:STANDARD
TZOFFSETFROM:-0500
TZOFFSETTO:-0600
TZNAME:CST
DTSTART:20231105T070000
END:STANDARD
BEGIN:DAYLIGHT
TZOFFSETFROM:-0600
TZOFFSETTO:-0500
TZNAME:CDT
DTSTART:20240310T080000
END:DAYLIGHT
BEGIN:STANDARD
TZOFFSETFROM:-0500
TZOFFSETTO:-0600
TZNAME:CST
DTSTART:20241103T070000
END:STANDARD
BEGIN:DAYLIGHT
TZOFFSETFROM:-0600
TZOFFSETTO:-0500
TZNAME:CDT
DTSTART:20250309T080000
END:DAYLIGHT
BEGIN:STANDARD
TZOFFSETFROM:-0500
TZOFFSETTO:-0600
TZNAME:CST
DTSTART:20251102T070000
END:STANDARD
END:VTIMEZONE
BEGIN:VEVENT
DTSTART;TZID=America/Chicago:20240701T170000
DTEND;TZID=America/Chicago:20240701T183000
DTSTAMP:20260424T223644
CREATED:20240118T203112Z
LAST-MODIFIED:20240118T203112Z
UID:29832-1719853200-1719858600@www.trinitybemidji.org
SUMMARY:Active Christian Fellowship
DESCRIPTION:
URL:https://www.trinitybemidji.org/event/active-christian-fellowship-35/
CATEGORIES:Meeting
END:VEVENT
BEGIN:VEVENT
DTSTART;TZID=America/Chicago:20240701T190000
DTEND;TZID=America/Chicago:20240701T200000
DTSTAMP:20260424T223644
CREATED:20240118T203613Z
LAST-MODIFIED:20240118T203613Z
UID:29933-1719860400-1719864000@www.trinitybemidji.org
SUMMARY:Men of Trinity
DESCRIPTION:
URL:https://www.trinitybemidji.org/event/men-of-trinity-12/
CATEGORIES:Meeting
END:VEVENT
BEGIN:VEVENT
DTSTART;TZID=America/Chicago:20240704T173000
DTEND;TZID=America/Chicago:20240704T190000
DTSTAMP:20260424T223644
CREATED:20240118T203713Z
LAST-MODIFIED:20240118T203713Z
UID:29954-1720114200-1720119600@www.trinitybemidji.org
SUMMARY:Board of Elders
DESCRIPTION:
URL:https://www.trinitybemidji.org/event/board-of-elders-36/
CATEGORIES:Meeting
END:VEVENT
BEGIN:VEVENT
DTSTART;TZID=America/Chicago:20240707T090000
DTEND;TZID=America/Chicago:20240707T100000
DTSTAMP:20260424T223644
CREATED:20240118T202647Z
LAST-MODIFIED:20240118T202647Z
UID:29748-1720342800-1720346400@www.trinitybemidji.org
SUMMARY:Divine Worship
DESCRIPTION:
URL:https://www.trinitybemidji.org/event/divine-worship-137/
CATEGORIES:Meeting
END:VEVENT
BEGIN:VEVENT
DTSTART;TZID=America/Chicago:20240707T103000
DTEND;TZID=America/Chicago:20240707T113000
DTSTAMP:20260424T223644
CREATED:20240118T202927Z
LAST-MODIFIED:20240118T202927Z
UID:29800-1720348200-1720351800@www.trinitybemidji.org
SUMMARY:Bible Study
DESCRIPTION:
URL:https://www.trinitybemidji.org/event/bible-study-138/
CATEGORIES:Meeting
END:VEVENT
BEGIN:VEVENT
DTSTART;TZID=America/Chicago:20240714T090000
DTEND;TZID=America/Chicago:20240714T100000
DTSTAMP:20260424T223644
CREATED:20240118T202647Z
LAST-MODIFIED:20240118T202647Z
UID:29749-1720947600-1720951200@www.trinitybemidji.org
SUMMARY:Divine Worship
DESCRIPTION:
URL:https://www.trinitybemidji.org/event/divine-worship-138/
CATEGORIES:Meeting
END:VEVENT
BEGIN:VEVENT
DTSTART;TZID=America/Chicago:20240714T103000
DTEND;TZID=America/Chicago:20240714T113000
DTSTAMP:20260424T223644
CREATED:20240118T202928Z
LAST-MODIFIED:20240118T202928Z
UID:29801-1720953000-1720956600@www.trinitybemidji.org
SUMMARY:Bible Study
DESCRIPTION:
URL:https://www.trinitybemidji.org/event/bible-study-139/
CATEGORIES:Meeting
END:VEVENT
BEGIN:VEVENT
DTSTART;TZID=America/Chicago:20240715T130000
DTEND;TZID=America/Chicago:20240715T140000
DTSTAMP:20260424T223644
CREATED:20240118T203913Z
LAST-MODIFIED:20240118T203913Z
UID:29995-1721048400-1721052000@www.trinitybemidji.org
SUMMARY:Altar Circle
DESCRIPTION:
URL:https://www.trinitybemidji.org/event/altar-circle-22/
CATEGORIES:Meeting
END:VEVENT
BEGIN:VEVENT
DTSTART;TZID=America/Chicago:20240718T090000
DTEND;TZID=America/Chicago:20240718T100000
DTSTAMP:20260424T223644
CREATED:20240118T203159Z
LAST-MODIFIED:20240118T203159Z
UID:29850-1721293200-1721296800@www.trinitybemidji.org
SUMMARY:Happy Quilters
DESCRIPTION:
URL:https://www.trinitybemidji.org/event/happy-quilters-28/
CATEGORIES:Meeting
END:VEVENT
BEGIN:VEVENT
DTSTART;TZID=America/Chicago:20240718T180000
DTEND;TZID=America/Chicago:20240718T190000
DTSTAMP:20260424T223644
CREATED:20240118T203743Z
LAST-MODIFIED:20240118T203743Z
UID:29965-1721325600-1721329200@www.trinitybemidji.org
SUMMARY:Church Boards
DESCRIPTION:
URL:https://www.trinitybemidji.org/event/church-boards-31/
CATEGORIES:Meeting
END:VEVENT
BEGIN:VEVENT
DTSTART;TZID=America/Chicago:20240718T190000
DTEND;TZID=America/Chicago:20240718T200000
DTSTAMP:20260424T223644
CREATED:20240118T203813Z
LAST-MODIFIED:20240118T203813Z
UID:29975-1721329200-1721332800@www.trinitybemidji.org
SUMMARY:Church Council
DESCRIPTION:
URL:https://www.trinitybemidji.org/event/church-council-29/
CATEGORIES:Meeting
END:VEVENT
BEGIN:VEVENT
DTSTART;TZID=America/Chicago:20240721T090000
DTEND;TZID=America/Chicago:20240721T100000
DTSTAMP:20260424T223644
CREATED:20240118T202648Z
LAST-MODIFIED:20240118T202648Z
UID:29750-1721552400-1721556000@www.trinitybemidji.org
SUMMARY:Divine Worship
DESCRIPTION:
URL:https://www.trinitybemidji.org/event/divine-worship-139/
CATEGORIES:Meeting
END:VEVENT
BEGIN:VEVENT
DTSTART;TZID=America/Chicago:20240728T090000
DTEND;TZID=America/Chicago:20240728T100000
DTSTAMP:20260424T223644
CREATED:20240118T202648Z
LAST-MODIFIED:20240118T202648Z
UID:29751-1722157200-1722160800@www.trinitybemidji.org
SUMMARY:Divine Worship
DESCRIPTION:
URL:https://www.trinitybemidji.org/event/divine-worship-140/
CATEGORIES:Meeting
END:VEVENT
BEGIN:VEVENT
DTSTART;TZID=America/Chicago:20240728T103000
DTEND;TZID=America/Chicago:20240728T113000
DTSTAMP:20260424T223644
CREATED:20240118T202942Z
LAST-MODIFIED:20240118T202942Z
UID:29803-1722162600-1722166200@www.trinitybemidji.org
SUMMARY:Bible Study
DESCRIPTION:
URL:https://www.trinitybemidji.org/event/bible-study-141/
CATEGORIES:Meeting
END:VEVENT
END:VCALENDAR