BEGIN:VCALENDAR
VERSION:2.0
PRODID:-//Trinity Lutheran Church - Bemidji - ECPv6.15.20//NONSGML v1.0//EN
CALSCALE:GREGORIAN
METHOD:PUBLISH
X-WR-CALNAME:Trinity Lutheran Church - Bemidji
X-ORIGINAL-URL:https://www.trinitybemidji.org
X-WR-CALDESC:Events for Trinity Lutheran Church - Bemidji
REFRESH-INTERVAL;VALUE=DURATION:PT1H
X-Robots-Tag:noindex
X-PUBLISHED-TTL:PT1H
BEGIN:VTIMEZONE
TZID:America/Chicago
BEGIN:DAYLIGHT
TZOFFSETFROM:-0600
TZOFFSETTO:-0500
TZNAME:CDT
DTSTART:20230312T080000
END:DAYLIGHT
BEGIN:STANDARD
TZOFFSETFROM:-0500
TZOFFSETTO:-0600
TZNAME:CST
DTSTART:20231105T070000
END:STANDARD
BEGIN:DAYLIGHT
TZOFFSETFROM:-0600
TZOFFSETTO:-0500
TZNAME:CDT
DTSTART:20240310T080000
END:DAYLIGHT
BEGIN:STANDARD
TZOFFSETFROM:-0500
TZOFFSETTO:-0600
TZNAME:CST
DTSTART:20241103T070000
END:STANDARD
BEGIN:DAYLIGHT
TZOFFSETFROM:-0600
TZOFFSETTO:-0500
TZNAME:CDT
DTSTART:20250309T080000
END:DAYLIGHT
BEGIN:STANDARD
TZOFFSETFROM:-0500
TZOFFSETTO:-0600
TZNAME:CST
DTSTART:20251102T070000
END:STANDARD
END:VTIMEZONE
BEGIN:VEVENT
DTSTART;TZID=America/Chicago:20241103T090000
DTEND;TZID=America/Chicago:20241103T100000
DTSTAMP:20260424T154210
CREATED:20240118T202732Z
LAST-MODIFIED:20240118T202732Z
UID:29765-1730624400-1730628000@www.trinitybemidji.org
SUMMARY:Divine Worship
DESCRIPTION:
URL:https://www.trinitybemidji.org/event/divine-worship-154/
CATEGORIES:Meeting
END:VEVENT
BEGIN:VEVENT
DTSTART;TZID=America/Chicago:20241103T103000
DTEND;TZID=America/Chicago:20241103T113000
DTSTAMP:20260424T154210
CREATED:20240118T203027Z
LAST-MODIFIED:20240118T203027Z
UID:29817-1730629800-1730633400@www.trinitybemidji.org
SUMMARY:Bible Study
DESCRIPTION:
URL:https://www.trinitybemidji.org/event/bible-study-155/
CATEGORIES:Meeting
END:VEVENT
BEGIN:VEVENT
DTSTART;TZID=America/Chicago:20241103T103000
DTEND;TZID=America/Chicago:20241103T113000
DTSTAMP:20260424T154210
CREATED:20240118T203528Z
LAST-MODIFIED:20240118T203528Z
UID:29919-1730629800-1730633400@www.trinitybemidji.org
SUMMARY:Sunday School
DESCRIPTION:
URL:https://www.trinitybemidji.org/event/sunday-school-100/
CATEGORIES:Meeting
END:VEVENT
BEGIN:VEVENT
DTSTART;TZID=America/Chicago:20241104T133000
DTEND;TZID=America/Chicago:20241104T150000
DTSTAMP:20260424T154210
CREATED:20240118T203258Z
LAST-MODIFIED:20240118T203258Z
UID:29870-1730727000-1730732400@www.trinitybemidji.org
SUMMARY:Afternoon Guild
DESCRIPTION:
URL:https://www.trinitybemidji.org/event/afternoon-guild-15/
CATEGORIES:Meeting
END:VEVENT
BEGIN:VEVENT
DTSTART;TZID=America/Chicago:20241104T170000
DTEND;TZID=America/Chicago:20241104T183000
DTSTAMP:20260424T154210
CREATED:20240118T203113Z
LAST-MODIFIED:20240118T203113Z
UID:29836-1730739600-1730745000@www.trinitybemidji.org
SUMMARY:Active Christian Fellowship
DESCRIPTION:
URL:https://www.trinitybemidji.org/event/active-christian-fellowship-39/
CATEGORIES:Meeting
END:VEVENT
BEGIN:VEVENT
DTSTART;TZID=America/Chicago:20241104T190000
DTEND;TZID=America/Chicago:20241104T200000
DTSTAMP:20260424T154210
CREATED:20240118T203627Z
LAST-MODIFIED:20240118T203627Z
UID:29937-1730746800-1730750400@www.trinitybemidji.org
SUMMARY:Men of Trinity
DESCRIPTION:
URL:https://www.trinitybemidji.org/event/men-of-trinity-16/
CATEGORIES:Meeting
END:VEVENT
BEGIN:VEVENT
DTSTART;TZID=America/Chicago:20241107T133000
DTEND;TZID=America/Chicago:20241107T150000
DTSTAMP:20260424T154210
CREATED:20240118T203657Z
LAST-MODIFIED:20240118T203657Z
UID:29947-1730986200-1730991600@www.trinitybemidji.org
SUMMARY:Ladies Aid
DESCRIPTION:
URL:https://www.trinitybemidji.org/event/ladies-aid-32/
CATEGORIES:Meeting
END:VEVENT
BEGIN:VEVENT
DTSTART;TZID=America/Chicago:20241107T173000
DTEND;TZID=America/Chicago:20241107T190000
DTSTAMP:20260424T154210
CREATED:20240118T203727Z
LAST-MODIFIED:20240118T203727Z
UID:29958-1731000600-1731006000@www.trinitybemidji.org
SUMMARY:Board of Elders
DESCRIPTION:
URL:https://www.trinitybemidji.org/event/board-of-elders-40/
CATEGORIES:Meeting
END:VEVENT
BEGIN:VEVENT
DTSTART;TZID=America/Chicago:20241110T090000
DTEND;TZID=America/Chicago:20241110T100000
DTSTAMP:20260424T154210
CREATED:20240118T202733Z
LAST-MODIFIED:20240118T202733Z
UID:29766-1731229200-1731232800@www.trinitybemidji.org
SUMMARY:Divine Worship
DESCRIPTION:
URL:https://www.trinitybemidji.org/event/divine-worship-155/
CATEGORIES:Meeting
END:VEVENT
BEGIN:VEVENT
DTSTART;TZID=America/Chicago:20241110T103000
DTEND;TZID=America/Chicago:20241110T113000
DTSTAMP:20260424T154210
CREATED:20240118T203027Z
LAST-MODIFIED:20240118T203027Z
UID:29818-1731234600-1731238200@www.trinitybemidji.org
SUMMARY:Bible Study
DESCRIPTION:
URL:https://www.trinitybemidji.org/event/bible-study-156/
CATEGORIES:Meeting
END:VEVENT
BEGIN:VEVENT
DTSTART;TZID=America/Chicago:20241110T103000
DTEND;TZID=America/Chicago:20241110T113000
DTSTAMP:20260424T154210
CREATED:20240118T203528Z
LAST-MODIFIED:20240118T203528Z
UID:29920-1731234600-1731238200@www.trinitybemidji.org
SUMMARY:Sunday School
DESCRIPTION:
URL:https://www.trinitybemidji.org/event/sunday-school-101/
CATEGORIES:Meeting
END:VEVENT
BEGIN:VEVENT
DTSTART;TZID=America/Chicago:20241114T133000
DTEND;TZID=America/Chicago:20241114T143000
DTSTAMP:20260424T154210
CREATED:20240118T203357Z
LAST-MODIFIED:20240118T203357Z
UID:29887-1731591000-1731594600@www.trinitybemidji.org
SUMMARY:Hannah Circle
DESCRIPTION:
URL:https://www.trinitybemidji.org/event/hannah-circle-16/
CATEGORIES:Meeting
END:VEVENT
BEGIN:VEVENT
DTSTART;TZID=America/Chicago:20241117T090000
DTEND;TZID=America/Chicago:20241117T100000
DTSTAMP:20260424T154210
CREATED:20240118T202747Z
LAST-MODIFIED:20240118T202747Z
UID:29767-1731834000-1731837600@www.trinitybemidji.org
SUMMARY:Divine Worship
DESCRIPTION:
URL:https://www.trinitybemidji.org/event/divine-worship-156/
CATEGORIES:Meeting
END:VEVENT
BEGIN:VEVENT
DTSTART;TZID=America/Chicago:20241117T103000
DTEND;TZID=America/Chicago:20241117T113000
DTSTAMP:20260424T154210
CREATED:20240118T203027Z
LAST-MODIFIED:20240118T203027Z
UID:29819-1731839400-1731843000@www.trinitybemidji.org
SUMMARY:Bible Study
DESCRIPTION:
URL:https://www.trinitybemidji.org/event/bible-study-157/
CATEGORIES:Meeting
END:VEVENT
BEGIN:VEVENT
DTSTART;TZID=America/Chicago:20241117T103000
DTEND;TZID=America/Chicago:20241117T113000
DTSTAMP:20260424T154210
CREATED:20240118T203528Z
LAST-MODIFIED:20240118T203528Z
UID:29921-1731839400-1731843000@www.trinitybemidji.org
SUMMARY:Sunday School
DESCRIPTION:
URL:https://www.trinitybemidji.org/event/sunday-school-102/
CATEGORIES:Meeting
END:VEVENT
BEGIN:VEVENT
DTSTART;TZID=America/Chicago:20241118T130000
DTEND;TZID=America/Chicago:20241118T140000
DTSTAMP:20260424T154210
CREATED:20240118T203929Z
LAST-MODIFIED:20240118T203929Z
UID:29999-1731934800-1731938400@www.trinitybemidji.org
SUMMARY:Altar Circle
DESCRIPTION:
URL:https://www.trinitybemidji.org/event/altar-circle-26/
CATEGORIES:Meeting
END:VEVENT
BEGIN:VEVENT
DTSTART;TZID=America/Chicago:20241119T093000
DTEND;TZID=America/Chicago:20241119T223000
DTSTAMP:20260424T154210
CREATED:20240118T203328Z
LAST-MODIFIED:20240118T203328Z
UID:29878-1732008600-1732055400@www.trinitybemidji.org
SUMMARY:Eunice Circle
DESCRIPTION:
URL:https://www.trinitybemidji.org/event/eunice-circle-29/
CATEGORIES:Meeting
END:VEVENT
BEGIN:VEVENT
DTSTART;TZID=America/Chicago:20241121T090000
DTEND;TZID=America/Chicago:20241121T100000
DTSTAMP:20260424T154210
CREATED:20240118T203227Z
LAST-MODIFIED:20240118T203227Z
UID:29858-1732179600-1732183200@www.trinitybemidji.org
SUMMARY:Happy Quilters
DESCRIPTION:
URL:https://www.trinitybemidji.org/event/happy-quilters-35/
CATEGORIES:Meeting
END:VEVENT
BEGIN:VEVENT
DTSTART;TZID=America/Chicago:20241121T180000
DTEND;TZID=America/Chicago:20241121T190000
DTSTAMP:20260424T154210
CREATED:20240118T203757Z
LAST-MODIFIED:20240118T203757Z
UID:29968-1732212000-1732215600@www.trinitybemidji.org
SUMMARY:Church Boards
DESCRIPTION:
URL:https://www.trinitybemidji.org/event/church-boards-34/
CATEGORIES:Meeting
END:VEVENT
BEGIN:VEVENT
DTSTART;TZID=America/Chicago:20241121T190000
DTEND;TZID=America/Chicago:20241121T200000
DTSTAMP:20260424T154210
CREATED:20240118T203827Z
LAST-MODIFIED:20240118T203827Z
UID:29978-1732215600-1732219200@www.trinitybemidji.org
SUMMARY:Church Council
DESCRIPTION:
URL:https://www.trinitybemidji.org/event/church-council-32/
CATEGORIES:Meeting
END:VEVENT
BEGIN:VEVENT
DTSTART;TZID=America/Chicago:20241124T090000
DTEND;TZID=America/Chicago:20241124T100000
DTSTAMP:20260424T154210
CREATED:20240118T202747Z
LAST-MODIFIED:20240118T202747Z
UID:29768-1732438800-1732442400@www.trinitybemidji.org
SUMMARY:Divine Worship
DESCRIPTION:
URL:https://www.trinitybemidji.org/event/divine-worship-157/
CATEGORIES:Meeting
END:VEVENT
BEGIN:VEVENT
DTSTART;TZID=America/Chicago:20241124T103000
DTEND;TZID=America/Chicago:20241124T113000
DTSTAMP:20260424T154210
CREATED:20240118T203028Z
LAST-MODIFIED:20240118T203028Z
UID:29820-1732444200-1732447800@www.trinitybemidji.org
SUMMARY:Bible Study
DESCRIPTION:
URL:https://www.trinitybemidji.org/event/bible-study-158/
CATEGORIES:Meeting
END:VEVENT
BEGIN:VEVENT
DTSTART;TZID=America/Chicago:20241124T103000
DTEND;TZID=America/Chicago:20241124T113000
DTSTAMP:20260424T154210
CREATED:20240118T203542Z
LAST-MODIFIED:20240118T203542Z
UID:29922-1732444200-1732447800@www.trinitybemidji.org
SUMMARY:Sunday School
DESCRIPTION:
URL:https://www.trinitybemidji.org/event/sunday-school-103/
CATEGORIES:Meeting
END:VEVENT
BEGIN:VEVENT
DTSTART;TZID=America/Chicago:20241128T090000
DTEND;TZID=America/Chicago:20241128T100000
DTSTAMP:20260424T154210
CREATED:20240118T203227Z
LAST-MODIFIED:20240118T203227Z
UID:29859-1732784400-1732788000@www.trinitybemidji.org
SUMMARY:Happy Quilters
DESCRIPTION:
URL:https://www.trinitybemidji.org/event/happy-quilters-36/
CATEGORIES:Meeting
END:VEVENT
END:VCALENDAR