BEGIN:VCALENDAR
VERSION:2.0
PRODID:-//Trinity Lutheran Church - Bemidji - ECPv6.15.20//NONSGML v1.0//EN
CALSCALE:GREGORIAN
METHOD:PUBLISH
X-WR-CALNAME:Trinity Lutheran Church - Bemidji
X-ORIGINAL-URL:https://www.trinitybemidji.org
X-WR-CALDESC:Events for Trinity Lutheran Church - Bemidji
REFRESH-INTERVAL;VALUE=DURATION:PT1H
X-Robots-Tag:noindex
X-PUBLISHED-TTL:PT1H
BEGIN:VTIMEZONE
TZID:America/Chicago
BEGIN:DAYLIGHT
TZOFFSETFROM:-0600
TZOFFSETTO:-0500
TZNAME:CDT
DTSTART:20230312T080000
END:DAYLIGHT
BEGIN:STANDARD
TZOFFSETFROM:-0500
TZOFFSETTO:-0600
TZNAME:CST
DTSTART:20231105T070000
END:STANDARD
BEGIN:DAYLIGHT
TZOFFSETFROM:-0600
TZOFFSETTO:-0500
TZNAME:CDT
DTSTART:20240310T080000
END:DAYLIGHT
BEGIN:STANDARD
TZOFFSETFROM:-0500
TZOFFSETTO:-0600
TZNAME:CST
DTSTART:20241103T070000
END:STANDARD
BEGIN:DAYLIGHT
TZOFFSETFROM:-0600
TZOFFSETTO:-0500
TZNAME:CDT
DTSTART:20250309T080000
END:DAYLIGHT
BEGIN:STANDARD
TZOFFSETFROM:-0500
TZOFFSETTO:-0600
TZNAME:CST
DTSTART:20251102T070000
END:STANDARD
END:VTIMEZONE
BEGIN:VEVENT
DTSTART;TZID=America/Chicago:20241201T090000
DTEND;TZID=America/Chicago:20241201T100000
DTSTAMP:20260424T140533
CREATED:20240118T202747Z
LAST-MODIFIED:20240118T202747Z
UID:29769-1733043600-1733047200@www.trinitybemidji.org
SUMMARY:Divine Worship
DESCRIPTION:
URL:https://www.trinitybemidji.org/event/divine-worship-158/
CATEGORIES:Meeting
END:VEVENT
BEGIN:VEVENT
DTSTART;TZID=America/Chicago:20241201T103000
DTEND;TZID=America/Chicago:20241201T113000
DTSTAMP:20260424T140533
CREATED:20240118T203028Z
LAST-MODIFIED:20240118T203028Z
UID:29821-1733049000-1733052600@www.trinitybemidji.org
SUMMARY:Bible Study
DESCRIPTION:
URL:https://www.trinitybemidji.org/event/bible-study-159/
CATEGORIES:Meeting
END:VEVENT
BEGIN:VEVENT
DTSTART;TZID=America/Chicago:20241201T103000
DTEND;TZID=America/Chicago:20241201T113000
DTSTAMP:20260424T140533
CREATED:20240118T203543Z
LAST-MODIFIED:20240118T203543Z
UID:29923-1733049000-1733052600@www.trinitybemidji.org
SUMMARY:Sunday School
DESCRIPTION:
URL:https://www.trinitybemidji.org/event/sunday-school-104/
CATEGORIES:Meeting
END:VEVENT
BEGIN:VEVENT
DTSTART;TZID=America/Chicago:20241202T170000
DTEND;TZID=America/Chicago:20241202T183000
DTSTAMP:20260424T140533
CREATED:20240118T203127Z
LAST-MODIFIED:20240118T203127Z
UID:29837-1733158800-1733164200@www.trinitybemidji.org
SUMMARY:Active Christian Fellowship
DESCRIPTION:
URL:https://www.trinitybemidji.org/event/active-christian-fellowship-40/
CATEGORIES:Meeting
END:VEVENT
BEGIN:VEVENT
DTSTART;TZID=America/Chicago:20241202T190000
DTEND;TZID=America/Chicago:20241202T200000
DTSTAMP:20260424T140533
CREATED:20240118T203627Z
LAST-MODIFIED:20240118T203627Z
UID:29938-1733166000-1733169600@www.trinitybemidji.org
SUMMARY:Men of Trinity
DESCRIPTION:
URL:https://www.trinitybemidji.org/event/men-of-trinity-17/
CATEGORIES:Meeting
END:VEVENT
BEGIN:VEVENT
DTSTART;TZID=America/Chicago:20241205T173000
DTEND;TZID=America/Chicago:20241205T190000
DTSTAMP:20260424T140533
CREATED:20240118T203727Z
LAST-MODIFIED:20240118T203727Z
UID:29959-1733419800-1733425200@www.trinitybemidji.org
SUMMARY:Board of Elders
DESCRIPTION:
URL:https://www.trinitybemidji.org/event/board-of-elders-41/
CATEGORIES:Meeting
END:VEVENT
BEGIN:VEVENT
DTSTART;TZID=America/Chicago:20241208T090000
DTEND;TZID=America/Chicago:20241208T100000
DTSTAMP:20260424T140533
CREATED:20240118T202748Z
LAST-MODIFIED:20240118T202748Z
UID:29770-1733648400-1733652000@www.trinitybemidji.org
SUMMARY:Divine Worship
DESCRIPTION:
URL:https://www.trinitybemidji.org/event/divine-worship-159/
CATEGORIES:Meeting
END:VEVENT
BEGIN:VEVENT
DTSTART;TZID=America/Chicago:20241208T103000
DTEND;TZID=America/Chicago:20241208T113000
DTSTAMP:20260424T140533
CREATED:20240118T203042Z
LAST-MODIFIED:20240118T203042Z
UID:29822-1733653800-1733657400@www.trinitybemidji.org
SUMMARY:Bible Study
DESCRIPTION:
URL:https://www.trinitybemidji.org/event/bible-study-160/
CATEGORIES:Meeting
END:VEVENT
BEGIN:VEVENT
DTSTART;TZID=America/Chicago:20241208T103000
DTEND;TZID=America/Chicago:20241208T113000
DTSTAMP:20260424T140533
CREATED:20240118T203543Z
LAST-MODIFIED:20240118T203543Z
UID:29924-1733653800-1733657400@www.trinitybemidji.org
SUMMARY:Sunday School
DESCRIPTION:
URL:https://www.trinitybemidji.org/event/sunday-school-105/
CATEGORIES:Meeting
END:VEVENT
BEGIN:VEVENT
DTSTART;TZID=America/Chicago:20241212T133000
DTEND;TZID=America/Chicago:20241212T143000
DTSTAMP:20260424T140533
CREATED:20240118T203357Z
LAST-MODIFIED:20240118T203357Z
UID:29888-1734010200-1734013800@www.trinitybemidji.org
SUMMARY:Hannah Circle
DESCRIPTION:
URL:https://www.trinitybemidji.org/event/hannah-circle-17/
CATEGORIES:Meeting
END:VEVENT
BEGIN:VEVENT
DTSTART;TZID=America/Chicago:20241215T090000
DTEND;TZID=America/Chicago:20241215T100000
DTSTAMP:20260424T140533
CREATED:20240118T202748Z
LAST-MODIFIED:20240118T202748Z
UID:29771-1734253200-1734256800@www.trinitybemidji.org
SUMMARY:Divine Worship
DESCRIPTION:
URL:https://www.trinitybemidji.org/event/divine-worship-160/
CATEGORIES:Meeting
END:VEVENT
BEGIN:VEVENT
DTSTART;TZID=America/Chicago:20241215T103000
DTEND;TZID=America/Chicago:20241215T113000
DTSTAMP:20260424T140533
CREATED:20240118T203042Z
LAST-MODIFIED:20240118T203042Z
UID:29823-1734258600-1734262200@www.trinitybemidji.org
SUMMARY:Bible Study
DESCRIPTION:
URL:https://www.trinitybemidji.org/event/bible-study-161/
CATEGORIES:Meeting
END:VEVENT
BEGIN:VEVENT
DTSTART;TZID=America/Chicago:20241215T103000
DTEND;TZID=America/Chicago:20241215T113000
DTSTAMP:20260424T140533
CREATED:20240118T203543Z
LAST-MODIFIED:20240118T203543Z
UID:29925-1734258600-1734262200@www.trinitybemidji.org
SUMMARY:Sunday School
DESCRIPTION:
URL:https://www.trinitybemidji.org/event/sunday-school-106/
CATEGORIES:Meeting
END:VEVENT
BEGIN:VEVENT
DTSTART;TZID=America/Chicago:20241216T130000
DTEND;TZID=America/Chicago:20241216T140000
DTSTAMP:20260424T140533
CREATED:20240118T203929Z
LAST-MODIFIED:20240118T203929Z
UID:30000-1734354000-1734357600@www.trinitybemidji.org
SUMMARY:Altar Circle
DESCRIPTION:
URL:https://www.trinitybemidji.org/event/altar-circle-27/
CATEGORIES:Meeting
END:VEVENT
BEGIN:VEVENT
DTSTART;TZID=America/Chicago:20241217T093000
DTEND;TZID=America/Chicago:20241217T223000
DTSTAMP:20260424T140533
CREATED:20240118T203328Z
LAST-MODIFIED:20240118T203328Z
UID:29879-1734427800-1734474600@www.trinitybemidji.org
SUMMARY:Eunice Circle
DESCRIPTION:
URL:https://www.trinitybemidji.org/event/eunice-circle-30/
CATEGORIES:Meeting
END:VEVENT
BEGIN:VEVENT
DTSTART;TZID=America/Chicago:20241219T090000
DTEND;TZID=America/Chicago:20241219T100000
DTSTAMP:20260424T140533
CREATED:20240118T203228Z
LAST-MODIFIED:20240118T203228Z
UID:29860-1734598800-1734602400@www.trinitybemidji.org
SUMMARY:Happy Quilters
DESCRIPTION:
URL:https://www.trinitybemidji.org/event/happy-quilters-37/
CATEGORIES:Meeting
END:VEVENT
END:VCALENDAR