BEGIN:VCALENDAR
VERSION:2.0
PRODID:-//Trinity Lutheran Church - Bemidji - ECPv6.15.20//NONSGML v1.0//EN
CALSCALE:GREGORIAN
METHOD:PUBLISH
X-WR-CALNAME:Trinity Lutheran Church - Bemidji
X-ORIGINAL-URL:https://www.trinitybemidji.org
X-WR-CALDESC:Events for Trinity Lutheran Church - Bemidji
REFRESH-INTERVAL;VALUE=DURATION:PT1H
X-Robots-Tag:noindex
X-PUBLISHED-TTL:PT1H
BEGIN:VTIMEZONE
TZID:America/Chicago
BEGIN:DAYLIGHT
TZOFFSETFROM:-0600
TZOFFSETTO:-0500
TZNAME:CDT
DTSTART:20240310T080000
END:DAYLIGHT
BEGIN:STANDARD
TZOFFSETFROM:-0500
TZOFFSETTO:-0600
TZNAME:CST
DTSTART:20241103T070000
END:STANDARD
BEGIN:DAYLIGHT
TZOFFSETFROM:-0600
TZOFFSETTO:-0500
TZNAME:CDT
DTSTART:20250309T080000
END:DAYLIGHT
BEGIN:STANDARD
TZOFFSETFROM:-0500
TZOFFSETTO:-0600
TZNAME:CST
DTSTART:20251102T070000
END:STANDARD
BEGIN:DAYLIGHT
TZOFFSETFROM:-0600
TZOFFSETTO:-0500
TZNAME:CDT
DTSTART:20260308T080000
END:DAYLIGHT
BEGIN:STANDARD
TZOFFSETFROM:-0500
TZOFFSETTO:-0600
TZNAME:CST
DTSTART:20261101T070000
END:STANDARD
END:VTIMEZONE
BEGIN:VEVENT
DTSTART;TZID=America/Chicago:20250202T090000
DTEND;TZID=America/Chicago:20250202T100000
DTSTAMP:20260424T105514
CREATED:20250106T190153Z
LAST-MODIFIED:20250106T190153Z
UID:30386-1738486800-1738490400@www.trinitybemidji.org
SUMMARY:Divine Worship
DESCRIPTION:
URL:https://www.trinitybemidji.org/event/divine-worship-167/
CATEGORIES:Meeting
END:VEVENT
BEGIN:VEVENT
DTSTART;TZID=America/Chicago:20250202T103000
DTEND;TZID=America/Chicago:20250202T113000
DTSTAMP:20260424T105514
CREATED:20250106T192811Z
LAST-MODIFIED:20250106T192811Z
UID:30438-1738492200-1738495800@www.trinitybemidji.org
SUMMARY:Bible Study
DESCRIPTION:
URL:https://www.trinitybemidji.org/event/bible-study-168/
CATEGORIES:Meeting
END:VEVENT
BEGIN:VEVENT
DTSTART;TZID=America/Chicago:20250202T103000
DTEND;TZID=America/Chicago:20250202T113000
DTSTAMP:20260424T105514
CREATED:20250106T201408Z
LAST-MODIFIED:20250106T201408Z
UID:30543-1738492200-1738495800@www.trinitybemidji.org
SUMMARY:Sunday School
DESCRIPTION:
URL:https://www.trinitybemidji.org/event/sunday-school-112/
CATEGORIES:Meeting
END:VEVENT
BEGIN:VEVENT
DTSTART;TZID=America/Chicago:20250203T173000
DTEND;TZID=America/Chicago:20250203T183000
DTSTAMP:20260424T105514
CREATED:20250106T203811Z
LAST-MODIFIED:20250106T203811Z
UID:30578-1738603800-1738607400@www.trinitybemidji.org
SUMMARY:Men of Trinity
DESCRIPTION:
URL:https://www.trinitybemidji.org/event/men-of-trinity-19/
CATEGORIES:Meeting
END:VEVENT
BEGIN:VEVENT
DTSTART;TZID=America/Chicago:20250206T133000
DTEND;TZID=America/Chicago:20250206T150000
DTSTAMP:20260424T105514
CREATED:20250106T203842Z
LAST-MODIFIED:20250106T203842Z
UID:30590-1738848600-1738854000@www.trinitybemidji.org
SUMMARY:Ladies Guild
DESCRIPTION:
URL:https://www.trinitybemidji.org/event/ladies-guild-2/
CATEGORIES:Meeting
END:VEVENT
BEGIN:VEVENT
DTSTART;TZID=America/Chicago:20250206T173000
DTEND;TZID=America/Chicago:20250206T190000
DTSTAMP:20260424T105514
CREATED:20250106T203912Z
LAST-MODIFIED:20250106T203912Z
UID:30599-1738863000-1738868400@www.trinitybemidji.org
SUMMARY:Board of Elders
DESCRIPTION:
URL:https://www.trinitybemidji.org/event/board-of-elders-43/
CATEGORIES:Meeting
END:VEVENT
BEGIN:VEVENT
DTSTART;TZID=America/Chicago:20250209T090000
DTEND;TZID=America/Chicago:20250209T100000
DTSTAMP:20260424T105514
CREATED:20250106T190155Z
LAST-MODIFIED:20250106T190155Z
UID:30387-1739091600-1739095200@www.trinitybemidji.org
SUMMARY:Divine Worship
DESCRIPTION:
URL:https://www.trinitybemidji.org/event/divine-worship-168/
CATEGORIES:Meeting
END:VEVENT
BEGIN:VEVENT
DTSTART;TZID=America/Chicago:20250209T103000
DTEND;TZID=America/Chicago:20250209T113000
DTSTAMP:20260424T105514
CREATED:20250106T192811Z
LAST-MODIFIED:20250106T192811Z
UID:30439-1739097000-1739100600@www.trinitybemidji.org
SUMMARY:Bible Study
DESCRIPTION:
URL:https://www.trinitybemidji.org/event/bible-study-169/
CATEGORIES:Meeting
END:VEVENT
BEGIN:VEVENT
DTSTART;TZID=America/Chicago:20250209T103000
DTEND;TZID=America/Chicago:20250209T113000
DTSTAMP:20260424T105514
CREATED:20250106T201409Z
LAST-MODIFIED:20250106T201409Z
UID:30544-1739097000-1739100600@www.trinitybemidji.org
SUMMARY:Sunday School
DESCRIPTION:
URL:https://www.trinitybemidji.org/event/sunday-school-113/
CATEGORIES:Meeting
END:VEVENT
BEGIN:VEVENT
DTSTART;TZID=America/Chicago:20250210T183000
DTEND;TZID=America/Chicago:20250210T193000
DTSTAMP:20260424T105514
CREATED:20250106T194221Z
LAST-MODIFIED:20250106T194221Z
UID:30487-1739212200-1739215800@www.trinitybemidji.org
SUMMARY:Active Christian Fellowship
DESCRIPTION:
URL:https://www.trinitybemidji.org/event/active-christian-fellowship-42/
CATEGORIES:Meeting
END:VEVENT
BEGIN:VEVENT
DTSTART;TZID=America/Chicago:20250213T133000
DTEND;TZID=America/Chicago:20250213T143000
DTSTAMP:20260424T105514
CREATED:20250106T200951Z
LAST-MODIFIED:20250106T200951Z
UID:30531-1739453400-1739457000@www.trinitybemidji.org
SUMMARY:Hannah Circle
DESCRIPTION:
URL:https://www.trinitybemidji.org/event/hannah-circle-19/
CATEGORIES:Meeting
END:VEVENT
BEGIN:VEVENT
DTSTART;TZID=America/Chicago:20250216T090000
DTEND;TZID=America/Chicago:20250216T100000
DTSTAMP:20260424T105514
CREATED:20250106T190156Z
LAST-MODIFIED:20250106T190156Z
UID:30388-1739696400-1739700000@www.trinitybemidji.org
SUMMARY:Divine Worship
DESCRIPTION:
URL:https://www.trinitybemidji.org/event/divine-worship-169/
CATEGORIES:Meeting
END:VEVENT
BEGIN:VEVENT
DTSTART;TZID=America/Chicago:20250216T103000
DTEND;TZID=America/Chicago:20250216T113000
DTSTAMP:20260424T105514
CREATED:20250106T192812Z
LAST-MODIFIED:20250106T192812Z
UID:30440-1739701800-1739705400@www.trinitybemidji.org
SUMMARY:Bible Study
DESCRIPTION:
URL:https://www.trinitybemidji.org/event/bible-study-170/
CATEGORIES:Meeting
END:VEVENT
BEGIN:VEVENT
DTSTART;TZID=America/Chicago:20250216T103000
DTEND;TZID=America/Chicago:20250216T113000
DTSTAMP:20260424T105514
CREATED:20250106T201409Z
LAST-MODIFIED:20250106T201409Z
UID:30545-1739701800-1739705400@www.trinitybemidji.org
SUMMARY:Sunday School
DESCRIPTION:
URL:https://www.trinitybemidji.org/event/sunday-school-114/
CATEGORIES:Meeting
END:VEVENT
BEGIN:VEVENT
DTSTART;TZID=America/Chicago:20250218T093000
DTEND;TZID=America/Chicago:20250218T223000
DTSTAMP:20260424T105514
CREATED:20250106T200934Z
LAST-MODIFIED:20250106T200934Z
UID:30522-1739871000-1739917800@www.trinitybemidji.org
SUMMARY:Eunice Circle
DESCRIPTION:
URL:https://www.trinitybemidji.org/event/eunice-circle-32/
CATEGORIES:Meeting
END:VEVENT
BEGIN:VEVENT
DTSTART;TZID=America/Chicago:20250220T090000
DTEND;TZID=America/Chicago:20250220T100000
DTSTAMP:20260424T105514
CREATED:20250106T194625Z
LAST-MODIFIED:20250106T194625Z
UID:30500-1740042000-1740045600@www.trinitybemidji.org
SUMMARY:Happy Quilters
DESCRIPTION:
URL:https://www.trinitybemidji.org/event/happy-quilters-41/
CATEGORIES:Meeting
END:VEVENT
BEGIN:VEVENT
DTSTART;TZID=America/Chicago:20250220T180000
DTEND;TZID=America/Chicago:20250220T190000
DTSTAMP:20260424T105514
CREATED:20250106T203943Z
LAST-MODIFIED:20250106T203943Z
UID:30610-1740074400-1740078000@www.trinitybemidji.org
SUMMARY:Church Boards
DESCRIPTION:
URL:https://www.trinitybemidji.org/event/church-boards-36/
CATEGORIES:Meeting
END:VEVENT
BEGIN:VEVENT
DTSTART;TZID=America/Chicago:20250220T190000
DTEND;TZID=America/Chicago:20250220T200000
DTSTAMP:20260424T105514
CREATED:20250106T204024Z
LAST-MODIFIED:20250106T204024Z
UID:30620-1740078000-1740081600@www.trinitybemidji.org
SUMMARY:Church Council
DESCRIPTION:
URL:https://www.trinitybemidji.org/event/church-council-34/
CATEGORIES:Meeting
END:VEVENT
BEGIN:VEVENT
DTSTART;TZID=America/Chicago:20250223T090000
DTEND;TZID=America/Chicago:20250223T100000
DTSTAMP:20260424T105514
CREATED:20250106T190156Z
LAST-MODIFIED:20250106T190156Z
UID:30389-1740301200-1740304800@www.trinitybemidji.org
SUMMARY:Divine Worship
DESCRIPTION:
URL:https://www.trinitybemidji.org/event/divine-worship-170/
CATEGORIES:Meeting
END:VEVENT
BEGIN:VEVENT
DTSTART;TZID=America/Chicago:20250223T103000
DTEND;TZID=America/Chicago:20250223T113000
DTSTAMP:20260424T105514
CREATED:20250106T192812Z
LAST-MODIFIED:20250106T192812Z
UID:30441-1740306600-1740310200@www.trinitybemidji.org
SUMMARY:Bible Study
DESCRIPTION:
URL:https://www.trinitybemidji.org/event/bible-study-171/
CATEGORIES:Meeting
END:VEVENT
BEGIN:VEVENT
DTSTART;TZID=America/Chicago:20250223T103000
DTEND;TZID=America/Chicago:20250223T113000
DTSTAMP:20260424T105514
CREATED:20250106T201409Z
LAST-MODIFIED:20250106T201409Z
UID:30546-1740306600-1740310200@www.trinitybemidji.org
SUMMARY:Sunday School
DESCRIPTION:
URL:https://www.trinitybemidji.org/event/sunday-school-115/
CATEGORIES:Meeting
END:VEVENT
BEGIN:VEVENT
DTSTART;TZID=America/Chicago:20250227T090000
DTEND;TZID=America/Chicago:20250227T100000
DTSTAMP:20260424T105514
CREATED:20250106T194625Z
LAST-MODIFIED:20250106T194625Z
UID:30501-1740646800-1740650400@www.trinitybemidji.org
SUMMARY:Happy Quilters
DESCRIPTION:
URL:https://www.trinitybemidji.org/event/happy-quilters-42/
CATEGORIES:Meeting
END:VEVENT
END:VCALENDAR