BEGIN:VCALENDAR
VERSION:2.0
PRODID:-//Trinity Lutheran Church - Bemidji - ECPv6.15.20//NONSGML v1.0//EN
CALSCALE:GREGORIAN
METHOD:PUBLISH
X-ORIGINAL-URL:https://www.trinitybemidji.org
X-WR-CALDESC:Events for Trinity Lutheran Church - Bemidji
REFRESH-INTERVAL;VALUE=DURATION:PT1H
X-Robots-Tag:noindex
X-PUBLISHED-TTL:PT1H
BEGIN:VTIMEZONE
TZID:America/Chicago
BEGIN:DAYLIGHT
TZOFFSETFROM:-0600
TZOFFSETTO:-0500
TZNAME:CDT
DTSTART:20240310T080000
END:DAYLIGHT
BEGIN:STANDARD
TZOFFSETFROM:-0500
TZOFFSETTO:-0600
TZNAME:CST
DTSTART:20241103T070000
END:STANDARD
BEGIN:DAYLIGHT
TZOFFSETFROM:-0600
TZOFFSETTO:-0500
TZNAME:CDT
DTSTART:20250309T080000
END:DAYLIGHT
BEGIN:STANDARD
TZOFFSETFROM:-0500
TZOFFSETTO:-0600
TZNAME:CST
DTSTART:20251102T070000
END:STANDARD
BEGIN:DAYLIGHT
TZOFFSETFROM:-0600
TZOFFSETTO:-0500
TZNAME:CDT
DTSTART:20260308T080000
END:DAYLIGHT
BEGIN:STANDARD
TZOFFSETFROM:-0500
TZOFFSETTO:-0600
TZNAME:CST
DTSTART:20261101T070000
END:STANDARD
END:VTIMEZONE
BEGIN:VEVENT
DTSTART;TZID=America/Chicago:20250403T133000
DTEND;TZID=America/Chicago:20250403T150000
DTSTAMP:20260424T072255
CREATED:20250106T203856Z
LAST-MODIFIED:20250106T203856Z
UID:30592-1743687000-1743692400@www.trinitybemidji.org
SUMMARY:Ladies Guild
DESCRIPTION:
URL:https://www.trinitybemidji.org/event/ladies-guild-4/
CATEGORIES:Meeting
END:VEVENT
BEGIN:VEVENT
DTSTART;TZID=America/Chicago:20250403T173000
DTEND;TZID=America/Chicago:20250403T190000
DTSTAMP:20260424T072255
CREATED:20250106T203913Z
LAST-MODIFIED:20250106T203913Z
UID:30601-1743701400-1743706800@www.trinitybemidji.org
SUMMARY:Board of Elders
DESCRIPTION:
URL:https://www.trinitybemidji.org/event/board-of-elders-45/
CATEGORIES:Meeting
END:VEVENT
BEGIN:VEVENT
DTSTART;TZID=America/Chicago:20250406T090000
DTEND;TZID=America/Chicago:20250406T100000
DTSTAMP:20260424T072255
CREATED:20250106T190218Z
LAST-MODIFIED:20250106T190218Z
UID:30395-1743930000-1743933600@www.trinitybemidji.org
SUMMARY:Divine Worship
DESCRIPTION:
URL:https://www.trinitybemidji.org/event/divine-worship-176/
CATEGORIES:Meeting
END:VEVENT
BEGIN:VEVENT
DTSTART;TZID=America/Chicago:20250406T103000
DTEND;TZID=America/Chicago:20250406T113000
DTSTAMP:20260424T072255
CREATED:20250106T192907Z
LAST-MODIFIED:20250106T192907Z
UID:30447-1743935400-1743939000@www.trinitybemidji.org
SUMMARY:Bible Study
DESCRIPTION:
URL:https://www.trinitybemidji.org/event/bible-study-177/
CATEGORIES:Meeting
END:VEVENT
BEGIN:VEVENT
DTSTART;TZID=America/Chicago:20250406T103000
DTEND;TZID=America/Chicago:20250406T113000
DTSTAMP:20260424T072255
CREATED:20250106T201810Z
LAST-MODIFIED:20250106T201810Z
UID:30552-1743935400-1743939000@www.trinitybemidji.org
SUMMARY:Sunday School
DESCRIPTION:
URL:https://www.trinitybemidji.org/event/sunday-school-121/
CATEGORIES:Meeting
END:VEVENT
BEGIN:VEVENT
DTSTART;TZID=America/Chicago:20250407T173000
DTEND;TZID=America/Chicago:20250407T183000
DTSTAMP:20260424T072255
CREATED:20250106T203812Z
LAST-MODIFIED:20250106T203812Z
UID:30580-1744047000-1744050600@www.trinitybemidji.org
SUMMARY:Men of Trinity
DESCRIPTION:
URL:https://www.trinitybemidji.org/event/men-of-trinity-21/
CATEGORIES:Meeting
END:VEVENT
BEGIN:VEVENT
DTSTART;TZID=America/Chicago:20250410T133000
DTEND;TZID=America/Chicago:20250410T143000
DTSTAMP:20260424T072255
CREATED:20250106T201006Z
LAST-MODIFIED:20250106T201006Z
UID:30533-1744291800-1744295400@www.trinitybemidji.org
SUMMARY:Hannah Circle
DESCRIPTION:
URL:https://www.trinitybemidji.org/event/hannah-circle-21/
CATEGORIES:Meeting
END:VEVENT
BEGIN:VEVENT
DTSTART;TZID=America/Chicago:20250413T090000
DTEND;TZID=America/Chicago:20250413T100000
DTSTAMP:20260424T072255
CREATED:20250106T190218Z
LAST-MODIFIED:20250403T164006Z
UID:30396-1744534800-1744538400@www.trinitybemidji.org
SUMMARY:Palm Sunday Worship
DESCRIPTION:
URL:https://www.trinitybemidji.org/event/divine-worship-177/
CATEGORIES:Meeting
END:VEVENT
BEGIN:VEVENT
DTSTART;TZID=America/Chicago:20250413T103000
DTEND;TZID=America/Chicago:20250413T113000
DTSTAMP:20260424T072255
CREATED:20250106T192908Z
LAST-MODIFIED:20250106T192908Z
UID:30448-1744540200-1744543800@www.trinitybemidji.org
SUMMARY:Bible Study
DESCRIPTION:
URL:https://www.trinitybemidji.org/event/bible-study-178/
CATEGORIES:Meeting
END:VEVENT
BEGIN:VEVENT
DTSTART;TZID=America/Chicago:20250413T103000
DTEND;TZID=America/Chicago:20250413T113000
DTSTAMP:20260424T072255
CREATED:20250106T201811Z
LAST-MODIFIED:20250106T201811Z
UID:30553-1744540200-1744543800@www.trinitybemidji.org
SUMMARY:Sunday School
DESCRIPTION:
URL:https://www.trinitybemidji.org/event/sunday-school-122/
CATEGORIES:Meeting
END:VEVENT
BEGIN:VEVENT
DTSTART;TZID=America/Chicago:20250415T093000
DTEND;TZID=America/Chicago:20250415T223000
DTSTAMP:20260424T072255
CREATED:20250106T200935Z
LAST-MODIFIED:20250106T200935Z
UID:30524-1744709400-1744756200@www.trinitybemidji.org
SUMMARY:Eunice Circle
DESCRIPTION:
URL:https://www.trinitybemidji.org/event/eunice-circle-34/
CATEGORIES:Meeting
END:VEVENT
BEGIN:VEVENT
DTSTART;TZID=America/Chicago:20250417T090000
DTEND;TZID=America/Chicago:20250417T100000
DTSTAMP:20260424T072255
CREATED:20250106T194826Z
LAST-MODIFIED:20250106T194826Z
UID:30504-1744880400-1744884000@www.trinitybemidji.org
SUMMARY:Happy Quilters
DESCRIPTION:
URL:https://www.trinitybemidji.org/event/happy-quilters-45/
CATEGORIES:Meeting
END:VEVENT
BEGIN:VEVENT
DTSTART;TZID=America/Chicago:20250420T090000
DTEND;TZID=America/Chicago:20250420T100000
DTSTAMP:20260424T072255
CREATED:20250106T190233Z
LAST-MODIFIED:20250403T164115Z
UID:30397-1745139600-1745143200@www.trinitybemidji.org
SUMMARY:Easter Morning Worship
DESCRIPTION:
URL:https://www.trinitybemidji.org/event/divine-worship-178/
CATEGORIES:Meeting
END:VEVENT
BEGIN:VEVENT
DTSTART;TZID=America/Chicago:20250421T130000
DTEND;TZID=America/Chicago:20250421T140000
DTSTAMP:20260424T072255
CREATED:20250106T204053Z
LAST-MODIFIED:20250106T204053Z
UID:30630-1745240400-1745244000@www.trinitybemidji.org
SUMMARY:Altar Circle
DESCRIPTION:
URL:https://www.trinitybemidji.org/event/altar-circle-28/
CATEGORIES:Meeting
END:VEVENT
BEGIN:VEVENT
DTSTART;TZID=America/Chicago:20250424T090000
DTEND;TZID=America/Chicago:20250424T100000
DTSTAMP:20260424T072255
CREATED:20250106T194826Z
LAST-MODIFIED:20250106T194826Z
UID:30505-1745485200-1745488800@www.trinitybemidji.org
SUMMARY:Happy Quilters
DESCRIPTION:
URL:https://www.trinitybemidji.org/event/happy-quilters-46/
CATEGORIES:Meeting
END:VEVENT
BEGIN:VEVENT
DTSTART;TZID=America/Chicago:20250424T180000
DTEND;TZID=America/Chicago:20250424T190000
DTSTAMP:20260424T072255
CREATED:20250106T204005Z
LAST-MODIFIED:20250414T143946Z
UID:30612-1745517600-1745521200@www.trinitybemidji.org
SUMMARY:Church Boards
DESCRIPTION:
URL:https://www.trinitybemidji.org/event/church-boards-38/
CATEGORIES:Meeting
END:VEVENT
BEGIN:VEVENT
DTSTART;TZID=America/Chicago:20250424T190000
DTEND;TZID=America/Chicago:20250424T200000
DTSTAMP:20260424T072255
CREATED:20250106T204037Z
LAST-MODIFIED:20250414T143835Z
UID:30622-1745521200-1745524800@www.trinitybemidji.org
SUMMARY:Church Council
DESCRIPTION:
URL:https://www.trinitybemidji.org/event/church-council-36/
CATEGORIES:Meeting
END:VEVENT
BEGIN:VEVENT
DTSTART;TZID=America/Chicago:20250427T090000
DTEND;TZID=America/Chicago:20250427T100000
DTSTAMP:20260424T072255
CREATED:20250106T190233Z
LAST-MODIFIED:20250106T190233Z
UID:30398-1745744400-1745748000@www.trinitybemidji.org
SUMMARY:Divine Worship
DESCRIPTION:
URL:https://www.trinitybemidji.org/event/divine-worship-179/
CATEGORIES:Meeting
END:VEVENT
BEGIN:VEVENT
DTSTART;TZID=America/Chicago:20250427T103000
DTEND;TZID=America/Chicago:20250427T113000
DTSTAMP:20260424T072255
CREATED:20250106T192908Z
LAST-MODIFIED:20250106T192908Z
UID:30450-1745749800-1745753400@www.trinitybemidji.org
SUMMARY:Bible Study
DESCRIPTION:
URL:https://www.trinitybemidji.org/event/bible-study-180/
CATEGORIES:Meeting
END:VEVENT
BEGIN:VEVENT
DTSTART;TZID=America/Chicago:20250427T103000
DTEND;TZID=America/Chicago:20250427T113000
DTSTAMP:20260424T072255
CREATED:20250106T201811Z
LAST-MODIFIED:20250106T201811Z
UID:30555-1745749800-1745753400@www.trinitybemidji.org
SUMMARY:Sunday School
DESCRIPTION:
URL:https://www.trinitybemidji.org/event/sunday-school-124/
CATEGORIES:Meeting
END:VEVENT
END:VCALENDAR