BEGIN:VCALENDAR
VERSION:2.0
PRODID:-//Trinity Lutheran Church - Bemidji - ECPv6.15.20//NONSGML v1.0//EN
CALSCALE:GREGORIAN
METHOD:PUBLISH
X-WR-CALNAME:Trinity Lutheran Church - Bemidji
X-ORIGINAL-URL:https://www.trinitybemidji.org
X-WR-CALDESC:Events for Trinity Lutheran Church - Bemidji
REFRESH-INTERVAL;VALUE=DURATION:PT1H
X-Robots-Tag:noindex
X-PUBLISHED-TTL:PT1H
BEGIN:VTIMEZONE
TZID:America/Chicago
BEGIN:DAYLIGHT
TZOFFSETFROM:-0600
TZOFFSETTO:-0500
TZNAME:CDT
DTSTART:20240310T080000
END:DAYLIGHT
BEGIN:STANDARD
TZOFFSETFROM:-0500
TZOFFSETTO:-0600
TZNAME:CST
DTSTART:20241103T070000
END:STANDARD
BEGIN:DAYLIGHT
TZOFFSETFROM:-0600
TZOFFSETTO:-0500
TZNAME:CDT
DTSTART:20250309T080000
END:DAYLIGHT
BEGIN:STANDARD
TZOFFSETFROM:-0500
TZOFFSETTO:-0600
TZNAME:CST
DTSTART:20251102T070000
END:STANDARD
BEGIN:DAYLIGHT
TZOFFSETFROM:-0600
TZOFFSETTO:-0500
TZNAME:CDT
DTSTART:20260308T080000
END:DAYLIGHT
BEGIN:STANDARD
TZOFFSETFROM:-0500
TZOFFSETTO:-0600
TZNAME:CST
DTSTART:20261101T070000
END:STANDARD
END:VTIMEZONE
BEGIN:VEVENT
DTSTART;TZID=America/Chicago:20251102T090000
DTEND;TZID=America/Chicago:20251102T100000
DTSTAMP:20260423T185349
CREATED:20250106T191225Z
LAST-MODIFIED:20250106T191225Z
UID:30425-1762074000-1762077600@www.trinitybemidji.org
SUMMARY:Divine Worship
DESCRIPTION:
URL:https://www.trinitybemidji.org/event/divine-worship-206/
CATEGORIES:Meeting
END:VEVENT
BEGIN:VEVENT
DTSTART;TZID=America/Chicago:20251102T103000
DTEND;TZID=America/Chicago:20251102T113000
DTSTAMP:20260423T185349
CREATED:20250106T194005Z
LAST-MODIFIED:20250106T194005Z
UID:30477-1762079400-1762083000@www.trinitybemidji.org
SUMMARY:Bible Study
DESCRIPTION:
URL:https://www.trinitybemidji.org/event/bible-study-207/
CATEGORIES:Meeting
END:VEVENT
BEGIN:VEVENT
DTSTART;TZID=America/Chicago:20251102T103000
DTEND;TZID=America/Chicago:20251102T113000
DTSTAMP:20260423T185349
CREATED:20250106T203741Z
LAST-MODIFIED:20250106T203741Z
UID:30568-1762079400-1762083000@www.trinitybemidji.org
SUMMARY:Sunday School
DESCRIPTION:
URL:https://www.trinitybemidji.org/event/sunday-school-137/
CATEGORIES:Meeting
END:VEVENT
BEGIN:VEVENT
DTSTART;TZID=America/Chicago:20251103T173000
DTEND;TZID=America/Chicago:20251103T183000
DTSTAMP:20260423T185349
CREATED:20250106T203841Z
LAST-MODIFIED:20250106T203841Z
UID:30587-1762191000-1762194600@www.trinitybemidji.org
SUMMARY:Men of Trinity
DESCRIPTION:
URL:https://www.trinitybemidji.org/event/men-of-trinity-28/
CATEGORIES:Meeting
END:VEVENT
BEGIN:VEVENT
DTSTART;TZID=America/Chicago:20251104T180000
DTEND;TZID=America/Chicago:20251104T190000
DTSTAMP:20260423T185349
CREATED:20250911T145123Z
LAST-MODIFIED:20250911T145123Z
UID:30961-1762279200-1762282800@www.trinitybemidji.org
SUMMARY:Bells
DESCRIPTION:
URL:https://www.trinitybemidji.org/event/bells-38/
CATEGORIES:Meeting
END:VEVENT
BEGIN:VEVENT
DTSTART;TZID=America/Chicago:20251105T130000
DTEND;TZID=America/Chicago:20251105T160000
DTSTAMP:20260423T185349
CREATED:20250925T175948Z
LAST-MODIFIED:20250925T175948Z
UID:30991-1762347600-1762358400@www.trinitybemidji.org
SUMMARY:Bible Study
DESCRIPTION:
URL:https://www.trinitybemidji.org/event/bible-study-221/
CATEGORIES:Meeting
END:VEVENT
BEGIN:VEVENT
DTSTART;TZID=America/Chicago:20251105T161500
DTEND;TZID=America/Chicago:20251105T173000
DTSTAMP:20260423T185349
CREATED:20250925T180050Z
LAST-MODIFIED:20250925T180050Z
UID:31012-1762359300-1762363800@www.trinitybemidji.org
SUMMARY:Confirmation
DESCRIPTION:
URL:https://www.trinitybemidji.org/event/confirmation-44/
CATEGORIES:Meeting
END:VEVENT
BEGIN:VEVENT
DTSTART;TZID=America/Chicago:20251105T180000
DTEND;TZID=America/Chicago:20251105T190000
DTSTAMP:20260423T185349
CREATED:20250925T180020Z
LAST-MODIFIED:20250925T180020Z
UID:31001-1762365600-1762369200@www.trinitybemidji.org
SUMMARY:Choir
DESCRIPTION:
URL:https://www.trinitybemidji.org/event/choir-4/
CATEGORIES:Meeting
END:VEVENT
BEGIN:VEVENT
DTSTART;TZID=America/Chicago:20251106T133000
DTEND;TZID=America/Chicago:20251106T150000
DTSTAMP:20260423T185349
CREATED:20250106T203911Z
LAST-MODIFIED:20250106T203911Z
UID:30597-1762435800-1762441200@www.trinitybemidji.org
SUMMARY:Ladies Guild
DESCRIPTION:
URL:https://www.trinitybemidji.org/event/ladies-guild-9/
CATEGORIES:Meeting
END:VEVENT
BEGIN:VEVENT
DTSTART;TZID=America/Chicago:20251106T173000
DTEND;TZID=America/Chicago:20251106T190000
DTSTAMP:20260423T185349
CREATED:20250106T203942Z
LAST-MODIFIED:20250106T203942Z
UID:30608-1762450200-1762455600@www.trinitybemidji.org
SUMMARY:Board of Elders
DESCRIPTION:
URL:https://www.trinitybemidji.org/event/board-of-elders-52/
CATEGORIES:Meeting
END:VEVENT
BEGIN:VEVENT
DTSTART;TZID=America/Chicago:20251109T090000
DTEND;TZID=America/Chicago:20251109T100000
DTSTAMP:20260423T185349
CREATED:20250106T191225Z
LAST-MODIFIED:20250106T191225Z
UID:30426-1762678800-1762682400@www.trinitybemidji.org
SUMMARY:Divine Worship
DESCRIPTION:
URL:https://www.trinitybemidji.org/event/divine-worship-207/
CATEGORIES:Meeting
END:VEVENT
BEGIN:VEVENT
DTSTART;TZID=America/Chicago:20251109T103000
DTEND;TZID=America/Chicago:20251109T113000
DTSTAMP:20260423T185349
CREATED:20250106T194006Z
LAST-MODIFIED:20250106T194006Z
UID:30478-1762684200-1762687800@www.trinitybemidji.org
SUMMARY:Bible Study
DESCRIPTION:
URL:https://www.trinitybemidji.org/event/bible-study-208/
CATEGORIES:Meeting
END:VEVENT
BEGIN:VEVENT
DTSTART;TZID=America/Chicago:20251109T103000
DTEND;TZID=America/Chicago:20251109T113000
DTSTAMP:20260423T185349
CREATED:20250106T203742Z
LAST-MODIFIED:20250106T203742Z
UID:30569-1762684200-1762687800@www.trinitybemidji.org
SUMMARY:Sunday School
DESCRIPTION:
URL:https://www.trinitybemidji.org/event/sunday-school-138/
CATEGORIES:Meeting
END:VEVENT
BEGIN:VEVENT
DTSTART;TZID=America/Chicago:20251111T180000
DTEND;TZID=America/Chicago:20251111T190000
DTSTAMP:20260423T185349
CREATED:20250911T145124Z
LAST-MODIFIED:20250911T145124Z
UID:30962-1762884000-1762887600@www.trinitybemidji.org
SUMMARY:Bells
DESCRIPTION:
URL:https://www.trinitybemidji.org/event/bells-39/
CATEGORIES:Meeting
END:VEVENT
BEGIN:VEVENT
DTSTART;TZID=America/Chicago:20251112T130000
DTEND;TZID=America/Chicago:20251112T160000
DTSTAMP:20260423T185349
CREATED:20250925T175949Z
LAST-MODIFIED:20250925T175949Z
UID:30992-1762952400-1762963200@www.trinitybemidji.org
SUMMARY:Bible Study
DESCRIPTION:
URL:https://www.trinitybemidji.org/event/bible-study-222/
CATEGORIES:Meeting
END:VEVENT
BEGIN:VEVENT
DTSTART;TZID=America/Chicago:20251112T161500
DTEND;TZID=America/Chicago:20251112T173000
DTSTAMP:20260423T185349
CREATED:20250925T180051Z
LAST-MODIFIED:20250925T180051Z
UID:31013-1762964100-1762968600@www.trinitybemidji.org
SUMMARY:Confirmation
DESCRIPTION:
URL:https://www.trinitybemidji.org/event/confirmation-45/
CATEGORIES:Meeting
END:VEVENT
BEGIN:VEVENT
DTSTART;TZID=America/Chicago:20251112T180000
DTEND;TZID=America/Chicago:20251112T190000
DTSTAMP:20260423T185349
CREATED:20250925T180021Z
LAST-MODIFIED:20250925T180021Z
UID:31002-1762970400-1762974000@www.trinitybemidji.org
SUMMARY:Choir
DESCRIPTION:
URL:https://www.trinitybemidji.org/event/choir-5/
CATEGORIES:Meeting
END:VEVENT
BEGIN:VEVENT
DTSTART;TZID=America/Chicago:20251113T133000
DTEND;TZID=America/Chicago:20251113T143000
DTSTAMP:20260423T185349
CREATED:20250106T201206Z
LAST-MODIFIED:20250106T201206Z
UID:30537-1763040600-1763044200@www.trinitybemidji.org
SUMMARY:Hannah Circle
DESCRIPTION:
URL:https://www.trinitybemidji.org/event/hannah-circle-25/
CATEGORIES:Meeting
END:VEVENT
BEGIN:VEVENT
DTSTART;TZID=America/Chicago:20251116T090000
DTEND;TZID=America/Chicago:20251116T100000
DTSTAMP:20260423T185349
CREATED:20250106T191424Z
LAST-MODIFIED:20250106T191424Z
UID:30427-1763283600-1763287200@www.trinitybemidji.org
SUMMARY:Divine Worship
DESCRIPTION:
URL:https://www.trinitybemidji.org/event/divine-worship-208/
CATEGORIES:Meeting
END:VEVENT
BEGIN:VEVENT
DTSTART;TZID=America/Chicago:20251116T103000
DTEND;TZID=America/Chicago:20251116T113000
DTSTAMP:20260423T185349
CREATED:20250106T194006Z
LAST-MODIFIED:20250106T194006Z
UID:30479-1763289000-1763292600@www.trinitybemidji.org
SUMMARY:Bible Study
DESCRIPTION:
URL:https://www.trinitybemidji.org/event/bible-study-209/
CATEGORIES:Meeting
END:VEVENT
BEGIN:VEVENT
DTSTART;TZID=America/Chicago:20251116T103000
DTEND;TZID=America/Chicago:20251116T113000
DTSTAMP:20260423T185349
CREATED:20250106T203742Z
LAST-MODIFIED:20250106T203742Z
UID:30570-1763289000-1763292600@www.trinitybemidji.org
SUMMARY:Sunday School
DESCRIPTION:
URL:https://www.trinitybemidji.org/event/sunday-school-139/
CATEGORIES:Meeting
END:VEVENT
BEGIN:VEVENT
DTSTART;TZID=America/Chicago:20251117T130000
DTEND;TZID=America/Chicago:20251117T140000
DTSTAMP:20260423T185349
CREATED:20250106T204122Z
LAST-MODIFIED:20250106T204122Z
UID:30637-1763384400-1763388000@www.trinitybemidji.org
SUMMARY:Altar Circle
DESCRIPTION:
URL:https://www.trinitybemidji.org/event/altar-circle-35/
CATEGORIES:Meeting
END:VEVENT
BEGIN:VEVENT
DTSTART;TZID=America/Chicago:20251118T093000
DTEND;TZID=America/Chicago:20251118T223000
DTSTAMP:20260423T185349
CREATED:20250106T200950Z
LAST-MODIFIED:20250106T200950Z
UID:30528-1763458200-1763505000@www.trinitybemidji.org
SUMMARY:Eunice Circle
DESCRIPTION:
URL:https://www.trinitybemidji.org/event/eunice-circle-38/
CATEGORIES:Meeting
END:VEVENT
BEGIN:VEVENT
DTSTART;TZID=America/Chicago:20251118T180000
DTEND;TZID=America/Chicago:20251118T190000
DTSTAMP:20260423T185349
CREATED:20250911T145124Z
LAST-MODIFIED:20250911T145124Z
UID:30963-1763488800-1763492400@www.trinitybemidji.org
SUMMARY:Bells
DESCRIPTION:
URL:https://www.trinitybemidji.org/event/bells-40/
CATEGORIES:Meeting
END:VEVENT
BEGIN:VEVENT
DTSTART;TZID=America/Chicago:20251119T130000
DTEND;TZID=America/Chicago:20251119T160000
DTSTAMP:20260423T185349
CREATED:20250925T175950Z
LAST-MODIFIED:20250925T175950Z
UID:30993-1763557200-1763568000@www.trinitybemidji.org
SUMMARY:Bible Study
DESCRIPTION:
URL:https://www.trinitybemidji.org/event/bible-study-223/
CATEGORIES:Meeting
END:VEVENT
BEGIN:VEVENT
DTSTART;TZID=America/Chicago:20251119T161500
DTEND;TZID=America/Chicago:20251119T173000
DTSTAMP:20260423T185349
CREATED:20250925T180051Z
LAST-MODIFIED:20250925T180051Z
UID:31014-1763568900-1763573400@www.trinitybemidji.org
SUMMARY:Confirmation
DESCRIPTION:
URL:https://www.trinitybemidji.org/event/confirmation-46/
CATEGORIES:Meeting
END:VEVENT
BEGIN:VEVENT
DTSTART;TZID=America/Chicago:20251119T180000
DTEND;TZID=America/Chicago:20251119T190000
DTSTAMP:20260423T185349
CREATED:20250925T180021Z
LAST-MODIFIED:20250925T180021Z
UID:31003-1763575200-1763578800@www.trinitybemidji.org
SUMMARY:Choir
DESCRIPTION:
URL:https://www.trinitybemidji.org/event/choir-6/
CATEGORIES:Meeting
END:VEVENT
BEGIN:VEVENT
DTSTART;TZID=America/Chicago:20251120T090000
DTEND;TZID=America/Chicago:20251120T100000
DTSTAMP:20260423T185349
CREATED:20250106T200920Z
LAST-MODIFIED:20250106T200920Z
UID:30518-1763629200-1763632800@www.trinitybemidji.org
SUMMARY:Happy Quilters
DESCRIPTION:
URL:https://www.trinitybemidji.org/event/happy-quilters-59/
CATEGORIES:Meeting
END:VEVENT
BEGIN:VEVENT
DTSTART;TZID=America/Chicago:20251120T180000
DTEND;TZID=America/Chicago:20251120T190000
DTSTAMP:20260423T185349
CREATED:20250106T204023Z
LAST-MODIFIED:20250106T204023Z
UID:30618-1763661600-1763665200@www.trinitybemidji.org
SUMMARY:Church Boards
DESCRIPTION:
URL:https://www.trinitybemidji.org/event/church-boards-44/
CATEGORIES:Meeting
END:VEVENT
BEGIN:VEVENT
DTSTART;TZID=America/Chicago:20251120T190000
DTEND;TZID=America/Chicago:20251120T200000
DTSTAMP:20260423T185349
CREATED:20250106T204053Z
LAST-MODIFIED:20250106T204053Z
UID:30628-1763665200-1763668800@www.trinitybemidji.org
SUMMARY:Church Council
DESCRIPTION:
URL:https://www.trinitybemidji.org/event/church-council-42/
CATEGORIES:Meeting
END:VEVENT
END:VCALENDAR