BEGIN:VCALENDAR
VERSION:2.0
PRODID:-//Trinity Lutheran Church - Bemidji - ECPv6.15.20//NONSGML v1.0//EN
CALSCALE:GREGORIAN
METHOD:PUBLISH
X-WR-CALNAME:Trinity Lutheran Church - Bemidji
X-ORIGINAL-URL:https://www.trinitybemidji.org
X-WR-CALDESC:Events for Trinity Lutheran Church - Bemidji
REFRESH-INTERVAL;VALUE=DURATION:PT1H
X-Robots-Tag:noindex
X-PUBLISHED-TTL:PT1H
BEGIN:VTIMEZONE
TZID:America/Chicago
BEGIN:DAYLIGHT
TZOFFSETFROM:-0600
TZOFFSETTO:-0500
TZNAME:CDT
DTSTART:20250309T080000
END:DAYLIGHT
BEGIN:STANDARD
TZOFFSETFROM:-0500
TZOFFSETTO:-0600
TZNAME:CST
DTSTART:20251102T070000
END:STANDARD
BEGIN:DAYLIGHT
TZOFFSETFROM:-0600
TZOFFSETTO:-0500
TZNAME:CDT
DTSTART:20260308T080000
END:DAYLIGHT
BEGIN:STANDARD
TZOFFSETFROM:-0500
TZOFFSETTO:-0600
TZNAME:CST
DTSTART:20261101T070000
END:STANDARD
BEGIN:DAYLIGHT
TZOFFSETFROM:-0600
TZOFFSETTO:-0500
TZNAME:CDT
DTSTART:20270314T080000
END:DAYLIGHT
BEGIN:STANDARD
TZOFFSETFROM:-0500
TZOFFSETTO:-0600
TZNAME:CST
DTSTART:20271107T070000
END:STANDARD
END:VTIMEZONE
BEGIN:VEVENT
DTSTART;TZID=America/Chicago:20260802T090000
DTEND;TZID=America/Chicago:20260802T100000
DTSTAMP:20260423T171239
CREATED:20260105T173115Z
LAST-MODIFIED:20260105T173115Z
UID:31165-1785661200-1785664800@www.trinitybemidji.org
SUMMARY:Divine Worship
DESCRIPTION:
URL:https://www.trinitybemidji.org/event/divine-worship-244/
CATEGORIES:Meeting
END:VEVENT
BEGIN:VEVENT
DTSTART;TZID=America/Chicago:20260802T103000
DTEND;TZID=America/Chicago:20260802T113000
DTSTAMP:20260423T171239
CREATED:20260105T173739Z
LAST-MODIFIED:20260105T173739Z
UID:31216-1785666600-1785670200@www.trinitybemidji.org
SUMMARY:Bible Study
DESCRIPTION:
URL:https://www.trinitybemidji.org/event/bible-study-257/
CATEGORIES:Meeting
END:VEVENT
BEGIN:VEVENT
DTSTART;TZID=America/Chicago:20260803T173000
DTEND;TZID=America/Chicago:20260803T183000
DTSTAMP:20260423T171239
CREATED:20260105T174555Z
LAST-MODIFIED:20260105T174555Z
UID:31382-1785778200-1785781800@www.trinitybemidji.org
SUMMARY:Men of Trinity
DESCRIPTION:
URL:https://www.trinitybemidji.org/event/men-of-trinity-48/
CATEGORIES:Meeting
END:VEVENT
BEGIN:VEVENT
DTSTART;TZID=America/Chicago:20260805T130000
DTEND;TZID=America/Chicago:20260805T160000
DTSTAMP:20260423T171239
CREATED:20260105T174010Z
LAST-MODIFIED:20260105T174010Z
UID:31268-1785934800-1785945600@www.trinitybemidji.org
SUMMARY:Bible Study
DESCRIPTION:
URL:https://www.trinitybemidji.org/event/bible-study-309/
CATEGORIES:Meeting
END:VEVENT
BEGIN:VEVENT
DTSTART;TZID=America/Chicago:20260806T173000
DTEND;TZID=America/Chicago:20260806T190000
DTSTAMP:20260423T171239
CREATED:20260105T174710Z
LAST-MODIFIED:20260105T174710Z
UID:31408-1786037400-1786042800@www.trinitybemidji.org
SUMMARY:Board of Elders
DESCRIPTION:
URL:https://www.trinitybemidji.org/event/board-of-elders-61/
CATEGORIES:Meeting
END:VEVENT
BEGIN:VEVENT
DTSTART;TZID=America/Chicago:20260809T090000
DTEND;TZID=America/Chicago:20260809T100000
DTSTAMP:20260423T171239
CREATED:20260105T173129Z
LAST-MODIFIED:20260105T173129Z
UID:31166-1786266000-1786269600@www.trinitybemidji.org
SUMMARY:Divine Worship
DESCRIPTION:
URL:https://www.trinitybemidji.org/event/divine-worship-245/
CATEGORIES:Meeting
END:VEVENT
BEGIN:VEVENT
DTSTART;TZID=America/Chicago:20260809T103000
DTEND;TZID=America/Chicago:20260809T113000
DTSTAMP:20260423T171239
CREATED:20260105T173740Z
LAST-MODIFIED:20260105T173740Z
UID:31217-1786271400-1786275000@www.trinitybemidji.org
SUMMARY:Bible Study
DESCRIPTION:
URL:https://www.trinitybemidji.org/event/bible-study-258/
CATEGORIES:Meeting
END:VEVENT
BEGIN:VEVENT
DTSTART;TZID=America/Chicago:20260810T173000
DTEND;TZID=America/Chicago:20260810T183000
DTSTAMP:20260423T171239
CREATED:20260105T174555Z
LAST-MODIFIED:20260105T174555Z
UID:31383-1786383000-1786386600@www.trinitybemidji.org
SUMMARY:Men of Trinity
DESCRIPTION:
URL:https://www.trinitybemidji.org/event/men-of-trinity-49/
CATEGORIES:Meeting
END:VEVENT
BEGIN:VEVENT
DTSTART;TZID=America/Chicago:20260812T130000
DTEND;TZID=America/Chicago:20260812T160000
DTSTAMP:20260423T171239
CREATED:20260105T174010Z
LAST-MODIFIED:20260105T174010Z
UID:31269-1786539600-1786550400@www.trinitybemidji.org
SUMMARY:Bible Study
DESCRIPTION:
URL:https://www.trinitybemidji.org/event/bible-study-310/
CATEGORIES:Meeting
END:VEVENT
BEGIN:VEVENT
DTSTART;TZID=America/Chicago:20260816T090000
DTEND;TZID=America/Chicago:20260816T100000
DTSTAMP:20260423T171239
CREATED:20260105T173129Z
LAST-MODIFIED:20260105T173129Z
UID:31167-1786870800-1786874400@www.trinitybemidji.org
SUMMARY:Divine Worship
DESCRIPTION:
URL:https://www.trinitybemidji.org/event/divine-worship-246/
CATEGORIES:Meeting
END:VEVENT
BEGIN:VEVENT
DTSTART;TZID=America/Chicago:20260816T103000
DTEND;TZID=America/Chicago:20260816T113000
DTSTAMP:20260423T171239
CREATED:20260105T173740Z
LAST-MODIFIED:20260105T173740Z
UID:31218-1786876200-1786879800@www.trinitybemidji.org
SUMMARY:Bible Study
DESCRIPTION:
URL:https://www.trinitybemidji.org/event/bible-study-259/
CATEGORIES:Meeting
END:VEVENT
BEGIN:VEVENT
DTSTART;TZID=America/Chicago:20260817T130000
DTEND;TZID=America/Chicago:20260817T140000
DTSTAMP:20260423T171239
CREATED:20260105T174840Z
LAST-MODIFIED:20260105T174840Z
UID:31438-1786971600-1786975200@www.trinitybemidji.org
SUMMARY:Altar Circle
DESCRIPTION:
URL:https://www.trinitybemidji.org/event/altar-circle-42/
CATEGORIES:Meeting
END:VEVENT
BEGIN:VEVENT
DTSTART;TZID=America/Chicago:20260819T130000
DTEND;TZID=America/Chicago:20260819T160000
DTSTAMP:20260423T171239
CREATED:20260105T174011Z
LAST-MODIFIED:20260105T174011Z
UID:31270-1787144400-1787155200@www.trinitybemidji.org
SUMMARY:Bible Study
DESCRIPTION:
URL:https://www.trinitybemidji.org/event/bible-study-311/
CATEGORIES:Meeting
END:VEVENT
BEGIN:VEVENT
DTSTART;TZID=America/Chicago:20260820T090000
DTEND;TZID=America/Chicago:20260820T100000
DTSTAMP:20260423T171239
CREATED:20260105T174155Z
LAST-MODIFIED:20260105T174155Z
UID:31304-1787216400-1787220000@www.trinitybemidji.org
SUMMARY:Happy Quilters
DESCRIPTION:
URL:https://www.trinitybemidji.org/event/happy-quilters-76/
CATEGORIES:Meeting
END:VEVENT
BEGIN:VEVENT
DTSTART;TZID=America/Chicago:20260823T090000
DTEND;TZID=America/Chicago:20260823T100000
DTSTAMP:20260423T171239
CREATED:20260105T173129Z
LAST-MODIFIED:20260105T173129Z
UID:31168-1787475600-1787479200@www.trinitybemidji.org
SUMMARY:Divine Worship
DESCRIPTION:
URL:https://www.trinitybemidji.org/event/divine-worship-247/
CATEGORIES:Meeting
END:VEVENT
BEGIN:VEVENT
DTSTART;TZID=America/Chicago:20260823T103000
DTEND;TZID=America/Chicago:20260823T113000
DTSTAMP:20260423T171239
CREATED:20260105T173740Z
LAST-MODIFIED:20260105T173740Z
UID:31219-1787481000-1787484600@www.trinitybemidji.org
SUMMARY:Bible Study
DESCRIPTION:
URL:https://www.trinitybemidji.org/event/bible-study-260/
CATEGORIES:Meeting
END:VEVENT
BEGIN:VEVENT
DTSTART;TZID=America/Chicago:20260826T130000
DTEND;TZID=America/Chicago:20260826T160000
DTSTAMP:20260423T171239
CREATED:20260105T174024Z
LAST-MODIFIED:20260105T174024Z
UID:31271-1787749200-1787760000@www.trinitybemidji.org
SUMMARY:Bible Study
DESCRIPTION:
URL:https://www.trinitybemidji.org/event/bible-study-312/
CATEGORIES:Meeting
END:VEVENT
BEGIN:VEVENT
DTSTART;TZID=America/Chicago:20260827T090000
DTEND;TZID=America/Chicago:20260827T100000
DTSTAMP:20260423T171239
CREATED:20260105T174155Z
LAST-MODIFIED:20260105T174155Z
UID:31305-1787821200-1787824800@www.trinitybemidji.org
SUMMARY:Happy Quilters
DESCRIPTION:
URL:https://www.trinitybemidji.org/event/happy-quilters-77/
CATEGORIES:Meeting
END:VEVENT
BEGIN:VEVENT
DTSTART;TZID=America/Chicago:20260830T090000
DTEND;TZID=America/Chicago:20260830T100000
DTSTAMP:20260423T171239
CREATED:20260105T173129Z
LAST-MODIFIED:20260105T173129Z
UID:31169-1788080400-1788084000@www.trinitybemidji.org
SUMMARY:Divine Worship
DESCRIPTION:
URL:https://www.trinitybemidji.org/event/divine-worship-248/
CATEGORIES:Meeting
END:VEVENT
BEGIN:VEVENT
DTSTART;TZID=America/Chicago:20260830T103000
DTEND;TZID=America/Chicago:20260830T113000
DTSTAMP:20260423T171239
CREATED:20260105T173741Z
LAST-MODIFIED:20260105T173741Z
UID:31220-1788085800-1788089400@www.trinitybemidji.org
SUMMARY:Bible Study
DESCRIPTION:
URL:https://www.trinitybemidji.org/event/bible-study-261/
CATEGORIES:Meeting
END:VEVENT
END:VCALENDAR