BEGIN:VCALENDAR
VERSION:2.0
PRODID:-//Trinity Lutheran Church - Bemidji - ECPv6.15.20//NONSGML v1.0//EN
CALSCALE:GREGORIAN
METHOD:PUBLISH
X-WR-CALNAME:Trinity Lutheran Church - Bemidji
X-ORIGINAL-URL:https://www.trinitybemidji.org
X-WR-CALDESC:Events for Trinity Lutheran Church - Bemidji
REFRESH-INTERVAL;VALUE=DURATION:PT1H
X-Robots-Tag:noindex
X-PUBLISHED-TTL:PT1H
BEGIN:VTIMEZONE
TZID:America/Chicago
BEGIN:DAYLIGHT
TZOFFSETFROM:-0600
TZOFFSETTO:-0500
TZNAME:CDT
DTSTART:20250309T080000
END:DAYLIGHT
BEGIN:STANDARD
TZOFFSETFROM:-0500
TZOFFSETTO:-0600
TZNAME:CST
DTSTART:20251102T070000
END:STANDARD
BEGIN:DAYLIGHT
TZOFFSETFROM:-0600
TZOFFSETTO:-0500
TZNAME:CDT
DTSTART:20260308T080000
END:DAYLIGHT
BEGIN:STANDARD
TZOFFSETFROM:-0500
TZOFFSETTO:-0600
TZNAME:CST
DTSTART:20261101T070000
END:STANDARD
BEGIN:DAYLIGHT
TZOFFSETFROM:-0600
TZOFFSETTO:-0500
TZNAME:CDT
DTSTART:20270314T080000
END:DAYLIGHT
BEGIN:STANDARD
TZOFFSETFROM:-0500
TZOFFSETTO:-0600
TZNAME:CST
DTSTART:20271107T070000
END:STANDARD
END:VTIMEZONE
BEGIN:VEVENT
DTSTART;TZID=America/Chicago:20260902T130000
DTEND;TZID=America/Chicago:20260902T160000
DTSTAMP:20260423T185349
CREATED:20260105T174025Z
LAST-MODIFIED:20260105T174025Z
UID:31272-1788354000-1788364800@www.trinitybemidji.org
SUMMARY:Bible Study
DESCRIPTION:
URL:https://www.trinitybemidji.org/event/bible-study-313/
CATEGORIES:Meeting
END:VEVENT
BEGIN:VEVENT
DTSTART;TZID=America/Chicago:20260903T133000
DTEND;TZID=America/Chicago:20260903T150000
DTSTAMP:20260423T185349
CREATED:20260105T174641Z
LAST-MODIFIED:20260105T174641Z
UID:31398-1788442200-1788447600@www.trinitybemidji.org
SUMMARY:Ladies Guild
DESCRIPTION:
URL:https://www.trinitybemidji.org/event/ladies-guild-16/
CATEGORIES:Meeting
END:VEVENT
BEGIN:VEVENT
DTSTART;TZID=America/Chicago:20260903T173000
DTEND;TZID=America/Chicago:20260903T190000
DTSTAMP:20260423T185349
CREATED:20260105T174711Z
LAST-MODIFIED:20260105T174711Z
UID:31409-1788456600-1788462000@www.trinitybemidji.org
SUMMARY:Board of Elders
DESCRIPTION:
URL:https://www.trinitybemidji.org/event/board-of-elders-62/
CATEGORIES:Meeting
END:VEVENT
BEGIN:VEVENT
DTSTART;TZID=America/Chicago:20260906T090000
DTEND;TZID=America/Chicago:20260906T100000
DTSTAMP:20260423T185349
CREATED:20260105T173129Z
LAST-MODIFIED:20260105T173129Z
UID:31170-1788685200-1788688800@www.trinitybemidji.org
SUMMARY:Divine Worship
DESCRIPTION:
URL:https://www.trinitybemidji.org/event/divine-worship-249/
CATEGORIES:Meeting
END:VEVENT
BEGIN:VEVENT
DTSTART;TZID=America/Chicago:20260906T103000
DTEND;TZID=America/Chicago:20260906T113000
DTSTAMP:20260423T185349
CREATED:20260105T173754Z
LAST-MODIFIED:20260105T173754Z
UID:31221-1788690600-1788694200@www.trinitybemidji.org
SUMMARY:Bible Study
DESCRIPTION:
URL:https://www.trinitybemidji.org/event/bible-study-262/
CATEGORIES:Meeting
END:VEVENT
BEGIN:VEVENT
DTSTART;TZID=America/Chicago:20260906T103000
DTEND;TZID=America/Chicago:20260906T113000
DTSTAMP:20260423T185349
CREATED:20260105T174425Z
LAST-MODIFIED:20260105T174425Z
UID:31351-1788690600-1788694200@www.trinitybemidji.org
SUMMARY:Sunday School
DESCRIPTION:
URL:https://www.trinitybemidji.org/event/sunday-school-167/
CATEGORIES:Meeting
END:VEVENT
BEGIN:VEVENT
DTSTART;TZID=America/Chicago:20260907T173000
DTEND;TZID=America/Chicago:20260907T183000
DTSTAMP:20260423T185349
CREATED:20260105T174555Z
LAST-MODIFIED:20260105T174555Z
UID:31384-1788802200-1788805800@www.trinitybemidji.org
SUMMARY:Men of Trinity
DESCRIPTION:
URL:https://www.trinitybemidji.org/event/men-of-trinity-50/
CATEGORIES:Meeting
END:VEVENT
BEGIN:VEVENT
DTSTART;TZID=America/Chicago:20260909T130000
DTEND;TZID=America/Chicago:20260909T160000
DTSTAMP:20260423T185349
CREATED:20260105T174025Z
LAST-MODIFIED:20260105T174025Z
UID:31273-1788958800-1788969600@www.trinitybemidji.org
SUMMARY:Bible Study
DESCRIPTION:
URL:https://www.trinitybemidji.org/event/bible-study-314/
CATEGORIES:Meeting
END:VEVENT
BEGIN:VEVENT
DTSTART;TZID=America/Chicago:20260910T133000
DTEND;TZID=America/Chicago:20260910T143000
DTSTAMP:20260423T185349
CREATED:20260105T174310Z
LAST-MODIFIED:20260105T174310Z
UID:31326-1789047000-1789050600@www.trinitybemidji.org
SUMMARY:Hannah Circle
DESCRIPTION:
URL:https://www.trinitybemidji.org/event/hannah-circle-31/
CATEGORIES:Meeting
END:VEVENT
BEGIN:VEVENT
DTSTART;TZID=America/Chicago:20260913T090000
DTEND;TZID=America/Chicago:20260913T100000
DTSTAMP:20260423T185349
CREATED:20260105T173144Z
LAST-MODIFIED:20260105T173144Z
UID:31171-1789290000-1789293600@www.trinitybemidji.org
SUMMARY:Divine Worship
DESCRIPTION:
URL:https://www.trinitybemidji.org/event/divine-worship-250/
CATEGORIES:Meeting
END:VEVENT
BEGIN:VEVENT
DTSTART;TZID=America/Chicago:20260913T103000
DTEND;TZID=America/Chicago:20260913T113000
DTSTAMP:20260423T185349
CREATED:20260105T173755Z
LAST-MODIFIED:20260105T173755Z
UID:31222-1789295400-1789299000@www.trinitybemidji.org
SUMMARY:Bible Study
DESCRIPTION:
URL:https://www.trinitybemidji.org/event/bible-study-263/
CATEGORIES:Meeting
END:VEVENT
BEGIN:VEVENT
DTSTART;TZID=America/Chicago:20260913T103000
DTEND;TZID=America/Chicago:20260913T113000
DTSTAMP:20260423T185349
CREATED:20260105T174425Z
LAST-MODIFIED:20260105T174425Z
UID:31352-1789295400-1789299000@www.trinitybemidji.org
SUMMARY:Sunday School
DESCRIPTION:
URL:https://www.trinitybemidji.org/event/sunday-school-168/
CATEGORIES:Meeting
END:VEVENT
BEGIN:VEVENT
DTSTART;TZID=America/Chicago:20260915T093000
DTEND;TZID=America/Chicago:20260915T223000
DTSTAMP:20260423T185349
CREATED:20260105T174240Z
LAST-MODIFIED:20260105T174240Z
UID:31318-1789464600-1789511400@www.trinitybemidji.org
SUMMARY:Eunice Circle
DESCRIPTION:
URL:https://www.trinitybemidji.org/event/eunice-circle-45/
CATEGORIES:Meeting
END:VEVENT
BEGIN:VEVENT
DTSTART;TZID=America/Chicago:20260916T130000
DTEND;TZID=America/Chicago:20260916T160000
DTSTAMP:20260423T185349
CREATED:20260105T174025Z
LAST-MODIFIED:20260105T174025Z
UID:31274-1789563600-1789574400@www.trinitybemidji.org
SUMMARY:Bible Study
DESCRIPTION:
URL:https://www.trinitybemidji.org/event/bible-study-315/
CATEGORIES:Meeting
END:VEVENT
BEGIN:VEVENT
DTSTART;TZID=America/Chicago:20260917T090000
DTEND;TZID=America/Chicago:20260917T100000
DTSTAMP:20260423T185349
CREATED:20260105T174210Z
LAST-MODIFIED:20260105T174210Z
UID:31306-1789635600-1789639200@www.trinitybemidji.org
SUMMARY:Happy Quilters
DESCRIPTION:
URL:https://www.trinitybemidji.org/event/happy-quilters-78/
CATEGORIES:Meeting
END:VEVENT
BEGIN:VEVENT
DTSTART;TZID=America/Chicago:20260917T180000
DTEND;TZID=America/Chicago:20260917T190000
DTSTAMP:20260423T185349
CREATED:20260105T174741Z
LAST-MODIFIED:20260105T174741Z
UID:31419-1789668000-1789671600@www.trinitybemidji.org
SUMMARY:Church Boards
DESCRIPTION:
URL:https://www.trinitybemidji.org/event/church-boards-52/
CATEGORIES:Meeting
END:VEVENT
BEGIN:VEVENT
DTSTART;TZID=America/Chicago:20260917T190000
DTEND;TZID=America/Chicago:20260917T200000
DTSTAMP:20260423T185349
CREATED:20260105T174811Z
LAST-MODIFIED:20260105T174811Z
UID:31429-1789671600-1789675200@www.trinitybemidji.org
SUMMARY:Church Council
DESCRIPTION:
URL:https://www.trinitybemidji.org/event/church-council-50/
CATEGORIES:Meeting
END:VEVENT
BEGIN:VEVENT
DTSTART;TZID=America/Chicago:20260920T090000
DTEND;TZID=America/Chicago:20260920T100000
DTSTAMP:20260423T185349
CREATED:20260105T173144Z
LAST-MODIFIED:20260105T173144Z
UID:31172-1789894800-1789898400@www.trinitybemidji.org
SUMMARY:Divine Worship
DESCRIPTION:
URL:https://www.trinitybemidji.org/event/divine-worship-251/
CATEGORIES:Meeting
END:VEVENT
BEGIN:VEVENT
DTSTART;TZID=America/Chicago:20260920T103000
DTEND;TZID=America/Chicago:20260920T113000
DTSTAMP:20260423T185349
CREATED:20260105T173755Z
LAST-MODIFIED:20260105T173755Z
UID:31223-1789900200-1789903800@www.trinitybemidji.org
SUMMARY:Bible Study
DESCRIPTION:
URL:https://www.trinitybemidji.org/event/bible-study-264/
CATEGORIES:Meeting
END:VEVENT
BEGIN:VEVENT
DTSTART;TZID=America/Chicago:20260920T103000
DTEND;TZID=America/Chicago:20260920T113000
DTSTAMP:20260423T185349
CREATED:20260105T174425Z
LAST-MODIFIED:20260105T174425Z
UID:31353-1789900200-1789903800@www.trinitybemidji.org
SUMMARY:Sunday School
DESCRIPTION:
URL:https://www.trinitybemidji.org/event/sunday-school-169/
CATEGORIES:Meeting
END:VEVENT
BEGIN:VEVENT
DTSTART;TZID=America/Chicago:20260921T130000
DTEND;TZID=America/Chicago:20260921T140000
DTSTAMP:20260423T185349
CREATED:20260105T174841Z
LAST-MODIFIED:20260105T174841Z
UID:31439-1789995600-1789999200@www.trinitybemidji.org
SUMMARY:Altar Circle
DESCRIPTION:
URL:https://www.trinitybemidji.org/event/altar-circle-43/
CATEGORIES:Meeting
END:VEVENT
BEGIN:VEVENT
DTSTART;TZID=America/Chicago:20260921T173000
DTEND;TZID=America/Chicago:20260921T183000
DTSTAMP:20260423T185349
CREATED:20260105T174555Z
LAST-MODIFIED:20260105T174555Z
UID:31385-1790011800-1790015400@www.trinitybemidji.org
SUMMARY:Men of Trinity
DESCRIPTION:
URL:https://www.trinitybemidji.org/event/men-of-trinity-51/
CATEGORIES:Meeting
END:VEVENT
BEGIN:VEVENT
DTSTART;TZID=America/Chicago:20260923T130000
DTEND;TZID=America/Chicago:20260923T160000
DTSTAMP:20260423T185349
CREATED:20260105T174025Z
LAST-MODIFIED:20260105T174025Z
UID:31275-1790168400-1790179200@www.trinitybemidji.org
SUMMARY:Bible Study
DESCRIPTION:
URL:https://www.trinitybemidji.org/event/bible-study-316/
CATEGORIES:Meeting
END:VEVENT
BEGIN:VEVENT
DTSTART;TZID=America/Chicago:20260924T090000
DTEND;TZID=America/Chicago:20260924T100000
DTSTAMP:20260423T185349
CREATED:20260105T174210Z
LAST-MODIFIED:20260105T174210Z
UID:31307-1790240400-1790244000@www.trinitybemidji.org
SUMMARY:Happy Quilters
DESCRIPTION:
URL:https://www.trinitybemidji.org/event/happy-quilters-79/
CATEGORIES:Meeting
END:VEVENT
BEGIN:VEVENT
DTSTART;TZID=America/Chicago:20260927T090000
DTEND;TZID=America/Chicago:20260927T100000
DTSTAMP:20260423T185349
CREATED:20260105T173144Z
LAST-MODIFIED:20260105T173144Z
UID:31173-1790499600-1790503200@www.trinitybemidji.org
SUMMARY:Divine Worship
DESCRIPTION:
URL:https://www.trinitybemidji.org/event/divine-worship-252/
CATEGORIES:Meeting
END:VEVENT
BEGIN:VEVENT
DTSTART;TZID=America/Chicago:20260927T103000
DTEND;TZID=America/Chicago:20260927T113000
DTSTAMP:20260423T185349
CREATED:20260105T173755Z
LAST-MODIFIED:20260105T173755Z
UID:31224-1790505000-1790508600@www.trinitybemidji.org
SUMMARY:Bible Study
DESCRIPTION:
URL:https://www.trinitybemidji.org/event/bible-study-265/
CATEGORIES:Meeting
END:VEVENT
BEGIN:VEVENT
DTSTART;TZID=America/Chicago:20260927T103000
DTEND;TZID=America/Chicago:20260927T113000
DTSTAMP:20260423T185349
CREATED:20260105T174425Z
LAST-MODIFIED:20260105T174425Z
UID:31354-1790505000-1790508600@www.trinitybemidji.org
SUMMARY:Sunday School
DESCRIPTION:
URL:https://www.trinitybemidji.org/event/sunday-school-170/
CATEGORIES:Meeting
END:VEVENT
BEGIN:VEVENT
DTSTART;TZID=America/Chicago:20260930T130000
DTEND;TZID=America/Chicago:20260930T160000
DTSTAMP:20260423T185349
CREATED:20260105T174040Z
LAST-MODIFIED:20260105T174040Z
UID:31276-1790773200-1790784000@www.trinitybemidji.org
SUMMARY:Bible Study
DESCRIPTION:
URL:https://www.trinitybemidji.org/event/bible-study-317/
CATEGORIES:Meeting
END:VEVENT
END:VCALENDAR