BEGIN:VCALENDAR
VERSION:2.0
PRODID:-//Trinity Lutheran Church - Bemidji - ECPv6.15.20//NONSGML v1.0//EN
CALSCALE:GREGORIAN
METHOD:PUBLISH
X-ORIGINAL-URL:https://www.trinitybemidji.org
X-WR-CALDESC:Events for Trinity Lutheran Church - Bemidji
REFRESH-INTERVAL;VALUE=DURATION:PT1H
X-Robots-Tag:noindex
X-PUBLISHED-TTL:PT1H
BEGIN:VTIMEZONE
TZID:America/Chicago
BEGIN:DAYLIGHT
TZOFFSETFROM:-0600
TZOFFSETTO:-0500
TZNAME:CDT
DTSTART:20250309T080000
END:DAYLIGHT
BEGIN:STANDARD
TZOFFSETFROM:-0500
TZOFFSETTO:-0600
TZNAME:CST
DTSTART:20251102T070000
END:STANDARD
BEGIN:DAYLIGHT
TZOFFSETFROM:-0600
TZOFFSETTO:-0500
TZNAME:CDT
DTSTART:20260308T080000
END:DAYLIGHT
BEGIN:STANDARD
TZOFFSETFROM:-0500
TZOFFSETTO:-0600
TZNAME:CST
DTSTART:20261101T070000
END:STANDARD
BEGIN:DAYLIGHT
TZOFFSETFROM:-0600
TZOFFSETTO:-0500
TZNAME:CDT
DTSTART:20270314T080000
END:DAYLIGHT
BEGIN:STANDARD
TZOFFSETFROM:-0500
TZOFFSETTO:-0600
TZNAME:CST
DTSTART:20271107T070000
END:STANDARD
END:VTIMEZONE
BEGIN:VEVENT
DTSTART;TZID=America/Chicago:20261101T090000
DTEND;TZID=America/Chicago:20261101T100000
DTSTAMP:20260423T223459
CREATED:20260105T173159Z
LAST-MODIFIED:20260105T173159Z
UID:31178-1793523600-1793527200@www.trinitybemidji.org
SUMMARY:Divine Worship
DESCRIPTION:
URL:https://www.trinitybemidji.org/event/divine-worship-257/
CATEGORIES:Meeting
END:VEVENT
BEGIN:VEVENT
DTSTART;TZID=America/Chicago:20261101T103000
DTEND;TZID=America/Chicago:20261101T113000
DTSTAMP:20260423T223459
CREATED:20260105T173810Z
LAST-MODIFIED:20260105T173810Z
UID:31229-1793529000-1793532600@www.trinitybemidji.org
SUMMARY:Bible Study
DESCRIPTION:
URL:https://www.trinitybemidji.org/event/bible-study-270/
CATEGORIES:Meeting
END:VEVENT
BEGIN:VEVENT
DTSTART;TZID=America/Chicago:20261101T103000
DTEND;TZID=America/Chicago:20261101T113000
DTSTAMP:20260423T223459
CREATED:20260105T174442Z
LAST-MODIFIED:20260105T174442Z
UID:31359-1793529000-1793532600@www.trinitybemidji.org
SUMMARY:Sunday School
DESCRIPTION:
URL:https://www.trinitybemidji.org/event/sunday-school-175/
CATEGORIES:Meeting
END:VEVENT
BEGIN:VEVENT
DTSTART;TZID=America/Chicago:20261102T173000
DTEND;TZID=America/Chicago:20261102T183000
DTSTAMP:20260423T223459
CREATED:20260105T174610Z
LAST-MODIFIED:20260105T174610Z
UID:31388-1793640600-1793644200@www.trinitybemidji.org
SUMMARY:Men of Trinity
DESCRIPTION:
URL:https://www.trinitybemidji.org/event/men-of-trinity-54/
CATEGORIES:Meeting
END:VEVENT
BEGIN:VEVENT
DTSTART;TZID=America/Chicago:20261104T130000
DTEND;TZID=America/Chicago:20261104T160000
DTSTAMP:20260423T223459
CREATED:20260105T174054Z
LAST-MODIFIED:20260105T174054Z
UID:31281-1793797200-1793808000@www.trinitybemidji.org
SUMMARY:Bible Study
DESCRIPTION:
URL:https://www.trinitybemidji.org/event/bible-study-322/
CATEGORIES:Meeting
END:VEVENT
BEGIN:VEVENT
DTSTART;TZID=America/Chicago:20261105T133000
DTEND;TZID=America/Chicago:20261105T150000
DTSTAMP:20260423T223459
CREATED:20260105T174641Z
LAST-MODIFIED:20260105T174641Z
UID:31400-1793885400-1793890800@www.trinitybemidji.org
SUMMARY:Ladies Guild
DESCRIPTION:
URL:https://www.trinitybemidji.org/event/ladies-guild-18/
CATEGORIES:Meeting
END:VEVENT
BEGIN:VEVENT
DTSTART;TZID=America/Chicago:20261105T173000
DTEND;TZID=America/Chicago:20261105T190000
DTSTAMP:20260423T223459
CREATED:20260105T174725Z
LAST-MODIFIED:20260105T174725Z
UID:31411-1793899800-1793905200@www.trinitybemidji.org
SUMMARY:Board of Elders
DESCRIPTION:
URL:https://www.trinitybemidji.org/event/board-of-elders-64/
CATEGORIES:Meeting
END:VEVENT
BEGIN:VEVENT
DTSTART;TZID=America/Chicago:20261108T090000
DTEND;TZID=America/Chicago:20261108T100000
DTSTAMP:20260423T223459
CREATED:20260105T173159Z
LAST-MODIFIED:20260105T173159Z
UID:31179-1794128400-1794132000@www.trinitybemidji.org
SUMMARY:Divine Worship
DESCRIPTION:
URL:https://www.trinitybemidji.org/event/divine-worship-258/
CATEGORIES:Meeting
END:VEVENT
BEGIN:VEVENT
DTSTART;TZID=America/Chicago:20261108T103000
DTEND;TZID=America/Chicago:20261108T113000
DTSTAMP:20260423T223459
CREATED:20260105T173810Z
LAST-MODIFIED:20260105T173810Z
UID:31230-1794133800-1794137400@www.trinitybemidji.org
SUMMARY:Bible Study
DESCRIPTION:
URL:https://www.trinitybemidji.org/event/bible-study-271/
CATEGORIES:Meeting
END:VEVENT
BEGIN:VEVENT
DTSTART;TZID=America/Chicago:20261108T103000
DTEND;TZID=America/Chicago:20261108T113000
DTSTAMP:20260423T223459
CREATED:20260105T174442Z
LAST-MODIFIED:20260105T174442Z
UID:31360-1794133800-1794137400@www.trinitybemidji.org
SUMMARY:Sunday School
DESCRIPTION:
URL:https://www.trinitybemidji.org/event/sunday-school-176/
CATEGORIES:Meeting
END:VEVENT
BEGIN:VEVENT
DTSTART;TZID=America/Chicago:20261111T130000
DTEND;TZID=America/Chicago:20261111T160000
DTSTAMP:20260423T223459
CREATED:20260105T174055Z
LAST-MODIFIED:20260105T174055Z
UID:31282-1794402000-1794412800@www.trinitybemidji.org
SUMMARY:Bible Study
DESCRIPTION:
URL:https://www.trinitybemidji.org/event/bible-study-323/
CATEGORIES:Meeting
END:VEVENT
BEGIN:VEVENT
DTSTART;TZID=America/Chicago:20261112T133000
DTEND;TZID=America/Chicago:20261112T143000
DTSTAMP:20260423T223459
CREATED:20260105T174311Z
LAST-MODIFIED:20260105T174311Z
UID:31328-1794490200-1794493800@www.trinitybemidji.org
SUMMARY:Hannah Circle
DESCRIPTION:
URL:https://www.trinitybemidji.org/event/hannah-circle-33/
CATEGORIES:Meeting
END:VEVENT
BEGIN:VEVENT
DTSTART;TZID=America/Chicago:20261115T090000
DTEND;TZID=America/Chicago:20261115T100000
DTSTAMP:20260423T223459
CREATED:20260105T173159Z
LAST-MODIFIED:20260105T173159Z
UID:31180-1794733200-1794736800@www.trinitybemidji.org
SUMMARY:Divine Worship
DESCRIPTION:
URL:https://www.trinitybemidji.org/event/divine-worship-259/
CATEGORIES:Meeting
END:VEVENT
BEGIN:VEVENT
DTSTART;TZID=America/Chicago:20261115T103000
DTEND;TZID=America/Chicago:20261115T113000
DTSTAMP:20260423T223459
CREATED:20260105T173824Z
LAST-MODIFIED:20260105T173824Z
UID:31231-1794738600-1794742200@www.trinitybemidji.org
SUMMARY:Bible Study
DESCRIPTION:
URL:https://www.trinitybemidji.org/event/bible-study-272/
CATEGORIES:Meeting
END:VEVENT
BEGIN:VEVENT
DTSTART;TZID=America/Chicago:20261115T103000
DTEND;TZID=America/Chicago:20261115T113000
DTSTAMP:20260423T223459
CREATED:20260105T174455Z
LAST-MODIFIED:20260105T174455Z
UID:31361-1794738600-1794742200@www.trinitybemidji.org
SUMMARY:Sunday School
DESCRIPTION:
URL:https://www.trinitybemidji.org/event/sunday-school-177/
CATEGORIES:Meeting
END:VEVENT
BEGIN:VEVENT
DTSTART;TZID=America/Chicago:20261116T130000
DTEND;TZID=America/Chicago:20261116T140000
DTSTAMP:20260423T223459
CREATED:20260105T174855Z
LAST-MODIFIED:20260105T174855Z
UID:31441-1794834000-1794837600@www.trinitybemidji.org
SUMMARY:Altar Circle
DESCRIPTION:
URL:https://www.trinitybemidji.org/event/altar-circle-45/
CATEGORIES:Meeting
END:VEVENT
BEGIN:VEVENT
DTSTART;TZID=America/Chicago:20261116T173000
DTEND;TZID=America/Chicago:20261116T183000
DTSTAMP:20260423T223459
CREATED:20260105T174611Z
LAST-MODIFIED:20260105T174611Z
UID:31389-1794850200-1794853800@www.trinitybemidji.org
SUMMARY:Men of Trinity
DESCRIPTION:
URL:https://www.trinitybemidji.org/event/men-of-trinity-55/
CATEGORIES:Meeting
END:VEVENT
BEGIN:VEVENT
DTSTART;TZID=America/Chicago:20261117T093000
DTEND;TZID=America/Chicago:20261117T223000
DTSTAMP:20260423T223459
CREATED:20260105T174241Z
LAST-MODIFIED:20260105T174241Z
UID:31320-1794907800-1794954600@www.trinitybemidji.org
SUMMARY:Eunice Circle
DESCRIPTION:
URL:https://www.trinitybemidji.org/event/eunice-circle-47/
CATEGORIES:Meeting
END:VEVENT
BEGIN:VEVENT
DTSTART;TZID=America/Chicago:20261118T130000
DTEND;TZID=America/Chicago:20261118T160000
DTSTAMP:20260423T223459
CREATED:20260105T174055Z
LAST-MODIFIED:20260105T174055Z
UID:31283-1795006800-1795017600@www.trinitybemidji.org
SUMMARY:Bible Study
DESCRIPTION:
URL:https://www.trinitybemidji.org/event/bible-study-324/
CATEGORIES:Meeting
END:VEVENT
BEGIN:VEVENT
DTSTART;TZID=America/Chicago:20261119T090000
DTEND;TZID=America/Chicago:20261119T100000
DTSTAMP:20260423T223459
CREATED:20260105T174211Z
LAST-MODIFIED:20260105T174211Z
UID:31310-1795078800-1795082400@www.trinitybemidji.org
SUMMARY:Happy Quilters
DESCRIPTION:
URL:https://www.trinitybemidji.org/event/happy-quilters-82/
CATEGORIES:Meeting
END:VEVENT
BEGIN:VEVENT
DTSTART;TZID=America/Chicago:20261119T180000
DTEND;TZID=America/Chicago:20261119T190000
DTSTAMP:20260423T223459
CREATED:20260105T174755Z
LAST-MODIFIED:20260105T174755Z
UID:31421-1795111200-1795114800@www.trinitybemidji.org
SUMMARY:Church Boards
DESCRIPTION:
URL:https://www.trinitybemidji.org/event/church-boards-54/
CATEGORIES:Meeting
END:VEVENT
BEGIN:VEVENT
DTSTART;TZID=America/Chicago:20261119T190000
DTEND;TZID=America/Chicago:20261119T200000
DTSTAMP:20260423T223459
CREATED:20260105T174825Z
LAST-MODIFIED:20260105T174825Z
UID:31431-1795114800-1795118400@www.trinitybemidji.org
SUMMARY:Church Council
DESCRIPTION:
URL:https://www.trinitybemidji.org/event/church-council-52/
CATEGORIES:Meeting
END:VEVENT
BEGIN:VEVENT
DTSTART;TZID=America/Chicago:20261122T090000
DTEND;TZID=America/Chicago:20261122T100000
DTSTAMP:20260423T223459
CREATED:20260105T173214Z
LAST-MODIFIED:20260105T173214Z
UID:31181-1795338000-1795341600@www.trinitybemidji.org
SUMMARY:Divine Worship
DESCRIPTION:
URL:https://www.trinitybemidji.org/event/divine-worship-260/
CATEGORIES:Meeting
END:VEVENT
BEGIN:VEVENT
DTSTART;TZID=America/Chicago:20261122T103000
DTEND;TZID=America/Chicago:20261122T113000
DTSTAMP:20260423T223459
CREATED:20260105T173825Z
LAST-MODIFIED:20260105T173825Z
UID:31232-1795343400-1795347000@www.trinitybemidji.org
SUMMARY:Bible Study
DESCRIPTION:
URL:https://www.trinitybemidji.org/event/bible-study-273/
CATEGORIES:Meeting
END:VEVENT
BEGIN:VEVENT
DTSTART;TZID=America/Chicago:20261122T103000
DTEND;TZID=America/Chicago:20261122T113000
DTSTAMP:20260423T223459
CREATED:20260105T174455Z
LAST-MODIFIED:20260105T174455Z
UID:31362-1795343400-1795347000@www.trinitybemidji.org
SUMMARY:Sunday School
DESCRIPTION:
URL:https://www.trinitybemidji.org/event/sunday-school-178/
CATEGORIES:Meeting
END:VEVENT
BEGIN:VEVENT
DTSTART;TZID=America/Chicago:20261125T130000
DTEND;TZID=America/Chicago:20261125T160000
DTSTAMP:20260423T223459
CREATED:20260105T174055Z
LAST-MODIFIED:20260105T174055Z
UID:31284-1795611600-1795622400@www.trinitybemidji.org
SUMMARY:Bible Study
DESCRIPTION:
URL:https://www.trinitybemidji.org/event/bible-study-325/
CATEGORIES:Meeting
END:VEVENT
BEGIN:VEVENT
DTSTART;TZID=America/Chicago:20261126T090000
DTEND;TZID=America/Chicago:20261126T100000
DTSTAMP:20260423T223459
CREATED:20260105T174224Z
LAST-MODIFIED:20260105T174224Z
UID:31311-1795683600-1795687200@www.trinitybemidji.org
SUMMARY:Happy Quilters
DESCRIPTION:
URL:https://www.trinitybemidji.org/event/happy-quilters-83/
CATEGORIES:Meeting
END:VEVENT
BEGIN:VEVENT
DTSTART;TZID=America/Chicago:20261129T090000
DTEND;TZID=America/Chicago:20261129T100000
DTSTAMP:20260423T223459
CREATED:20260105T173214Z
LAST-MODIFIED:20260105T173214Z
UID:31182-1795942800-1795946400@www.trinitybemidji.org
SUMMARY:Divine Worship
DESCRIPTION:
URL:https://www.trinitybemidji.org/event/divine-worship-261/
CATEGORIES:Meeting
END:VEVENT
BEGIN:VEVENT
DTSTART;TZID=America/Chicago:20261129T103000
DTEND;TZID=America/Chicago:20261129T113000
DTSTAMP:20260423T223459
CREATED:20260105T173825Z
LAST-MODIFIED:20260105T173825Z
UID:31233-1795948200-1795951800@www.trinitybemidji.org
SUMMARY:Bible Study
DESCRIPTION:
URL:https://www.trinitybemidji.org/event/bible-study-274/
CATEGORIES:Meeting
END:VEVENT
BEGIN:VEVENT
DTSTART;TZID=America/Chicago:20261129T103000
DTEND;TZID=America/Chicago:20261129T113000
DTSTAMP:20260423T223459
CREATED:20260105T174455Z
LAST-MODIFIED:20260105T174455Z
UID:31363-1795948200-1795951800@www.trinitybemidji.org
SUMMARY:Sunday School
DESCRIPTION:
URL:https://www.trinitybemidji.org/event/sunday-school-179/
CATEGORIES:Meeting
END:VEVENT
END:VCALENDAR