BEGIN:VCALENDAR
VERSION:2.0
PRODID:-//Trinity Lutheran Church - Bemidji - ECPv6.15.20//NONSGML v1.0//EN
CALSCALE:GREGORIAN
METHOD:PUBLISH
X-WR-CALNAME:Trinity Lutheran Church - Bemidji
X-ORIGINAL-URL:https://www.trinitybemidji.org
X-WR-CALDESC:Events for Trinity Lutheran Church - Bemidji
REFRESH-INTERVAL;VALUE=DURATION:PT1H
X-Robots-Tag:noindex
X-PUBLISHED-TTL:PT1H
BEGIN:VTIMEZONE
TZID:America/Chicago
BEGIN:DAYLIGHT
TZOFFSETFROM:-0600
TZOFFSETTO:-0500
TZNAME:CDT
DTSTART:20220313T080000
END:DAYLIGHT
BEGIN:STANDARD
TZOFFSETFROM:-0500
TZOFFSETTO:-0600
TZNAME:CST
DTSTART:20221106T070000
END:STANDARD
BEGIN:DAYLIGHT
TZOFFSETFROM:-0600
TZOFFSETTO:-0500
TZNAME:CDT
DTSTART:20230312T080000
END:DAYLIGHT
BEGIN:STANDARD
TZOFFSETFROM:-0500
TZOFFSETTO:-0600
TZNAME:CST
DTSTART:20231105T070000
END:STANDARD
BEGIN:DAYLIGHT
TZOFFSETFROM:-0600
TZOFFSETTO:-0500
TZNAME:CDT
DTSTART:20240310T080000
END:DAYLIGHT
BEGIN:STANDARD
TZOFFSETFROM:-0500
TZOFFSETTO:-0600
TZNAME:CST
DTSTART:20241103T070000
END:STANDARD
END:VTIMEZONE
BEGIN:VEVENT
DTSTART;TZID=America/Chicago:20230501T190000
DTEND;TZID=America/Chicago:20230501T200000
DTSTAMP:20260425T223023
CREATED:20230505T181618Z
LAST-MODIFIED:20230509T170048Z
UID:29204-1682967600-1682971200@www.trinitybemidji.org
SUMMARY:Men's Group
DESCRIPTION:
URL:https://www.trinitybemidji.org/event/mens-group-11/
CATEGORIES:Meeting
END:VEVENT
BEGIN:VEVENT
DTSTART;TZID=America/Chicago:20230502T133000
DTEND;TZID=America/Chicago:20230502T150000
DTSTAMP:20260425T223023
CREATED:20230505T181621Z
LAST-MODIFIED:20230509T170149Z
UID:29208-1683034200-1683039600@www.trinitybemidji.org
SUMMARY:Afternoon Guild
DESCRIPTION:
URL:https://www.trinitybemidji.org/event/afternoon-guild-2/
CATEGORIES:Meeting
END:VEVENT
BEGIN:VEVENT
DTSTART;TZID=America/Chicago:20230504T133000
DTEND;TZID=America/Chicago:20230504T150000
DTSTAMP:20260425T223023
CREATED:20230505T181620Z
LAST-MODIFIED:20230509T170133Z
UID:29207-1683207000-1683212400@www.trinitybemidji.org
SUMMARY:Ladies Aid
DESCRIPTION:
URL:https://www.trinitybemidji.org/event/ladies-aid-19/
CATEGORIES:Meeting
END:VEVENT
BEGIN:VEVENT
DTSTART;TZID=America/Chicago:20230504T173000
DTEND;TZID=America/Chicago:20230504T183000
DTSTAMP:20260425T223023
CREATED:20230505T181542Z
LAST-MODIFIED:20230509T165806Z
UID:29197-1683221400-1683225000@www.trinitybemidji.org
SUMMARY:Board of Elders
DESCRIPTION:
URL:https://www.trinitybemidji.org/event/board-of-elders-22/
CATEGORIES:Meeting
END:VEVENT
BEGIN:VEVENT
DTSTART;TZID=America/Chicago:20230507T090000
DTEND;TZID=America/Chicago:20230507T100000
DTSTAMP:20260425T223023
CREATED:20230505T181531Z
LAST-MODIFIED:20230509T165149Z
UID:29189-1683450000-1683453600@www.trinitybemidji.org
SUMMARY:Divine Worship
DESCRIPTION:
URL:https://www.trinitybemidji.org/event/divine-worship-77/
CATEGORIES:Meeting
END:VEVENT
BEGIN:VEVENT
DTSTART;TZID=America/Chicago:20230507T103000
DTEND;TZID=America/Chicago:20230507T113000
DTSTAMP:20260425T223023
CREATED:20230505T181536Z
LAST-MODIFIED:20230509T165318Z
UID:29193-1683455400-1683459000@www.trinitybemidji.org
SUMMARY:Bible Study
DESCRIPTION:
URL:https://www.trinitybemidji.org/event/bible-study-78/
CATEGORIES:Meeting
END:VEVENT
BEGIN:VEVENT
DTSTART;TZID=America/Chicago:20230507T103000
DTEND;TZID=America/Chicago:20230507T113000
DTSTAMP:20260425T223023
CREATED:20230505T181634Z
LAST-MODIFIED:20230509T170233Z
UID:29211-1683455400-1683459000@www.trinitybemidji.org
SUMMARY:Sunday School
DESCRIPTION:
URL:https://www.trinitybemidji.org/event/sunday-school-52/
CATEGORIES:Meeting
END:VEVENT
BEGIN:VEVENT
DTSTART;TZID=America/Chicago:20230508T163000
DTEND;TZID=America/Chicago:20230508T173000
DTSTAMP:20260425T223023
CREATED:20230505T181558Z
LAST-MODIFIED:20230505T181558Z
UID:29201-1683563400-1683567000@www.trinitybemidji.org
SUMMARY:Active Christian Fellowship
DESCRIPTION:
URL:https://www.trinitybemidji.org/event/active-christian-fellowship-20/
CATEGORIES:Meeting
END:VEVENT
BEGIN:VEVENT
DTSTART;TZID=America/Chicago:20230508T170000
DTEND;TZID=America/Chicago:20230508T183000
DTSTAMP:20260425T223023
CREATED:20230509T165935Z
LAST-MODIFIED:20230509T165935Z
UID:29330-1683565200-1683570600@www.trinitybemidji.org
SUMMARY:Active Christian Fellowship
DESCRIPTION:
URL:https://www.trinitybemidji.org/event/active-christian-fellowship-21/
CATEGORIES:Meeting
END:VEVENT
BEGIN:VEVENT
DTSTART;TZID=America/Chicago:20230511T133000
DTEND;TZID=America/Chicago:20230511T143000
DTSTAMP:20260425T223023
CREATED:20230505T181633Z
LAST-MODIFIED:20230509T170218Z
UID:29210-1683811800-1683815400@www.trinitybemidji.org
SUMMARY:Hannah Circle
DESCRIPTION:
URL:https://www.trinitybemidji.org/event/hannah-circle-4/
CATEGORIES:Meeting
END:VEVENT
BEGIN:VEVENT
DTSTART;TZID=America/Chicago:20230514T090000
DTEND;TZID=America/Chicago:20230514T100000
DTSTAMP:20260425T223023
CREATED:20230505T181533Z
LAST-MODIFIED:20230509T165151Z
UID:29190-1684054800-1684058400@www.trinitybemidji.org
SUMMARY:Divine Worship
DESCRIPTION:
URL:https://www.trinitybemidji.org/event/divine-worship-78/
CATEGORIES:Meeting
END:VEVENT
BEGIN:VEVENT
DTSTART;TZID=America/Chicago:20230514T103000
DTEND;TZID=America/Chicago:20230514T113000
DTSTAMP:20260425T223023
CREATED:20230505T181540Z
LAST-MODIFIED:20230509T165515Z
UID:29194-1684060200-1684063800@www.trinitybemidji.org
SUMMARY:Bible Study
DESCRIPTION:
URL:https://www.trinitybemidji.org/event/bible-study-79/
CATEGORIES:Meeting
END:VEVENT
BEGIN:VEVENT
DTSTART;TZID=America/Chicago:20230514T103000
DTEND;TZID=America/Chicago:20230514T113000
DTSTAMP:20260425T223023
CREATED:20230505T181635Z
LAST-MODIFIED:20230509T170234Z
UID:29212-1684060200-1684063800@www.trinitybemidji.org
SUMMARY:Sunday School
DESCRIPTION:
URL:https://www.trinitybemidji.org/event/sunday-school-53/
CATEGORIES:Meeting
END:VEVENT
BEGIN:VEVENT
DTSTART;TZID=America/Chicago:20230515T170000
DTEND;TZID=America/Chicago:20230515T190000
DTSTAMP:20260425T223023
CREATED:20230505T181619Z
LAST-MODIFIED:20230509T170106Z
UID:29205-1684170000-1684177200@www.trinitybemidji.org
SUMMARY:Altar Circle
DESCRIPTION:
URL:https://www.trinitybemidji.org/event/altar-circle-12/
CATEGORIES:Meeting
END:VEVENT
BEGIN:VEVENT
DTSTART;TZID=America/Chicago:20230516T093000
DTEND;TZID=America/Chicago:20230516T223000
DTSTAMP:20260425T223023
CREATED:20230505T181621Z
LAST-MODIFIED:20230509T170203Z
UID:29209-1684229400-1684276200@www.trinitybemidji.org
SUMMARY:Eunice Circle
DESCRIPTION:
URL:https://www.trinitybemidji.org/event/eunice-circle-17/
CATEGORIES:Meeting
END:VEVENT
BEGIN:VEVENT
DTSTART;TZID=America/Chicago:20230517T173000
DTEND;TZID=America/Chicago:20230517T183000
DTSTAMP:20260425T223023
CREATED:20230505T181636Z
LAST-MODIFIED:20230509T170321Z
UID:29214-1684344600-1684348200@www.trinitybemidji.org
SUMMARY:TLC Spring Concert
DESCRIPTION:
URL:https://www.trinitybemidji.org/event/tlc-spring-concert/
CATEGORIES:Meeting
END:VEVENT
BEGIN:VEVENT
DTSTART;TZID=America/Chicago:20230518T090000
DTEND;TZID=America/Chicago:20230518T120000
DTSTAMP:20260425T223023
CREATED:20230505T181559Z
LAST-MODIFIED:20250320T151522Z
UID:29202-1684400400-1684411200@www.trinitybemidji.org
SUMMARY:Happy Quilters
DESCRIPTION:
URL:https://www.trinitybemidji.org/event/happy-quilters/
CATEGORIES:Meeting
END:VEVENT
BEGIN:VEVENT
DTSTART;TZID=America/Chicago:20230518T180000
DTEND;TZID=America/Chicago:20230518T190000
DTSTAMP:20260425T223023
CREATED:20230505T181543Z
LAST-MODIFIED:20230509T165834Z
UID:29198-1684432800-1684436400@www.trinitybemidji.org
SUMMARY:Church Boards
DESCRIPTION:
URL:https://www.trinitybemidji.org/event/church-boards-19/
CATEGORIES:Meeting
END:VEVENT
BEGIN:VEVENT
DTSTART;TZID=America/Chicago:20230518T190000
DTEND;TZID=America/Chicago:20230518T200000
DTSTAMP:20260425T223023
CREATED:20230505T181557Z
LAST-MODIFIED:20230509T165852Z
UID:29199-1684436400-1684440000@www.trinitybemidji.org
SUMMARY:Church Council
DESCRIPTION:
URL:https://www.trinitybemidji.org/event/church-council-17/
CATEGORIES:Meeting
END:VEVENT
BEGIN:VEVENT
DTSTART;TZID=America/Chicago:20230519T000000
DTEND;TZID=America/Chicago:20230519T000000
DTSTAMP:20260425T223023
CREATED:20230505T181742Z
LAST-MODIFIED:20230509T170333Z
UID:29217-1684454400-1684454400@www.trinitybemidji.org
SUMMARY:Last Day of Preschool
DESCRIPTION:
URL:https://www.trinitybemidji.org/event/last-day-of-preschool/
CATEGORIES:Meeting
END:VEVENT
BEGIN:VEVENT
DTSTART;TZID=America/Chicago:20230519T180000
DTEND;TZID=America/Chicago:20230519T200000
DTSTAMP:20260425T223023
CREATED:20230505T181740Z
LAST-MODIFIED:20230509T170332Z
UID:29216-1684519200-1684526400@www.trinitybemidji.org
SUMMARY:Lawn Clean-Up
DESCRIPTION:
URL:https://www.trinitybemidji.org/event/lawn-clean-up/
CATEGORIES:Meeting
END:VEVENT
BEGIN:VEVENT
DTSTART;TZID=America/Chicago:20230521T090000
DTEND;TZID=America/Chicago:20230521T100000
DTSTAMP:20260425T223023
CREATED:20230505T181534Z
LAST-MODIFIED:20230509T165151Z
UID:29191-1684659600-1684663200@www.trinitybemidji.org
SUMMARY:Divine Worship
DESCRIPTION:
URL:https://www.trinitybemidji.org/event/divine-worship-79/
CATEGORIES:Meeting
END:VEVENT
BEGIN:VEVENT
DTSTART;TZID=America/Chicago:20230521T103000
DTEND;TZID=America/Chicago:20230521T113000
DTSTAMP:20260425T223023
CREATED:20230505T181541Z
LAST-MODIFIED:20230509T165520Z
UID:29195-1684665000-1684668600@www.trinitybemidji.org
SUMMARY:Bible Study
DESCRIPTION:
URL:https://www.trinitybemidji.org/event/bible-study-80/
CATEGORIES:Meeting
END:VEVENT
BEGIN:VEVENT
DTSTART;TZID=America/Chicago:20230521T103000
DTEND;TZID=America/Chicago:20230521T113000
DTSTAMP:20260425T223023
CREATED:20230505T181636Z
LAST-MODIFIED:20230509T170234Z
UID:29213-1684665000-1684668600@www.trinitybemidji.org
SUMMARY:Sunday School
DESCRIPTION:
URL:https://www.trinitybemidji.org/event/sunday-school-54/
CATEGORIES:Meeting
END:VEVENT
BEGIN:VEVENT
DTSTART;TZID=America/Chicago:20230525T090000
DTEND;TZID=America/Chicago:20230525T100000
DTSTAMP:20260425T223023
CREATED:20230505T181559Z
LAST-MODIFIED:20230509T170005Z
UID:29203-1685005200-1685008800@www.trinitybemidji.org
SUMMARY:Happy Quilters
DESCRIPTION:
URL:https://www.trinitybemidji.org/event/happy-quilters-2/
CATEGORIES:Meeting
END:VEVENT
BEGIN:VEVENT
DTSTART;TZID=America/Chicago:20230526T000000
DTEND;TZID=America/Chicago:20230526T000000
DTSTAMP:20260425T223023
CREATED:20230505T181742Z
LAST-MODIFIED:20230509T170334Z
UID:29218-1685059200-1685059200@www.trinitybemidji.org
SUMMARY:Last Day of GTLC
DESCRIPTION:
URL:https://www.trinitybemidji.org/event/last-day-of-gtlc/
CATEGORIES:Meeting
END:VEVENT
BEGIN:VEVENT
DTSTART;TZID=America/Chicago:20230528T090000
DTEND;TZID=America/Chicago:20230528T100000
DTSTAMP:20260425T223023
CREATED:20230505T181535Z
LAST-MODIFIED:20230509T165153Z
UID:29192-1685264400-1685268000@www.trinitybemidji.org
SUMMARY:Divine Worship
DESCRIPTION:
URL:https://www.trinitybemidji.org/event/divine-worship-80/
CATEGORIES:Meeting
END:VEVENT
BEGIN:VEVENT
DTSTART;TZID=America/Chicago:20230528T103000
DTEND;TZID=America/Chicago:20230528T113000
DTSTAMP:20260425T223023
CREATED:20230505T181542Z
LAST-MODIFIED:20230509T165520Z
UID:29196-1685269800-1685273400@www.trinitybemidji.org
SUMMARY:Bible Study
DESCRIPTION:
URL:https://www.trinitybemidji.org/event/bible-study-81/
CATEGORIES:Meeting
END:VEVENT
BEGIN:VEVENT
DTSTART;TZID=America/Chicago:20230528T113000
DTEND;TZID=America/Chicago:20230528T123000
DTSTAMP:20260425T223023
CREATED:20230505T181557Z
LAST-MODIFIED:20230509T165917Z
UID:29200-1685273400-1685277000@www.trinitybemidji.org
SUMMARY:Christian Singles
DESCRIPTION:
URL:https://www.trinitybemidji.org/event/christian-singles-19/
CATEGORIES:Meeting
END:VEVENT
END:VCALENDAR