BEGIN:VCALENDAR
VERSION:2.0
PRODID:-//Trinity Lutheran Church - Bemidji - ECPv6.15.20//NONSGML v1.0//EN
CALSCALE:GREGORIAN
METHOD:PUBLISH
X-ORIGINAL-URL:https://www.trinitybemidji.org
X-WR-CALDESC:Events for Trinity Lutheran Church - Bemidji
REFRESH-INTERVAL;VALUE=DURATION:PT1H
X-Robots-Tag:noindex
X-PUBLISHED-TTL:PT1H
BEGIN:VTIMEZONE
TZID:America/Chicago
BEGIN:DAYLIGHT
TZOFFSETFROM:-0600
TZOFFSETTO:-0500
TZNAME:CDT
DTSTART:20220313T080000
END:DAYLIGHT
BEGIN:STANDARD
TZOFFSETFROM:-0500
TZOFFSETTO:-0600
TZNAME:CST
DTSTART:20221106T070000
END:STANDARD
BEGIN:DAYLIGHT
TZOFFSETFROM:-0600
TZOFFSETTO:-0500
TZNAME:CDT
DTSTART:20230312T080000
END:DAYLIGHT
BEGIN:STANDARD
TZOFFSETFROM:-0500
TZOFFSETTO:-0600
TZNAME:CST
DTSTART:20231105T070000
END:STANDARD
BEGIN:DAYLIGHT
TZOFFSETFROM:-0600
TZOFFSETTO:-0500
TZNAME:CDT
DTSTART:20240310T080000
END:DAYLIGHT
BEGIN:STANDARD
TZOFFSETFROM:-0500
TZOFFSETTO:-0600
TZNAME:CST
DTSTART:20241103T070000
END:STANDARD
END:VTIMEZONE
BEGIN:VEVENT
DTSTART;TZID=America/Chicago:20230801T123000
DTEND;TZID=America/Chicago:20230801T150000
DTSTAMP:20260425T164914
CREATED:20230728T150014Z
LAST-MODIFIED:20230728T150014Z
UID:29510-1690893000-1690902000@www.trinitybemidji.org
SUMMARY:Afternoon Guild & Ladies Aid Picnic
DESCRIPTION:
URL:https://www.trinitybemidji.org/event/afternoon-guild-ladies-aid-picnic/
END:VEVENT
BEGIN:VEVENT
DTSTART;TZID=America/Chicago:20230803T173000
DTEND;TZID=America/Chicago:20230803T183000
DTSTAMP:20260425T164914
CREATED:20230509T165818Z
LAST-MODIFIED:20230509T165818Z
UID:29303-1691083800-1691087400@www.trinitybemidji.org
SUMMARY:Board of Elders
DESCRIPTION:
URL:https://www.trinitybemidji.org/event/board-of-elders-25/
CATEGORIES:Meeting
END:VEVENT
BEGIN:VEVENT
DTSTART;TZID=America/Chicago:20230806T090000
DTEND;TZID=America/Chicago:20230806T100000
DTSTAMP:20260425T164914
CREATED:20230509T165216Z
LAST-MODIFIED:20230509T165216Z
UID:29245-1691312400-1691316000@www.trinitybemidji.org
SUMMARY:Divine Worship
DESCRIPTION:
URL:https://www.trinitybemidji.org/event/divine-worship-90/
CATEGORIES:Meeting
END:VEVENT
BEGIN:VEVENT
DTSTART;TZID=America/Chicago:20230806T103000
DTEND;TZID=America/Chicago:20230806T113000
DTSTAMP:20260425T164914
CREATED:20230509T165704Z
LAST-MODIFIED:20230509T165704Z
UID:29279-1691317800-1691321400@www.trinitybemidji.org
SUMMARY:Bible Study
DESCRIPTION:
URL:https://www.trinitybemidji.org/event/bible-study-91/
CATEGORIES:Meeting
END:VEVENT
BEGIN:VEVENT
DTSTART;TZID=America/Chicago:20230807T190000
DTEND;TZID=America/Chicago:20230807T200000
DTSTAMP:20260425T164914
CREATED:20230509T170053Z
LAST-MODIFIED:20230509T170053Z
UID:29356-1691434800-1691438400@www.trinitybemidji.org
SUMMARY:Men's Group
DESCRIPTION:
URL:https://www.trinitybemidji.org/event/mens-group-14/
CATEGORIES:Meeting
END:VEVENT
BEGIN:VEVENT
DTSTART;TZID=America/Chicago:20230813T090000
DTEND;TZID=America/Chicago:20230813T100000
DTSTAMP:20260425T164914
CREATED:20230509T165217Z
LAST-MODIFIED:20230509T165217Z
UID:29246-1691917200-1691920800@www.trinitybemidji.org
SUMMARY:Divine Worship
DESCRIPTION:
URL:https://www.trinitybemidji.org/event/divine-worship-91/
CATEGORIES:Meeting
END:VEVENT
BEGIN:VEVENT
DTSTART;TZID=America/Chicago:20230813T103000
DTEND;TZID=America/Chicago:20230813T113000
DTSTAMP:20260425T164914
CREATED:20230509T165705Z
LAST-MODIFIED:20230509T165705Z
UID:29280-1691922600-1691926200@www.trinitybemidji.org
SUMMARY:Bible Study
DESCRIPTION:
URL:https://www.trinitybemidji.org/event/bible-study-92/
CATEGORIES:Meeting
END:VEVENT
BEGIN:VEVENT
DTSTART;TZID=America/Chicago:20230813T103000
DTEND;TZID=America/Chicago:20230813T113000
DTSTAMP:20260425T164914
CREATED:20230728T145813Z
LAST-MODIFIED:20230728T145813Z
UID:29507-1691922600-1691926200@www.trinitybemidji.org
SUMMARY:Congregation Semi-Annual Meeting
DESCRIPTION:
URL:https://www.trinitybemidji.org/event/congregation-semi-annual-meeting/
END:VEVENT
BEGIN:VEVENT
DTSTART;TZID=America/Chicago:20230814T170000
DTEND;TZID=America/Chicago:20230814T183000
DTSTAMP:20260425T164914
CREATED:20230509T165949Z
LAST-MODIFIED:20230509T165949Z
UID:29333-1692032400-1692037800@www.trinitybemidji.org
SUMMARY:Active Christian Fellowship
DESCRIPTION:
URL:https://www.trinitybemidji.org/event/active-christian-fellowship-24/
CATEGORIES:Meeting
END:VEVENT
BEGIN:VEVENT
DTSTART;TZID=America/Chicago:20230817T090000
DTEND;TZID=America/Chicago:20230817T100000
DTSTAMP:20260425T164914
CREATED:20230509T170019Z
LAST-MODIFIED:20230509T170019Z
UID:29344-1692262800-1692266400@www.trinitybemidji.org
SUMMARY:Happy Quilters
DESCRIPTION:
URL:https://www.trinitybemidji.org/event/happy-quilters-7/
CATEGORIES:Meeting
END:VEVENT
BEGIN:VEVENT
DTSTART;TZID=America/Chicago:20230820T090000
DTEND;TZID=America/Chicago:20230820T100000
DTSTAMP:20260425T164914
CREATED:20230509T165229Z
LAST-MODIFIED:20230509T165229Z
UID:29247-1692522000-1692525600@www.trinitybemidji.org
SUMMARY:Divine Worship
DESCRIPTION:
URL:https://www.trinitybemidji.org/event/divine-worship-92/
CATEGORIES:Meeting
END:VEVENT
BEGIN:VEVENT
DTSTART;TZID=America/Chicago:20230820T103000
DTEND;TZID=America/Chicago:20230820T113000
DTSTAMP:20260425T164914
CREATED:20230509T165706Z
LAST-MODIFIED:20230509T165706Z
UID:29281-1692527400-1692531000@www.trinitybemidji.org
SUMMARY:Bible Study
DESCRIPTION:
URL:https://www.trinitybemidji.org/event/bible-study-93/
CATEGORIES:Meeting
END:VEVENT
BEGIN:VEVENT
DTSTART;TZID=America/Chicago:20230821T170000
DTEND;TZID=America/Chicago:20230821T190000
DTSTAMP:20260425T164914
CREATED:20230509T170119Z
LAST-MODIFIED:20230509T170119Z
UID:29364-1692637200-1692644400@www.trinitybemidji.org
SUMMARY:Altar Circle
DESCRIPTION:
URL:https://www.trinitybemidji.org/event/altar-circle-15/
CATEGORIES:Meeting
END:VEVENT
BEGIN:VEVENT
DTSTART;TZID=America/Chicago:20230823T173000
DTEND;TZID=America/Chicago:20230823T183000
DTSTAMP:20260425T164914
CREATED:20230728T145637Z
LAST-MODIFIED:20230728T145723Z
UID:29504-1692811800-1692815400@www.trinitybemidji.org
SUMMARY:TLC Preschool "Back to School" Night
DESCRIPTION:
URL:https://www.trinitybemidji.org/event/semi-annual-congregation-meeting/
END:VEVENT
BEGIN:VEVENT
DTSTART;TZID=America/Chicago:20230824T090000
DTEND;TZID=America/Chicago:20230824T100000
DTSTAMP:20260425T164914
CREATED:20230509T170020Z
LAST-MODIFIED:20230509T170020Z
UID:29345-1692867600-1692871200@www.trinitybemidji.org
SUMMARY:Happy Quilters
DESCRIPTION:
URL:https://www.trinitybemidji.org/event/happy-quilters-8/
CATEGORIES:Meeting
END:VEVENT
BEGIN:VEVENT
DTSTART;TZID=America/Chicago:20230827T090000
DTEND;TZID=America/Chicago:20230827T100000
DTSTAMP:20260425T164914
CREATED:20230509T165231Z
LAST-MODIFIED:20230509T165231Z
UID:29248-1693126800-1693130400@www.trinitybemidji.org
SUMMARY:Divine Worship
DESCRIPTION:
URL:https://www.trinitybemidji.org/event/divine-worship-93/
CATEGORIES:Meeting
END:VEVENT
BEGIN:VEVENT
DTSTART;TZID=America/Chicago:20230827T103000
DTEND;TZID=America/Chicago:20230827T113000
DTSTAMP:20260425T164914
CREATED:20230509T165717Z
LAST-MODIFIED:20230509T165717Z
UID:29282-1693132200-1693135800@www.trinitybemidji.org
SUMMARY:Bible Study
DESCRIPTION:
URL:https://www.trinitybemidji.org/event/bible-study-94/
CATEGORIES:Meeting
END:VEVENT
BEGIN:VEVENT
DTSTART;TZID=America/Chicago:20230827T113000
DTEND;TZID=America/Chicago:20230827T123000
DTSTAMP:20260425T164914
CREATED:20230509T165920Z
LAST-MODIFIED:20230509T165920Z
UID:29325-1693135800-1693139400@www.trinitybemidji.org
SUMMARY:Christian Singles
DESCRIPTION:
URL:https://www.trinitybemidji.org/event/christian-singles-22/
CATEGORIES:Meeting
END:VEVENT
END:VCALENDAR