BEGIN:VCALENDAR
VERSION:2.0
PRODID:-//Trinity Lutheran Church - Bemidji - ECPv6.15.20//NONSGML v1.0//EN
CALSCALE:GREGORIAN
METHOD:PUBLISH
X-WR-CALNAME:Trinity Lutheran Church - Bemidji
X-ORIGINAL-URL:https://www.trinitybemidji.org
X-WR-CALDESC:Events for Trinity Lutheran Church - Bemidji
REFRESH-INTERVAL;VALUE=DURATION:PT1H
X-Robots-Tag:noindex
X-PUBLISHED-TTL:PT1H
BEGIN:VTIMEZONE
TZID:America/Chicago
BEGIN:DAYLIGHT
TZOFFSETFROM:-0600
TZOFFSETTO:-0500
TZNAME:CDT
DTSTART:20220313T080000
END:DAYLIGHT
BEGIN:STANDARD
TZOFFSETFROM:-0500
TZOFFSETTO:-0600
TZNAME:CST
DTSTART:20221106T070000
END:STANDARD
BEGIN:DAYLIGHT
TZOFFSETFROM:-0600
TZOFFSETTO:-0500
TZNAME:CDT
DTSTART:20230312T080000
END:DAYLIGHT
BEGIN:STANDARD
TZOFFSETFROM:-0500
TZOFFSETTO:-0600
TZNAME:CST
DTSTART:20231105T070000
END:STANDARD
BEGIN:DAYLIGHT
TZOFFSETFROM:-0600
TZOFFSETTO:-0500
TZNAME:CDT
DTSTART:20240310T080000
END:DAYLIGHT
BEGIN:STANDARD
TZOFFSETFROM:-0500
TZOFFSETTO:-0600
TZNAME:CST
DTSTART:20241103T070000
END:STANDARD
END:VTIMEZONE
BEGIN:VEVENT
DTSTART;TZID=America/Chicago:20230903T090000
DTEND;TZID=America/Chicago:20230903T100000
DTSTAMP:20260425T150752
CREATED:20230509T165231Z
LAST-MODIFIED:20230509T165231Z
UID:29249-1693731600-1693735200@www.trinitybemidji.org
SUMMARY:Divine Worship
DESCRIPTION:
URL:https://www.trinitybemidji.org/event/divine-worship-94/
CATEGORIES:Meeting
END:VEVENT
BEGIN:VEVENT
DTSTART;TZID=America/Chicago:20230903T103000
DTEND;TZID=America/Chicago:20230903T113000
DTSTAMP:20260425T150752
CREATED:20230509T165718Z
LAST-MODIFIED:20230509T165718Z
UID:29283-1693737000-1693740600@www.trinitybemidji.org
SUMMARY:Bible Study
DESCRIPTION:
URL:https://www.trinitybemidji.org/event/bible-study-95/
CATEGORIES:Meeting
END:VEVENT
BEGIN:VEVENT
DTSTART;TZID=America/Chicago:20230904T190000
DTEND;TZID=America/Chicago:20230904T200000
DTSTAMP:20260425T150752
CREATED:20230509T170102Z
LAST-MODIFIED:20230509T170102Z
UID:29357-1693854000-1693857600@www.trinitybemidji.org
SUMMARY:Men's Group
DESCRIPTION:
URL:https://www.trinitybemidji.org/event/mens-group-15/
CATEGORIES:Meeting
END:VEVENT
BEGIN:VEVENT
DTSTART;TZID=America/Chicago:20230905T133000
DTEND;TZID=America/Chicago:20230905T150000
DTSTAMP:20260425T150752
CREATED:20230509T170155Z
LAST-MODIFIED:20230509T170155Z
UID:29375-1693920600-1693926000@www.trinitybemidji.org
SUMMARY:Afternoon Guild
DESCRIPTION:
URL:https://www.trinitybemidji.org/event/afternoon-guild-4/
CATEGORIES:Meeting
END:VEVENT
BEGIN:VEVENT
DTSTART;TZID=America/Chicago:20230906T173000
DTEND;TZID=America/Chicago:20230906T193000
DTSTAMP:20260425T150752
CREATED:20230825T134606Z
LAST-MODIFIED:20230825T134606Z
UID:29548-1694021400-1694028600@www.trinitybemidji.org
SUMMARY:Confirmation Meeting & Acolyte Training
DESCRIPTION:
URL:https://www.trinitybemidji.org/event/confirmation-meeting-acolyte-training/
END:VEVENT
BEGIN:VEVENT
DTSTART;TZID=America/Chicago:20230907T133000
DTEND;TZID=America/Chicago:20230907T150000
DTSTAMP:20260425T150752
CREATED:20230509T170135Z
LAST-MODIFIED:20230509T170135Z
UID:29370-1694093400-1694098800@www.trinitybemidji.org
SUMMARY:Ladies Aid
DESCRIPTION:
URL:https://www.trinitybemidji.org/event/ladies-aid-21/
CATEGORIES:Meeting
END:VEVENT
BEGIN:VEVENT
DTSTART;TZID=America/Chicago:20230907T173000
DTEND;TZID=America/Chicago:20230907T183000
DTSTAMP:20260425T150752
CREATED:20230509T165819Z
LAST-MODIFIED:20230509T165819Z
UID:29304-1694107800-1694111400@www.trinitybemidji.org
SUMMARY:Board of Elders
DESCRIPTION:
URL:https://www.trinitybemidji.org/event/board-of-elders-26/
CATEGORIES:Meeting
END:VEVENT
BEGIN:VEVENT
DTSTART;TZID=America/Chicago:20230910T090000
DTEND;TZID=America/Chicago:20230910T100000
DTSTAMP:20260425T150752
CREATED:20230509T165232Z
LAST-MODIFIED:20230509T165232Z
UID:29250-1694336400-1694340000@www.trinitybemidji.org
SUMMARY:Divine Worship
DESCRIPTION:
URL:https://www.trinitybemidji.org/event/divine-worship-95/
CATEGORIES:Meeting
END:VEVENT
BEGIN:VEVENT
DTSTART;TZID=America/Chicago:20230910T103000
DTEND;TZID=America/Chicago:20230910T113000
DTSTAMP:20260425T150752
CREATED:20230509T165719Z
LAST-MODIFIED:20230509T165719Z
UID:29284-1694341800-1694345400@www.trinitybemidji.org
SUMMARY:Bible Study
DESCRIPTION:
URL:https://www.trinitybemidji.org/event/bible-study-96/
CATEGORIES:Meeting
END:VEVENT
BEGIN:VEVENT
DTSTART;TZID=America/Chicago:20230910T103000
DTEND;TZID=America/Chicago:20230910T113000
DTSTAMP:20260425T150752
CREATED:20230509T170235Z
LAST-MODIFIED:20230509T170235Z
UID:29391-1694341800-1694345400@www.trinitybemidji.org
SUMMARY:Sunday School
DESCRIPTION:
URL:https://www.trinitybemidji.org/event/sunday-school-55/
CATEGORIES:Meeting
END:VEVENT
BEGIN:VEVENT
DTSTART;TZID=America/Chicago:20230910T103000
DTEND;TZID=America/Chicago:20230910T120000
DTSTAMP:20260425T150752
CREATED:20230825T134415Z
LAST-MODIFIED:20230825T134415Z
UID:29544-1694341800-1694347200@www.trinitybemidji.org
SUMMARY:Sunday School Kick-off - Picnic & Games
DESCRIPTION:
URL:https://www.trinitybemidji.org/event/sunday-school-kick-off-picnic-games/
END:VEVENT
BEGIN:VEVENT
DTSTART;TZID=America/Chicago:20230911T170000
DTEND;TZID=America/Chicago:20230911T183000
DTSTAMP:20260425T150752
CREATED:20230509T165951Z
LAST-MODIFIED:20230509T165951Z
UID:29334-1694451600-1694457000@www.trinitybemidji.org
SUMMARY:Active Christian Fellowship
DESCRIPTION:
URL:https://www.trinitybemidji.org/event/active-christian-fellowship-25/
CATEGORIES:Meeting
END:VEVENT
BEGIN:VEVENT
DTSTART;TZID=America/Chicago:20230914T133000
DTEND;TZID=America/Chicago:20230914T143000
DTSTAMP:20260425T150752
CREATED:20230509T170219Z
LAST-MODIFIED:20230509T170219Z
UID:29384-1694698200-1694701800@www.trinitybemidji.org
SUMMARY:Hannah Circle
DESCRIPTION:
URL:https://www.trinitybemidji.org/event/hannah-circle-5/
CATEGORIES:Meeting
END:VEVENT
BEGIN:VEVENT
DTSTART;TZID=America/Chicago:20230917T090000
DTEND;TZID=America/Chicago:20230917T100000
DTSTAMP:20260425T150752
CREATED:20230509T165233Z
LAST-MODIFIED:20230509T165233Z
UID:29251-1694941200-1694944800@www.trinitybemidji.org
SUMMARY:Divine Worship
DESCRIPTION:
URL:https://www.trinitybemidji.org/event/divine-worship-96/
CATEGORIES:Meeting
END:VEVENT
BEGIN:VEVENT
DTSTART;TZID=America/Chicago:20230917T103000
DTEND;TZID=America/Chicago:20230917T113000
DTSTAMP:20260425T150752
CREATED:20230509T165720Z
LAST-MODIFIED:20230509T165720Z
UID:29285-1694946600-1694950200@www.trinitybemidji.org
SUMMARY:Bible Study
DESCRIPTION:
URL:https://www.trinitybemidji.org/event/bible-study-97/
CATEGORIES:Meeting
END:VEVENT
BEGIN:VEVENT
DTSTART;TZID=America/Chicago:20230917T103000
DTEND;TZID=America/Chicago:20230917T113000
DTSTAMP:20260425T150752
CREATED:20230509T170247Z
LAST-MODIFIED:20230509T170247Z
UID:29392-1694946600-1694950200@www.trinitybemidji.org
SUMMARY:Sunday School
DESCRIPTION:
URL:https://www.trinitybemidji.org/event/sunday-school-56/
CATEGORIES:Meeting
END:VEVENT
BEGIN:VEVENT
DTSTART;TZID=America/Chicago:20230918T170000
DTEND;TZID=America/Chicago:20230918T190000
DTSTAMP:20260425T150752
CREATED:20230509T170119Z
LAST-MODIFIED:20230509T170119Z
UID:29365-1695056400-1695063600@www.trinitybemidji.org
SUMMARY:Altar Circle
DESCRIPTION:
URL:https://www.trinitybemidji.org/event/altar-circle-16/
CATEGORIES:Meeting
END:VEVENT
BEGIN:VEVENT
DTSTART;TZID=America/Chicago:20230919T093000
DTEND;TZID=America/Chicago:20230919T223000
DTSTAMP:20260425T150752
CREATED:20230509T170204Z
LAST-MODIFIED:20230509T170204Z
UID:29379-1695115800-1695162600@www.trinitybemidji.org
SUMMARY:Eunice Circle
DESCRIPTION:
URL:https://www.trinitybemidji.org/event/eunice-circle-18/
CATEGORIES:Meeting
END:VEVENT
BEGIN:VEVENT
DTSTART;TZID=America/Chicago:20230920T173000
DTEND;TZID=America/Chicago:20230920T190000
DTSTAMP:20260425T150752
CREATED:20230825T134510Z
LAST-MODIFIED:20230825T134510Z
UID:29546-1695231000-1695236400@www.trinitybemidji.org
SUMMARY:Youth Group Supper & Service Project
DESCRIPTION:
URL:https://www.trinitybemidji.org/event/youth-group-supper-service-project/
END:VEVENT
BEGIN:VEVENT
DTSTART;TZID=America/Chicago:20230921T090000
DTEND;TZID=America/Chicago:20230921T100000
DTSTAMP:20260425T150752
CREATED:20230509T170021Z
LAST-MODIFIED:20230509T170021Z
UID:29346-1695286800-1695290400@www.trinitybemidji.org
SUMMARY:Happy Quilters
DESCRIPTION:
URL:https://www.trinitybemidji.org/event/happy-quilters-9/
CATEGORIES:Meeting
END:VEVENT
BEGIN:VEVENT
DTSTART;TZID=America/Chicago:20230921T180000
DTEND;TZID=America/Chicago:20230921T190000
DTSTAMP:20260425T150752
CREATED:20230509T165837Z
LAST-MODIFIED:20230509T165837Z
UID:29311-1695319200-1695322800@www.trinitybemidji.org
SUMMARY:Church Boards
DESCRIPTION:
URL:https://www.trinitybemidji.org/event/church-boards-22/
CATEGORIES:Meeting
END:VEVENT
BEGIN:VEVENT
DTSTART;TZID=America/Chicago:20230921T180000
DTEND;TZID=America/Chicago:20230921T190000
DTSTAMP:20260425T150752
CREATED:20230509T165903Z
LAST-MODIFIED:20230509T165903Z
UID:29318-1695319200-1695322800@www.trinitybemidji.org
SUMMARY:Church Council
DESCRIPTION:
URL:https://www.trinitybemidji.org/event/church-council-20/
CATEGORIES:Meeting
END:VEVENT
BEGIN:VEVENT
DTSTART;TZID=America/Chicago:20230924T090000
DTEND;TZID=America/Chicago:20230924T100000
DTSTAMP:20260425T150752
CREATED:20230509T165244Z
LAST-MODIFIED:20230509T165244Z
UID:29252-1695546000-1695549600@www.trinitybemidji.org
SUMMARY:Divine Worship
DESCRIPTION:
URL:https://www.trinitybemidji.org/event/divine-worship-97/
CATEGORIES:Meeting
END:VEVENT
BEGIN:VEVENT
DTSTART;TZID=America/Chicago:20230924T103000
DTEND;TZID=America/Chicago:20230924T113000
DTSTAMP:20260425T150752
CREATED:20230509T165721Z
LAST-MODIFIED:20230509T165721Z
UID:29286-1695551400-1695555000@www.trinitybemidji.org
SUMMARY:Bible Study
DESCRIPTION:
URL:https://www.trinitybemidji.org/event/bible-study-98/
CATEGORIES:Meeting
END:VEVENT
BEGIN:VEVENT
DTSTART;TZID=America/Chicago:20230924T103000
DTEND;TZID=America/Chicago:20230924T113000
DTSTAMP:20260425T150752
CREATED:20230509T170249Z
LAST-MODIFIED:20230509T170249Z
UID:29393-1695551400-1695555000@www.trinitybemidji.org
SUMMARY:Sunday School
DESCRIPTION:
URL:https://www.trinitybemidji.org/event/sunday-school-57/
CATEGORIES:Meeting
END:VEVENT
BEGIN:VEVENT
DTSTART;TZID=America/Chicago:20230924T113000
DTEND;TZID=America/Chicago:20230924T123000
DTSTAMP:20260425T150752
CREATED:20230509T165921Z
LAST-MODIFIED:20230509T165921Z
UID:29326-1695555000-1695558600@www.trinitybemidji.org
SUMMARY:Christian Singles
DESCRIPTION:
URL:https://www.trinitybemidji.org/event/christian-singles-23/
CATEGORIES:Meeting
END:VEVENT
BEGIN:VEVENT
DTSTART;TZID=America/Chicago:20230928T090000
DTEND;TZID=America/Chicago:20230928T100000
DTSTAMP:20260425T150752
CREATED:20230509T170032Z
LAST-MODIFIED:20230509T170032Z
UID:29347-1695891600-1695895200@www.trinitybemidji.org
SUMMARY:Happy Quilters
DESCRIPTION:
URL:https://www.trinitybemidji.org/event/happy-quilters-10/
CATEGORIES:Meeting
END:VEVENT
END:VCALENDAR