BEGIN:VCALENDAR
VERSION:2.0
PRODID:-//Trinity Lutheran Church - Bemidji - ECPv6.15.20//NONSGML v1.0//EN
CALSCALE:GREGORIAN
METHOD:PUBLISH
X-ORIGINAL-URL:https://www.trinitybemidji.org
X-WR-CALDESC:Events for Trinity Lutheran Church - Bemidji
REFRESH-INTERVAL;VALUE=DURATION:PT1H
X-Robots-Tag:noindex
X-PUBLISHED-TTL:PT1H
BEGIN:VTIMEZONE
TZID:America/Chicago
BEGIN:DAYLIGHT
TZOFFSETFROM:-0600
TZOFFSETTO:-0500
TZNAME:CDT
DTSTART:20220313T080000
END:DAYLIGHT
BEGIN:STANDARD
TZOFFSETFROM:-0500
TZOFFSETTO:-0600
TZNAME:CST
DTSTART:20221106T070000
END:STANDARD
BEGIN:DAYLIGHT
TZOFFSETFROM:-0600
TZOFFSETTO:-0500
TZNAME:CDT
DTSTART:20230312T080000
END:DAYLIGHT
BEGIN:STANDARD
TZOFFSETFROM:-0500
TZOFFSETTO:-0600
TZNAME:CST
DTSTART:20231105T070000
END:STANDARD
BEGIN:DAYLIGHT
TZOFFSETFROM:-0600
TZOFFSETTO:-0500
TZNAME:CDT
DTSTART:20240310T080000
END:DAYLIGHT
BEGIN:STANDARD
TZOFFSETFROM:-0500
TZOFFSETTO:-0600
TZNAME:CST
DTSTART:20241103T070000
END:STANDARD
END:VTIMEZONE
BEGIN:VEVENT
DTSTART;TZID=America/Chicago:20231001T090000
DTEND;TZID=America/Chicago:20231001T100000
DTSTAMP:20260425T131148
CREATED:20230509T165246Z
LAST-MODIFIED:20230509T165246Z
UID:29253-1696150800-1696154400@www.trinitybemidji.org
SUMMARY:Divine Worship
DESCRIPTION:
URL:https://www.trinitybemidji.org/event/divine-worship-98/
CATEGORIES:Meeting
END:VEVENT
BEGIN:VEVENT
DTSTART;TZID=America/Chicago:20231001T103000
DTEND;TZID=America/Chicago:20231001T113000
DTSTAMP:20260425T131148
CREATED:20230509T165732Z
LAST-MODIFIED:20230509T165732Z
UID:29287-1696156200-1696159800@www.trinitybemidji.org
SUMMARY:Bible Study
DESCRIPTION:
URL:https://www.trinitybemidji.org/event/bible-study-99/
CATEGORIES:Meeting
END:VEVENT
BEGIN:VEVENT
DTSTART;TZID=America/Chicago:20231001T103000
DTEND;TZID=America/Chicago:20231001T113000
DTSTAMP:20260425T131148
CREATED:20230509T170249Z
LAST-MODIFIED:20230509T170249Z
UID:29394-1696156200-1696159800@www.trinitybemidji.org
SUMMARY:Sunday School
DESCRIPTION:
URL:https://www.trinitybemidji.org/event/sunday-school-58/
CATEGORIES:Meeting
END:VEVENT
BEGIN:VEVENT
DTSTART;TZID=America/Chicago:20231002T190000
DTEND;TZID=America/Chicago:20231002T200000
DTSTAMP:20260425T131148
CREATED:20230509T170103Z
LAST-MODIFIED:20230509T170103Z
UID:29358-1696273200-1696276800@www.trinitybemidji.org
SUMMARY:Men's Group
DESCRIPTION:
URL:https://www.trinitybemidji.org/event/mens-group-16/
CATEGORIES:Meeting
END:VEVENT
BEGIN:VEVENT
DTSTART;TZID=America/Chicago:20231003T133000
DTEND;TZID=America/Chicago:20231003T150000
DTSTAMP:20260425T131148
CREATED:20230509T170156Z
LAST-MODIFIED:20230509T170156Z
UID:29376-1696339800-1696345200@www.trinitybemidji.org
SUMMARY:Afternoon Guild
DESCRIPTION:
URL:https://www.trinitybemidji.org/event/afternoon-guild-5/
CATEGORIES:Meeting
END:VEVENT
BEGIN:VEVENT
DTSTART;TZID=America/Chicago:20231005T133000
DTEND;TZID=America/Chicago:20231005T150000
DTSTAMP:20260425T131148
CREATED:20230509T170135Z
LAST-MODIFIED:20230509T170135Z
UID:29371-1696512600-1696518000@www.trinitybemidji.org
SUMMARY:Ladies Aid
DESCRIPTION:
URL:https://www.trinitybemidji.org/event/ladies-aid-22/
CATEGORIES:Meeting
END:VEVENT
BEGIN:VEVENT
DTSTART;TZID=America/Chicago:20231005T173000
DTEND;TZID=America/Chicago:20231005T183000
DTSTAMP:20260425T131148
CREATED:20230509T165820Z
LAST-MODIFIED:20230509T165820Z
UID:29305-1696527000-1696530600@www.trinitybemidji.org
SUMMARY:Board of Elders
DESCRIPTION:
URL:https://www.trinitybemidji.org/event/board-of-elders-27/
CATEGORIES:Meeting
END:VEVENT
BEGIN:VEVENT
DTSTART;TZID=America/Chicago:20231008T090000
DTEND;TZID=America/Chicago:20231008T100000
DTSTAMP:20260425T131148
CREATED:20230509T165247Z
LAST-MODIFIED:20230509T165247Z
UID:29254-1696755600-1696759200@www.trinitybemidji.org
SUMMARY:Divine Worship
DESCRIPTION:
URL:https://www.trinitybemidji.org/event/divine-worship-99/
CATEGORIES:Meeting
END:VEVENT
BEGIN:VEVENT
DTSTART;TZID=America/Chicago:20231008T103000
DTEND;TZID=America/Chicago:20231008T113000
DTSTAMP:20260425T131148
CREATED:20230509T165733Z
LAST-MODIFIED:20230509T165733Z
UID:29288-1696761000-1696764600@www.trinitybemidji.org
SUMMARY:Bible Study
DESCRIPTION:
URL:https://www.trinitybemidji.org/event/bible-study-100/
CATEGORIES:Meeting
END:VEVENT
BEGIN:VEVENT
DTSTART;TZID=America/Chicago:20231008T103000
DTEND;TZID=America/Chicago:20231008T113000
DTSTAMP:20260425T131148
CREATED:20230509T170250Z
LAST-MODIFIED:20230509T170250Z
UID:29395-1696761000-1696764600@www.trinitybemidji.org
SUMMARY:Sunday School
DESCRIPTION:
URL:https://www.trinitybemidji.org/event/sunday-school-59/
CATEGORIES:Meeting
END:VEVENT
BEGIN:VEVENT
DTSTART;TZID=America/Chicago:20231009T170000
DTEND;TZID=America/Chicago:20231009T183000
DTSTAMP:20260425T131148
CREATED:20230509T165952Z
LAST-MODIFIED:20230509T165952Z
UID:29335-1696870800-1696876200@www.trinitybemidji.org
SUMMARY:Active Christian Fellowship
DESCRIPTION:
URL:https://www.trinitybemidji.org/event/active-christian-fellowship-26/
CATEGORIES:Meeting
END:VEVENT
BEGIN:VEVENT
DTSTART;TZID=America/Chicago:20231012T133000
DTEND;TZID=America/Chicago:20231012T143000
DTSTAMP:20260425T131148
CREATED:20230509T170220Z
LAST-MODIFIED:20230509T170220Z
UID:29385-1697117400-1697121000@www.trinitybemidji.org
SUMMARY:Hannah Circle
DESCRIPTION:
URL:https://www.trinitybemidji.org/event/hannah-circle-6/
CATEGORIES:Meeting
END:VEVENT
BEGIN:VEVENT
DTSTART;TZID=America/Chicago:20231015T090000
DTEND;TZID=America/Chicago:20231015T100000
DTSTAMP:20260425T131148
CREATED:20230509T165249Z
LAST-MODIFIED:20230509T165249Z
UID:29255-1697360400-1697364000@www.trinitybemidji.org
SUMMARY:Divine Worship
DESCRIPTION:
URL:https://www.trinitybemidji.org/event/divine-worship-100/
CATEGORIES:Meeting
END:VEVENT
BEGIN:VEVENT
DTSTART;TZID=America/Chicago:20231015T103000
DTEND;TZID=America/Chicago:20231015T113000
DTSTAMP:20260425T131148
CREATED:20230509T165734Z
LAST-MODIFIED:20230509T165734Z
UID:29289-1697365800-1697369400@www.trinitybemidji.org
SUMMARY:Bible Study
DESCRIPTION:
URL:https://www.trinitybemidji.org/event/bible-study-101/
CATEGORIES:Meeting
END:VEVENT
BEGIN:VEVENT
DTSTART;TZID=America/Chicago:20231015T103000
DTEND;TZID=America/Chicago:20231015T113000
DTSTAMP:20260425T131148
CREATED:20230509T170251Z
LAST-MODIFIED:20230509T170251Z
UID:29396-1697365800-1697369400@www.trinitybemidji.org
SUMMARY:Sunday School
DESCRIPTION:
URL:https://www.trinitybemidji.org/event/sunday-school-60/
CATEGORIES:Meeting
END:VEVENT
BEGIN:VEVENT
DTSTART;TZID=America/Chicago:20231016T170000
DTEND;TZID=America/Chicago:20231016T190000
DTSTAMP:20260425T131148
CREATED:20230509T170120Z
LAST-MODIFIED:20230509T170120Z
UID:29366-1697475600-1697482800@www.trinitybemidji.org
SUMMARY:Altar Circle
DESCRIPTION:
URL:https://www.trinitybemidji.org/event/altar-circle-17/
CATEGORIES:Meeting
END:VEVENT
BEGIN:VEVENT
DTSTART;TZID=America/Chicago:20231017T093000
DTEND;TZID=America/Chicago:20231017T223000
DTSTAMP:20260425T131148
CREATED:20230509T170205Z
LAST-MODIFIED:20230509T170205Z
UID:29380-1697535000-1697581800@www.trinitybemidji.org
SUMMARY:Eunice Circle
DESCRIPTION:
URL:https://www.trinitybemidji.org/event/eunice-circle-19/
CATEGORIES:Meeting
END:VEVENT
BEGIN:VEVENT
DTSTART;TZID=America/Chicago:20231019T090000
DTEND;TZID=America/Chicago:20231019T100000
DTSTAMP:20260425T131148
CREATED:20230509T170034Z
LAST-MODIFIED:20230509T170034Z
UID:29348-1697706000-1697709600@www.trinitybemidji.org
SUMMARY:Happy Quilters
DESCRIPTION:
URL:https://www.trinitybemidji.org/event/happy-quilters-11/
CATEGORIES:Meeting
END:VEVENT
BEGIN:VEVENT
DTSTART;TZID=America/Chicago:20231019T180000
DTEND;TZID=America/Chicago:20231019T190000
DTSTAMP:20260425T131148
CREATED:20230509T165847Z
LAST-MODIFIED:20230509T165847Z
UID:29312-1697738400-1697742000@www.trinitybemidji.org
SUMMARY:Church Boards
DESCRIPTION:
URL:https://www.trinitybemidji.org/event/church-boards-23/
CATEGORIES:Meeting
END:VEVENT
BEGIN:VEVENT
DTSTART;TZID=America/Chicago:20231019T180000
DTEND;TZID=America/Chicago:20231019T190000
DTSTAMP:20260425T131148
CREATED:20230509T165903Z
LAST-MODIFIED:20230509T165903Z
UID:29319-1697738400-1697742000@www.trinitybemidji.org
SUMMARY:Church Council
DESCRIPTION:
URL:https://www.trinitybemidji.org/event/church-council-21/
CATEGORIES:Meeting
END:VEVENT
BEGIN:VEVENT
DTSTART;TZID=America/Chicago:20231021T080000
DTEND;TZID=America/Chicago:20231021T140000
DTSTAMP:20260425T131148
CREATED:20231011T183146Z
LAST-MODIFIED:20231011T183146Z
UID:29609-1697875200-1697896800@www.trinitybemidji.org
SUMMARY:TLC Preschool/Childcare Rummage Sale
DESCRIPTION:
URL:https://www.trinitybemidji.org/event/tlc-preschool-childcare-rummage-sale/
END:VEVENT
BEGIN:VEVENT
DTSTART;TZID=America/Chicago:20231022T090000
DTEND;TZID=America/Chicago:20231022T100000
DTSTAMP:20260425T131148
CREATED:20230509T165252Z
LAST-MODIFIED:20230509T165252Z
UID:29256-1697965200-1697968800@www.trinitybemidji.org
SUMMARY:Divine Worship
DESCRIPTION:
URL:https://www.trinitybemidji.org/event/divine-worship-101/
CATEGORIES:Meeting
END:VEVENT
BEGIN:VEVENT
DTSTART;TZID=America/Chicago:20231022T103000
DTEND;TZID=America/Chicago:20231022T113000
DTSTAMP:20260425T131148
CREATED:20230509T165735Z
LAST-MODIFIED:20230509T165735Z
UID:29290-1697970600-1697974200@www.trinitybemidji.org
SUMMARY:Bible Study
DESCRIPTION:
URL:https://www.trinitybemidji.org/event/bible-study-102/
CATEGORIES:Meeting
END:VEVENT
BEGIN:VEVENT
DTSTART;TZID=America/Chicago:20231022T103000
DTEND;TZID=America/Chicago:20231022T113000
DTSTAMP:20260425T131148
CREATED:20230509T170303Z
LAST-MODIFIED:20230509T170303Z
UID:29397-1697970600-1697974200@www.trinitybemidji.org
SUMMARY:Sunday School
DESCRIPTION:
URL:https://www.trinitybemidji.org/event/sunday-school-61/
CATEGORIES:Meeting
END:VEVENT
BEGIN:VEVENT
DTSTART;TZID=America/Chicago:20231023T080000
DTEND;TZID=America/Chicago:20231023T110000
DTSTAMP:20260425T131148
CREATED:20231011T182824Z
LAST-MODIFIED:20231011T182824Z
UID:29605-1698048000-1698058800@www.trinitybemidji.org
SUMMARY:Orphan Grain Train Pickup
DESCRIPTION:
URL:https://www.trinitybemidji.org/event/orphan-grain-train-pickup/
END:VEVENT
BEGIN:VEVENT
DTSTART;TZID=America/Chicago:20231026T090000
DTEND;TZID=America/Chicago:20231026T100000
DTSTAMP:20260425T131148
CREATED:20230509T170034Z
LAST-MODIFIED:20230509T170034Z
UID:29349-1698310800-1698314400@www.trinitybemidji.org
SUMMARY:Happy Quilters
DESCRIPTION:
URL:https://www.trinitybemidji.org/event/happy-quilters-12/
CATEGORIES:Meeting
END:VEVENT
BEGIN:VEVENT
DTSTART;TZID=America/Chicago:20231028T103000
DTEND;TZID=America/Chicago:20231028T150000
DTSTAMP:20260425T131148
CREATED:20231011T182929Z
LAST-MODIFIED:20231011T182929Z
UID:29607-1698489000-1698505200@www.trinitybemidji.org
SUMMARY:Circuit Convocation
DESCRIPTION:
URL:https://www.trinitybemidji.org/event/circuit-convocation/
END:VEVENT
BEGIN:VEVENT
DTSTART;TZID=America/Chicago:20231029T090000
DTEND;TZID=America/Chicago:20231029T100000
DTSTAMP:20260425T131148
CREATED:20230509T165259Z
LAST-MODIFIED:20230509T165259Z
UID:29257-1698570000-1698573600@www.trinitybemidji.org
SUMMARY:Divine Worship
DESCRIPTION:
URL:https://www.trinitybemidji.org/event/divine-worship-102/
CATEGORIES:Meeting
END:VEVENT
BEGIN:VEVENT
DTSTART;TZID=America/Chicago:20231029T103000
DTEND;TZID=America/Chicago:20231029T113000
DTSTAMP:20260425T131148
CREATED:20230509T165736Z
LAST-MODIFIED:20230509T165736Z
UID:29291-1698575400-1698579000@www.trinitybemidji.org
SUMMARY:Bible Study
DESCRIPTION:
URL:https://www.trinitybemidji.org/event/bible-study-103/
CATEGORIES:Meeting
END:VEVENT
BEGIN:VEVENT
DTSTART;TZID=America/Chicago:20231029T103000
DTEND;TZID=America/Chicago:20231029T113000
DTSTAMP:20260425T131148
CREATED:20230509T170305Z
LAST-MODIFIED:20230509T170305Z
UID:29398-1698575400-1698579000@www.trinitybemidji.org
SUMMARY:Sunday School
DESCRIPTION:
URL:https://www.trinitybemidji.org/event/sunday-school-62/
CATEGORIES:Meeting
END:VEVENT
END:VCALENDAR