BEGIN:VCALENDAR
VERSION:2.0
PRODID:-//Trinity Lutheran Church - Bemidji - ECPv6.15.20//NONSGML v1.0//EN
CALSCALE:GREGORIAN
METHOD:PUBLISH
X-WR-CALNAME:Trinity Lutheran Church - Bemidji
X-ORIGINAL-URL:https://www.trinitybemidji.org
X-WR-CALDESC:Events for Trinity Lutheran Church - Bemidji
REFRESH-INTERVAL;VALUE=DURATION:PT1H
X-Robots-Tag:noindex
X-PUBLISHED-TTL:PT1H
BEGIN:VTIMEZONE
TZID:America/Chicago
BEGIN:DAYLIGHT
TZOFFSETFROM:-0600
TZOFFSETTO:-0500
TZNAME:CDT
DTSTART:20220313T080000
END:DAYLIGHT
BEGIN:STANDARD
TZOFFSETFROM:-0500
TZOFFSETTO:-0600
TZNAME:CST
DTSTART:20221106T070000
END:STANDARD
BEGIN:DAYLIGHT
TZOFFSETFROM:-0600
TZOFFSETTO:-0500
TZNAME:CDT
DTSTART:20230312T080000
END:DAYLIGHT
BEGIN:STANDARD
TZOFFSETFROM:-0500
TZOFFSETTO:-0600
TZNAME:CST
DTSTART:20231105T070000
END:STANDARD
BEGIN:DAYLIGHT
TZOFFSETFROM:-0600
TZOFFSETTO:-0500
TZNAME:CDT
DTSTART:20240310T080000
END:DAYLIGHT
BEGIN:STANDARD
TZOFFSETFROM:-0500
TZOFFSETTO:-0600
TZNAME:CST
DTSTART:20241103T070000
END:STANDARD
END:VTIMEZONE
BEGIN:VEVENT
DTSTART;TZID=America/Chicago:20231102T133000
DTEND;TZID=America/Chicago:20231102T150000
DTSTAMP:20260425T113132
CREATED:20230509T170148Z
LAST-MODIFIED:20230509T170148Z
UID:29372-1698931800-1698937200@www.trinitybemidji.org
SUMMARY:Ladies Aid
DESCRIPTION:
URL:https://www.trinitybemidji.org/event/ladies-aid-23/
CATEGORIES:Meeting
END:VEVENT
BEGIN:VEVENT
DTSTART;TZID=America/Chicago:20231102T173000
DTEND;TZID=America/Chicago:20231102T183000
DTSTAMP:20260425T113132
CREATED:20230509T165821Z
LAST-MODIFIED:20230509T165821Z
UID:29306-1698946200-1698949800@www.trinitybemidji.org
SUMMARY:Board of Elders
DESCRIPTION:
URL:https://www.trinitybemidji.org/event/board-of-elders-28/
CATEGORIES:Meeting
END:VEVENT
BEGIN:VEVENT
DTSTART;TZID=America/Chicago:20231105T090000
DTEND;TZID=America/Chicago:20231105T100000
DTSTAMP:20260425T113132
CREATED:20230509T165300Z
LAST-MODIFIED:20230509T165300Z
UID:29258-1699174800-1699178400@www.trinitybemidji.org
SUMMARY:Divine Worship
DESCRIPTION:
URL:https://www.trinitybemidji.org/event/divine-worship-103/
CATEGORIES:Meeting
END:VEVENT
BEGIN:VEVENT
DTSTART;TZID=America/Chicago:20231105T103000
DTEND;TZID=America/Chicago:20231105T113000
DTSTAMP:20260425T113132
CREATED:20230509T165747Z
LAST-MODIFIED:20230509T165747Z
UID:29292-1699180200-1699183800@www.trinitybemidji.org
SUMMARY:Bible Study
DESCRIPTION:
URL:https://www.trinitybemidji.org/event/bible-study-104/
CATEGORIES:Meeting
END:VEVENT
BEGIN:VEVENT
DTSTART;TZID=America/Chicago:20231105T103000
DTEND;TZID=America/Chicago:20231105T113000
DTSTAMP:20260425T113132
CREATED:20230509T170306Z
LAST-MODIFIED:20230509T170306Z
UID:29399-1699180200-1699183800@www.trinitybemidji.org
SUMMARY:Sunday School
DESCRIPTION:
URL:https://www.trinitybemidji.org/event/sunday-school-63/
CATEGORIES:Meeting
END:VEVENT
BEGIN:VEVENT
DTSTART;TZID=America/Chicago:20231106T190000
DTEND;TZID=America/Chicago:20231106T200000
DTSTAMP:20260425T113132
CREATED:20230509T170104Z
LAST-MODIFIED:20230509T170104Z
UID:29359-1699297200-1699300800@www.trinitybemidji.org
SUMMARY:Men's Group
DESCRIPTION:
URL:https://www.trinitybemidji.org/event/mens-group-17/
CATEGORIES:Meeting
END:VEVENT
BEGIN:VEVENT
DTSTART;TZID=America/Chicago:20231107T133000
DTEND;TZID=America/Chicago:20231107T150000
DTSTAMP:20260425T113132
CREATED:20230509T170202Z
LAST-MODIFIED:20230509T170202Z
UID:29377-1699363800-1699369200@www.trinitybemidji.org
SUMMARY:Afternoon Guild
DESCRIPTION:
URL:https://www.trinitybemidji.org/event/afternoon-guild-6/
CATEGORIES:Meeting
END:VEVENT
BEGIN:VEVENT
DTSTART;TZID=America/Chicago:20231109T133000
DTEND;TZID=America/Chicago:20231109T143000
DTSTAMP:20260425T113132
CREATED:20230509T170222Z
LAST-MODIFIED:20230509T170222Z
UID:29386-1699536600-1699540200@www.trinitybemidji.org
SUMMARY:Hannah Circle
DESCRIPTION:
URL:https://www.trinitybemidji.org/event/hannah-circle-7/
CATEGORIES:Meeting
END:VEVENT
BEGIN:VEVENT
DTSTART;TZID=America/Chicago:20231112T090000
DTEND;TZID=America/Chicago:20231112T100000
DTSTAMP:20260425T113132
CREATED:20230509T165301Z
LAST-MODIFIED:20230509T165301Z
UID:29259-1699779600-1699783200@www.trinitybemidji.org
SUMMARY:Divine Worship
DESCRIPTION:
URL:https://www.trinitybemidji.org/event/divine-worship-104/
CATEGORIES:Meeting
END:VEVENT
BEGIN:VEVENT
DTSTART;TZID=America/Chicago:20231112T103000
DTEND;TZID=America/Chicago:20231112T113000
DTSTAMP:20260425T113132
CREATED:20230509T165749Z
LAST-MODIFIED:20230509T165749Z
UID:29293-1699785000-1699788600@www.trinitybemidji.org
SUMMARY:Bible Study
DESCRIPTION:
URL:https://www.trinitybemidji.org/event/bible-study-105/
CATEGORIES:Meeting
END:VEVENT
BEGIN:VEVENT
DTSTART;TZID=America/Chicago:20231112T103000
DTEND;TZID=America/Chicago:20231112T113000
DTSTAMP:20260425T113132
CREATED:20230509T170307Z
LAST-MODIFIED:20230509T170307Z
UID:29400-1699785000-1699788600@www.trinitybemidji.org
SUMMARY:Sunday School
DESCRIPTION:
URL:https://www.trinitybemidji.org/event/sunday-school-64/
CATEGORIES:Meeting
END:VEVENT
BEGIN:VEVENT
DTSTART;TZID=America/Chicago:20231113T170000
DTEND;TZID=America/Chicago:20231113T183000
DTSTAMP:20260425T113132
CREATED:20230509T165953Z
LAST-MODIFIED:20230509T165953Z
UID:29336-1699894800-1699900200@www.trinitybemidji.org
SUMMARY:Active Christian Fellowship
DESCRIPTION:
URL:https://www.trinitybemidji.org/event/active-christian-fellowship-27/
CATEGORIES:Meeting
END:VEVENT
BEGIN:VEVENT
DTSTART;TZID=America/Chicago:20231116T090000
DTEND;TZID=America/Chicago:20231116T100000
DTSTAMP:20260425T113132
CREATED:20230509T170036Z
LAST-MODIFIED:20230509T170036Z
UID:29350-1700125200-1700128800@www.trinitybemidji.org
SUMMARY:Happy Quilters
DESCRIPTION:
URL:https://www.trinitybemidji.org/event/happy-quilters-13/
CATEGORIES:Meeting
END:VEVENT
BEGIN:VEVENT
DTSTART;TZID=America/Chicago:20231116T180000
DTEND;TZID=America/Chicago:20231116T190000
DTSTAMP:20260425T113132
CREATED:20230509T165848Z
LAST-MODIFIED:20230509T165848Z
UID:29313-1700157600-1700161200@www.trinitybemidji.org
SUMMARY:Church Boards
DESCRIPTION:
URL:https://www.trinitybemidji.org/event/church-boards-24/
CATEGORIES:Meeting
END:VEVENT
BEGIN:VEVENT
DTSTART;TZID=America/Chicago:20231116T180000
DTEND;TZID=America/Chicago:20231116T190000
DTSTAMP:20260425T113132
CREATED:20230509T165905Z
LAST-MODIFIED:20230509T165905Z
UID:29320-1700157600-1700161200@www.trinitybemidji.org
SUMMARY:Church Council
DESCRIPTION:
URL:https://www.trinitybemidji.org/event/church-council-22/
CATEGORIES:Meeting
END:VEVENT
BEGIN:VEVENT
DTSTART;TZID=America/Chicago:20231119T090000
DTEND;TZID=America/Chicago:20231119T100000
DTSTAMP:20260425T113132
CREATED:20230509T165306Z
LAST-MODIFIED:20230509T165306Z
UID:29260-1700384400-1700388000@www.trinitybemidji.org
SUMMARY:Divine Worship
DESCRIPTION:
URL:https://www.trinitybemidji.org/event/divine-worship-105/
CATEGORIES:Meeting
END:VEVENT
BEGIN:VEVENT
DTSTART;TZID=America/Chicago:20231119T103000
DTEND;TZID=America/Chicago:20231119T113000
DTSTAMP:20260425T113132
CREATED:20230509T165751Z
LAST-MODIFIED:20230509T165751Z
UID:29294-1700389800-1700393400@www.trinitybemidji.org
SUMMARY:Bible Study
DESCRIPTION:
URL:https://www.trinitybemidji.org/event/bible-study-106/
CATEGORIES:Meeting
END:VEVENT
BEGIN:VEVENT
DTSTART;TZID=America/Chicago:20231119T103000
DTEND;TZID=America/Chicago:20231119T113000
DTSTAMP:20260425T113132
CREATED:20230509T170310Z
LAST-MODIFIED:20230509T170310Z
UID:29401-1700389800-1700393400@www.trinitybemidji.org
SUMMARY:Sunday School
DESCRIPTION:
URL:https://www.trinitybemidji.org/event/sunday-school-65/
CATEGORIES:Meeting
END:VEVENT
BEGIN:VEVENT
DTSTART;TZID=America/Chicago:20231120T170000
DTEND;TZID=America/Chicago:20231120T190000
DTSTAMP:20260425T113132
CREATED:20230509T170132Z
LAST-MODIFIED:20230509T170132Z
UID:29367-1700499600-1700506800@www.trinitybemidji.org
SUMMARY:Altar Circle
DESCRIPTION:
URL:https://www.trinitybemidji.org/event/altar-circle-18/
CATEGORIES:Meeting
END:VEVENT
BEGIN:VEVENT
DTSTART;TZID=America/Chicago:20231121T093000
DTEND;TZID=America/Chicago:20231121T223000
DTSTAMP:20260425T113132
CREATED:20230509T170206Z
LAST-MODIFIED:20230509T170206Z
UID:29381-1700559000-1700605800@www.trinitybemidji.org
SUMMARY:Eunice Circle
DESCRIPTION:
URL:https://www.trinitybemidji.org/event/eunice-circle-20/
CATEGORIES:Meeting
END:VEVENT
BEGIN:VEVENT
DTSTART;TZID=America/Chicago:20231122T183000
DTEND;TZID=America/Chicago:20231122T193000
DTSTAMP:20260425T113132
CREATED:20231109T194659Z
LAST-MODIFIED:20231109T194659Z
UID:29636-1700677800-1700681400@www.trinitybemidji.org
SUMMARY:Thanksgiving Eve Worship Service
DESCRIPTION:
URL:https://www.trinitybemidji.org/event/thanksgiving-eve-worship-service/
END:VEVENT
BEGIN:VEVENT
DTSTART;TZID=America/Chicago:20231122T191500
DTEND;TZID=America/Chicago:20231122T203000
DTSTAMP:20260425T113132
CREATED:20231109T194749Z
LAST-MODIFIED:20231109T194749Z
UID:29638-1700680500-1700685000@www.trinitybemidji.org
SUMMARY:Pie Social
DESCRIPTION:
URL:https://www.trinitybemidji.org/event/pie-social-2/
END:VEVENT
BEGIN:VEVENT
DTSTART;TZID=America/Chicago:20231126T090000
DTEND;TZID=America/Chicago:20231126T100000
DTSTAMP:20260425T113132
CREATED:20230509T165307Z
LAST-MODIFIED:20230509T165307Z
UID:29261-1700989200-1700992800@www.trinitybemidji.org
SUMMARY:Divine Worship
DESCRIPTION:
URL:https://www.trinitybemidji.org/event/divine-worship-106/
CATEGORIES:Meeting
END:VEVENT
BEGIN:VEVENT
DTSTART;TZID=America/Chicago:20231126T103000
DTEND;TZID=America/Chicago:20231126T113000
DTSTAMP:20260425T113132
CREATED:20230509T165751Z
LAST-MODIFIED:20230509T165751Z
UID:29295-1700994600-1700998200@www.trinitybemidji.org
SUMMARY:Bible Study
DESCRIPTION:
URL:https://www.trinitybemidji.org/event/bible-study-107/
CATEGORIES:Meeting
END:VEVENT
BEGIN:VEVENT
DTSTART;TZID=America/Chicago:20231126T103000
DTEND;TZID=America/Chicago:20231126T113000
DTSTAMP:20260425T113132
CREATED:20230509T170317Z
LAST-MODIFIED:20230509T170317Z
UID:29402-1700994600-1700998200@www.trinitybemidji.org
SUMMARY:Sunday School
DESCRIPTION:
URL:https://www.trinitybemidji.org/event/sunday-school-66/
CATEGORIES:Meeting
END:VEVENT
BEGIN:VEVENT
DTSTART;TZID=America/Chicago:20231126T103000
DTEND;TZID=America/Chicago:20231126T130000
DTSTAMP:20260425T113132
CREATED:20231109T194845Z
LAST-MODIFIED:20231109T194845Z
UID:29640-1700994600-1701003600@www.trinitybemidji.org
SUMMARY:Church Christmas Decorating
DESCRIPTION:
URL:https://www.trinitybemidji.org/event/church-christmas-decorating/
END:VEVENT
BEGIN:VEVENT
DTSTART;TZID=America/Chicago:20231126T113000
DTEND;TZID=America/Chicago:20231126T123000
DTSTAMP:20260425T113132
CREATED:20230509T165933Z
LAST-MODIFIED:20230509T165933Z
UID:29328-1700998200-1701001800@www.trinitybemidji.org
SUMMARY:Christian Singles
DESCRIPTION:
URL:https://www.trinitybemidji.org/event/christian-singles-25/
CATEGORIES:Meeting
END:VEVENT
BEGIN:VEVENT
DTSTART;TZID=America/Chicago:20231127T130000
DTEND;TZID=America/Chicago:20231127T170000
DTSTAMP:20260425T113132
CREATED:20231109T194925Z
LAST-MODIFIED:20231109T194925Z
UID:29642-1701090000-1701104400@www.trinitybemidji.org
SUMMARY:Altar Circle Christmas Party
DESCRIPTION:
URL:https://www.trinitybemidji.org/event/altar-circle-christmas-party/
END:VEVENT
END:VCALENDAR