BEGIN:VCALENDAR
VERSION:2.0
PRODID:-//Trinity Lutheran Church - Bemidji - ECPv6.15.20//NONSGML v1.0//EN
CALSCALE:GREGORIAN
METHOD:PUBLISH
X-ORIGINAL-URL:https://www.trinitybemidji.org
X-WR-CALDESC:Events for Trinity Lutheran Church - Bemidji
REFRESH-INTERVAL;VALUE=DURATION:PT1H
X-Robots-Tag:noindex
X-PUBLISHED-TTL:PT1H
BEGIN:VTIMEZONE
TZID:America/Chicago
BEGIN:DAYLIGHT
TZOFFSETFROM:-0600
TZOFFSETTO:-0500
TZNAME:CDT
DTSTART:20230312T080000
END:DAYLIGHT
BEGIN:STANDARD
TZOFFSETFROM:-0500
TZOFFSETTO:-0600
TZNAME:CST
DTSTART:20231105T070000
END:STANDARD
BEGIN:DAYLIGHT
TZOFFSETFROM:-0600
TZOFFSETTO:-0500
TZNAME:CDT
DTSTART:20240310T080000
END:DAYLIGHT
BEGIN:STANDARD
TZOFFSETFROM:-0500
TZOFFSETTO:-0600
TZNAME:CST
DTSTART:20241103T070000
END:STANDARD
BEGIN:DAYLIGHT
TZOFFSETFROM:-0600
TZOFFSETTO:-0500
TZNAME:CDT
DTSTART:20250309T080000
END:DAYLIGHT
BEGIN:STANDARD
TZOFFSETFROM:-0500
TZOFFSETTO:-0600
TZNAME:CST
DTSTART:20251102T070000
END:STANDARD
END:VTIMEZONE
BEGIN:VEVENT
DTSTART;TZID=America/Chicago:20240101T170000
DTEND;TZID=America/Chicago:20240101T183000
DTSTAMP:20260425T082237
CREATED:20240118T203043Z
LAST-MODIFIED:20240118T203043Z
UID:29826-1704128400-1704133800@www.trinitybemidji.org
SUMMARY:Active Christian Fellowship
DESCRIPTION:
URL:https://www.trinitybemidji.org/event/active-christian-fellowship-29/
CATEGORIES:Meeting
END:VEVENT
BEGIN:VEVENT
DTSTART;TZID=America/Chicago:20240101T190000
DTEND;TZID=America/Chicago:20240101T200000
DTSTAMP:20260425T082237
CREATED:20240118T203557Z
LAST-MODIFIED:20240118T203557Z
UID:29927-1704135600-1704139200@www.trinitybemidji.org
SUMMARY:Men of Trinity
DESCRIPTION:
URL:https://www.trinitybemidji.org/event/men-of-trinity-6/
CATEGORIES:Meeting
END:VEVENT
BEGIN:VEVENT
DTSTART;TZID=America/Chicago:20240102T133000
DTEND;TZID=America/Chicago:20240102T150000
DTSTAMP:20260425T082237
CREATED:20240118T203242Z
LAST-MODIFIED:20240118T203242Z
UID:29862-1704202200-1704207600@www.trinitybemidji.org
SUMMARY:Afternoon Guild
DESCRIPTION:
URL:https://www.trinitybemidji.org/event/afternoon-guild-7/
CATEGORIES:Meeting
END:VEVENT
BEGIN:VEVENT
DTSTART;TZID=America/Chicago:20240104T133000
DTEND;TZID=America/Chicago:20240104T150000
DTSTAMP:20260425T082237
CREATED:20240118T203627Z
LAST-MODIFIED:20240118T203627Z
UID:29939-1704375000-1704380400@www.trinitybemidji.org
SUMMARY:Ladies Aid
DESCRIPTION:
URL:https://www.trinitybemidji.org/event/ladies-aid-24/
CATEGORIES:Meeting
END:VEVENT
BEGIN:VEVENT
DTSTART;TZID=America/Chicago:20240104T173000
DTEND;TZID=America/Chicago:20240104T190000
DTSTAMP:20260425T082237
CREATED:20240118T203657Z
LAST-MODIFIED:20240118T203657Z
UID:29948-1704389400-1704394800@www.trinitybemidji.org
SUMMARY:Board of Elders
DESCRIPTION:
URL:https://www.trinitybemidji.org/event/board-of-elders-30/
CATEGORIES:Meeting
END:VEVENT
BEGIN:VEVENT
DTSTART;TZID=America/Chicago:20240107T090000
DTEND;TZID=America/Chicago:20240107T100000
DTSTAMP:20260425T082237
CREATED:20240118T202539Z
LAST-MODIFIED:20240118T202539Z
UID:29722-1704618000-1704621600@www.trinitybemidji.org
SUMMARY:Divine Worship
DESCRIPTION:
URL:https://www.trinitybemidji.org/event/divine-worship-111/
CATEGORIES:Meeting
END:VEVENT
BEGIN:VEVENT
DTSTART;TZID=America/Chicago:20240107T103000
DTEND;TZID=America/Chicago:20240107T113000
DTSTAMP:20260425T082237
CREATED:20240118T202802Z
LAST-MODIFIED:20240118T202802Z
UID:29774-1704623400-1704627000@www.trinitybemidji.org
SUMMARY:Bible Study
DESCRIPTION:
URL:https://www.trinitybemidji.org/event/bible-study-112/
CATEGORIES:Meeting
END:VEVENT
BEGIN:VEVENT
DTSTART;TZID=America/Chicago:20240107T103000
DTEND;TZID=America/Chicago:20240107T113000
DTSTAMP:20260425T082237
CREATED:20240118T203357Z
LAST-MODIFIED:20240118T203357Z
UID:29889-1704623400-1704627000@www.trinitybemidji.org
SUMMARY:Sunday School
DESCRIPTION:
URL:https://www.trinitybemidji.org/event/sunday-school-70/
CATEGORIES:Meeting
END:VEVENT
BEGIN:VEVENT
DTSTART;TZID=America/Chicago:20240111T133000
DTEND;TZID=America/Chicago:20240111T143000
DTSTAMP:20260425T082237
CREATED:20240118T203328Z
LAST-MODIFIED:20240118T203328Z
UID:29880-1704979800-1704983400@www.trinitybemidji.org
SUMMARY:Hannah Circle
DESCRIPTION:
URL:https://www.trinitybemidji.org/event/hannah-circle-9/
CATEGORIES:Meeting
END:VEVENT
BEGIN:VEVENT
DTSTART;TZID=America/Chicago:20240114T090000
DTEND;TZID=America/Chicago:20240114T100000
DTSTAMP:20260425T082237
CREATED:20240118T202541Z
LAST-MODIFIED:20240118T202541Z
UID:29723-1705222800-1705226400@www.trinitybemidji.org
SUMMARY:Divine Worship
DESCRIPTION:
URL:https://www.trinitybemidji.org/event/divine-worship-112/
CATEGORIES:Meeting
END:VEVENT
BEGIN:VEVENT
DTSTART;TZID=America/Chicago:20240114T103000
DTEND;TZID=America/Chicago:20240114T113000
DTSTAMP:20260425T082237
CREATED:20240118T202803Z
LAST-MODIFIED:20240118T202803Z
UID:29775-1705228200-1705231800@www.trinitybemidji.org
SUMMARY:Bible Study
DESCRIPTION:
URL:https://www.trinitybemidji.org/event/bible-study-113/
CATEGORIES:Meeting
END:VEVENT
BEGIN:VEVENT
DTSTART;TZID=America/Chicago:20240114T103000
DTEND;TZID=America/Chicago:20240114T113000
DTSTAMP:20260425T082237
CREATED:20240118T203358Z
LAST-MODIFIED:20240118T203358Z
UID:29890-1705228200-1705231800@www.trinitybemidji.org
SUMMARY:Sunday School
DESCRIPTION:
URL:https://www.trinitybemidji.org/event/sunday-school-71/
CATEGORIES:Meeting
END:VEVENT
BEGIN:VEVENT
DTSTART;TZID=America/Chicago:20240116T093000
DTEND;TZID=America/Chicago:20240116T223000
DTSTAMP:20260425T082237
CREATED:20240118T203259Z
LAST-MODIFIED:20240118T203259Z
UID:29871-1705397400-1705444200@www.trinitybemidji.org
SUMMARY:Eunice Circle
DESCRIPTION:
URL:https://www.trinitybemidji.org/event/eunice-circle-22/
CATEGORIES:Meeting
END:VEVENT
BEGIN:VEVENT
DTSTART;TZID=America/Chicago:20240118T090000
DTEND;TZID=America/Chicago:20240118T100000
DTSTAMP:20260425T082237
CREATED:20240118T203127Z
LAST-MODIFIED:20240118T203127Z
UID:29838-1705568400-1705572000@www.trinitybemidji.org
SUMMARY:Happy Quilters
DESCRIPTION:
URL:https://www.trinitybemidji.org/event/happy-quilters-16/
CATEGORIES:Meeting
END:VEVENT
BEGIN:VEVENT
DTSTART;TZID=America/Chicago:20240121T090000
DTEND;TZID=America/Chicago:20240121T100000
DTSTAMP:20260425T082237
CREATED:20240118T202541Z
LAST-MODIFIED:20240118T202541Z
UID:29724-1705827600-1705831200@www.trinitybemidji.org
SUMMARY:Divine Worship
DESCRIPTION:
URL:https://www.trinitybemidji.org/event/divine-worship-113/
CATEGORIES:Meeting
END:VEVENT
BEGIN:VEVENT
DTSTART;TZID=America/Chicago:20240121T103000
DTEND;TZID=America/Chicago:20240121T113000
DTSTAMP:20260425T082237
CREATED:20240118T202803Z
LAST-MODIFIED:20240118T202803Z
UID:29776-1705833000-1705836600@www.trinitybemidji.org
SUMMARY:Bible Study
DESCRIPTION:
URL:https://www.trinitybemidji.org/event/bible-study-114/
CATEGORIES:Meeting
END:VEVENT
BEGIN:VEVENT
DTSTART;TZID=America/Chicago:20240121T103000
DTEND;TZID=America/Chicago:20240121T113000
DTSTAMP:20260425T082237
CREATED:20240118T203358Z
LAST-MODIFIED:20240118T203358Z
UID:29891-1705833000-1705836600@www.trinitybemidji.org
SUMMARY:Sunday School
DESCRIPTION:
URL:https://www.trinitybemidji.org/event/sunday-school-72/
CATEGORIES:Meeting
END:VEVENT
BEGIN:VEVENT
DTSTART;TZID=America/Chicago:20240125T090000
DTEND;TZID=America/Chicago:20240125T100000
DTSTAMP:20260425T082237
CREATED:20240118T203127Z
LAST-MODIFIED:20240118T203159Z
UID:29839-1706173200-1706176800@www.trinitybemidji.org
SUMMARY:Happy Quilters
DESCRIPTION:
URL:https://www.trinitybemidji.org/event/happy-quilters-17/
CATEGORIES:Meeting
END:VEVENT
BEGIN:VEVENT
DTSTART;TZID=America/Chicago:20240128T090000
DTEND;TZID=America/Chicago:20240128T100000
DTSTAMP:20260425T082237
CREATED:20240118T202542Z
LAST-MODIFIED:20240118T202542Z
UID:29725-1706432400-1706436000@www.trinitybemidji.org
SUMMARY:Divine Worship
DESCRIPTION:
URL:https://www.trinitybemidji.org/event/divine-worship-114/
CATEGORIES:Meeting
END:VEVENT
BEGIN:VEVENT
DTSTART;TZID=America/Chicago:20240128T103000
DTEND;TZID=America/Chicago:20240128T113000
DTSTAMP:20260425T082237
CREATED:20240118T202817Z
LAST-MODIFIED:20240118T202817Z
UID:29777-1706437800-1706441400@www.trinitybemidji.org
SUMMARY:Bible Study
DESCRIPTION:
URL:https://www.trinitybemidji.org/event/bible-study-115/
CATEGORIES:Meeting
END:VEVENT
BEGIN:VEVENT
DTSTART;TZID=America/Chicago:20240128T103000
DTEND;TZID=America/Chicago:20240128T113000
DTSTAMP:20260425T082237
CREATED:20240118T203412Z
LAST-MODIFIED:20240118T203412Z
UID:29892-1706437800-1706441400@www.trinitybemidji.org
SUMMARY:Sunday School
DESCRIPTION:
URL:https://www.trinitybemidji.org/event/sunday-school-73/
CATEGORIES:Meeting
END:VEVENT
END:VCALENDAR