BEGIN:VCALENDAR
VERSION:2.0
PRODID:-//Trinity Lutheran Church - Bemidji - ECPv6.15.20//NONSGML v1.0//EN
CALSCALE:GREGORIAN
METHOD:PUBLISH
X-ORIGINAL-URL:https://www.trinitybemidji.org
X-WR-CALDESC:Events for Trinity Lutheran Church - Bemidji
REFRESH-INTERVAL;VALUE=DURATION:PT1H
X-Robots-Tag:noindex
X-PUBLISHED-TTL:PT1H
BEGIN:VTIMEZONE
TZID:America/Chicago
BEGIN:DAYLIGHT
TZOFFSETFROM:-0600
TZOFFSETTO:-0500
TZNAME:CDT
DTSTART:20230312T080000
END:DAYLIGHT
BEGIN:STANDARD
TZOFFSETFROM:-0500
TZOFFSETTO:-0600
TZNAME:CST
DTSTART:20231105T070000
END:STANDARD
BEGIN:DAYLIGHT
TZOFFSETFROM:-0600
TZOFFSETTO:-0500
TZNAME:CDT
DTSTART:20240310T080000
END:DAYLIGHT
BEGIN:STANDARD
TZOFFSETFROM:-0500
TZOFFSETTO:-0600
TZNAME:CST
DTSTART:20241103T070000
END:STANDARD
BEGIN:DAYLIGHT
TZOFFSETFROM:-0600
TZOFFSETTO:-0500
TZNAME:CDT
DTSTART:20250309T080000
END:DAYLIGHT
BEGIN:STANDARD
TZOFFSETFROM:-0500
TZOFFSETTO:-0600
TZNAME:CST
DTSTART:20251102T070000
END:STANDARD
END:VTIMEZONE
BEGIN:VEVENT
DTSTART;TZID=America/Chicago:20240801T120000
DTEND;TZID=America/Chicago:20240801T150000
DTSTAMP:20260424T204736
CREATED:20240726T132534Z
LAST-MODIFIED:20240726T132534Z
UID:30238-1722513600-1722524400@www.trinitybemidji.org
SUMMARY:Ladies Aid/Afternoon Guild Picnic
DESCRIPTION:
URL:https://www.trinitybemidji.org/event/ladies-aid-afternoon-guild-picnic/
END:VEVENT
BEGIN:VEVENT
DTSTART;TZID=America/Chicago:20240801T173000
DTEND;TZID=America/Chicago:20240801T190000
DTSTAMP:20260424T204736
CREATED:20240118T203713Z
LAST-MODIFIED:20240118T203713Z
UID:29955-1722533400-1722538800@www.trinitybemidji.org
SUMMARY:Board of Elders
DESCRIPTION:
URL:https://www.trinitybemidji.org/event/board-of-elders-37/
CATEGORIES:Meeting
END:VEVENT
BEGIN:VEVENT
DTSTART;TZID=America/Chicago:20240804T090000
DTEND;TZID=America/Chicago:20240804T100000
DTSTAMP:20260424T204736
CREATED:20240118T202702Z
LAST-MODIFIED:20240118T202702Z
UID:29752-1722762000-1722765600@www.trinitybemidji.org
SUMMARY:Divine Worship
DESCRIPTION:
URL:https://www.trinitybemidji.org/event/divine-worship-141/
CATEGORIES:Meeting
END:VEVENT
BEGIN:VEVENT
DTSTART;TZID=America/Chicago:20240804T103000
DTEND;TZID=America/Chicago:20240804T113000
DTSTAMP:20260424T204736
CREATED:20240118T202942Z
LAST-MODIFIED:20240118T202942Z
UID:29804-1722767400-1722771000@www.trinitybemidji.org
SUMMARY:Bible Study
DESCRIPTION:
URL:https://www.trinitybemidji.org/event/bible-study-142/
CATEGORIES:Meeting
END:VEVENT
BEGIN:VEVENT
DTSTART;TZID=America/Chicago:20240805T170000
DTEND;TZID=America/Chicago:20240805T183000
DTSTAMP:20260424T204736
CREATED:20240118T203112Z
LAST-MODIFIED:20240118T203112Z
UID:29833-1722877200-1722882600@www.trinitybemidji.org
SUMMARY:Active Christian Fellowship
DESCRIPTION:
URL:https://www.trinitybemidji.org/event/active-christian-fellowship-36/
CATEGORIES:Meeting
END:VEVENT
BEGIN:VEVENT
DTSTART;TZID=America/Chicago:20240805T190000
DTEND;TZID=America/Chicago:20240805T200000
DTSTAMP:20260424T204736
CREATED:20240118T203613Z
LAST-MODIFIED:20240118T203613Z
UID:29934-1722884400-1722888000@www.trinitybemidji.org
SUMMARY:Men of Trinity
DESCRIPTION:
URL:https://www.trinitybemidji.org/event/men-of-trinity-13/
CATEGORIES:Meeting
END:VEVENT
BEGIN:VEVENT
DTSTART;TZID=America/Chicago:20240811T090000
DTEND;TZID=America/Chicago:20240811T100000
DTSTAMP:20260424T204736
CREATED:20240118T202702Z
LAST-MODIFIED:20240118T202702Z
UID:29753-1723366800-1723370400@www.trinitybemidji.org
SUMMARY:Divine Worship
DESCRIPTION:
URL:https://www.trinitybemidji.org/event/divine-worship-142/
CATEGORIES:Meeting
END:VEVENT
BEGIN:VEVENT
DTSTART;TZID=America/Chicago:20240811T103000
DTEND;TZID=America/Chicago:20240811T113000
DTSTAMP:20260424T204736
CREATED:20240118T202942Z
LAST-MODIFIED:20240118T202942Z
UID:29805-1723372200-1723375800@www.trinitybemidji.org
SUMMARY:Bible Study
DESCRIPTION:
URL:https://www.trinitybemidji.org/event/bible-study-143/
CATEGORIES:Meeting
END:VEVENT
BEGIN:VEVENT
DTSTART;TZID=America/Chicago:20240815T090000
DTEND;TZID=America/Chicago:20240815T100000
DTSTAMP:20260424T204736
CREATED:20240118T203212Z
LAST-MODIFIED:20240118T203212Z
UID:29852-1723712400-1723716000@www.trinitybemidji.org
SUMMARY:Happy Quilters
DESCRIPTION:
URL:https://www.trinitybemidji.org/event/happy-quilters-29/
CATEGORIES:Meeting
END:VEVENT
BEGIN:VEVENT
DTSTART;TZID=America/Chicago:20240818T090000
DTEND;TZID=America/Chicago:20240818T100000
DTSTAMP:20260424T204736
CREATED:20240118T202702Z
LAST-MODIFIED:20240118T202702Z
UID:29754-1723971600-1723975200@www.trinitybemidji.org
SUMMARY:Divine Worship
DESCRIPTION:
URL:https://www.trinitybemidji.org/event/divine-worship-143/
CATEGORIES:Meeting
END:VEVENT
BEGIN:VEVENT
DTSTART;TZID=America/Chicago:20240818T103000
DTEND;TZID=America/Chicago:20240818T113000
DTSTAMP:20260424T204736
CREATED:20240118T202943Z
LAST-MODIFIED:20240118T202943Z
UID:29806-1723977000-1723980600@www.trinitybemidji.org
SUMMARY:Bible Study
DESCRIPTION:
URL:https://www.trinitybemidji.org/event/bible-study-144/
CATEGORIES:Meeting
END:VEVENT
BEGIN:VEVENT
DTSTART;TZID=America/Chicago:20240818T103000
DTEND;TZID=America/Chicago:20240818T133000
DTSTAMP:20260424T204736
CREATED:20240726T132229Z
LAST-MODIFIED:20240726T132229Z
UID:30234-1723977000-1723987800@www.trinitybemidji.org
SUMMARY:Church Family Fellowship
DESCRIPTION:
URL:https://www.trinitybemidji.org/event/church-family-fellowship-3/
END:VEVENT
BEGIN:VEVENT
DTSTART;TZID=America/Chicago:20240819T130000
DTEND;TZID=America/Chicago:20240819T140000
DTSTAMP:20260424T204736
CREATED:20240118T203914Z
LAST-MODIFIED:20240118T203914Z
UID:29996-1724072400-1724076000@www.trinitybemidji.org
SUMMARY:Altar Circle
DESCRIPTION:
URL:https://www.trinitybemidji.org/event/altar-circle-23/
CATEGORIES:Meeting
END:VEVENT
BEGIN:VEVENT
DTSTART;TZID=America/Chicago:20240822T090000
DTEND;TZID=America/Chicago:20240822T100000
DTSTAMP:20260424T204736
CREATED:20240118T203213Z
LAST-MODIFIED:20240118T203213Z
UID:29853-1724317200-1724320800@www.trinitybemidji.org
SUMMARY:Happy Quilters
DESCRIPTION:
URL:https://www.trinitybemidji.org/event/happy-quilters-30/
CATEGORIES:Meeting
END:VEVENT
BEGIN:VEVENT
DTSTART;TZID=America/Chicago:20240825T090000
DTEND;TZID=America/Chicago:20240825T100000
DTSTAMP:20260424T204736
CREATED:20240118T202703Z
LAST-MODIFIED:20240118T202703Z
UID:29755-1724576400-1724580000@www.trinitybemidji.org
SUMMARY:Divine Worship
DESCRIPTION:
URL:https://www.trinitybemidji.org/event/divine-worship-144/
CATEGORIES:Meeting
END:VEVENT
BEGIN:VEVENT
DTSTART;TZID=America/Chicago:20240825T103000
DTEND;TZID=America/Chicago:20240825T113000
DTSTAMP:20260424T204736
CREATED:20240118T202957Z
LAST-MODIFIED:20240118T202957Z
UID:29807-1724581800-1724585400@www.trinitybemidji.org
SUMMARY:Bible Study
DESCRIPTION:
URL:https://www.trinitybemidji.org/event/bible-study-145/
CATEGORIES:Meeting
END:VEVENT
BEGIN:VEVENT
DTSTART;TZID=America/Chicago:20240825T103000
DTEND;TZID=America/Chicago:20240825T120000
DTSTAMP:20260424T204736
CREATED:20240726T132321Z
LAST-MODIFIED:20240726T132321Z
UID:30236-1724581800-1724587200@www.trinitybemidji.org
SUMMARY:Semi-Annual Meeting
DESCRIPTION:
URL:https://www.trinitybemidji.org/event/semi-annual-meeting-3/
END:VEVENT
BEGIN:VEVENT
DTSTART;TZID=America/Chicago:20240828T173000
DTEND;TZID=America/Chicago:20240828T183000
DTSTAMP:20260424T204736
CREATED:20240726T132622Z
LAST-MODIFIED:20240726T132622Z
UID:30240-1724866200-1724869800@www.trinitybemidji.org
SUMMARY:TLC Preschool "Back to School" Night
DESCRIPTION:
URL:https://www.trinitybemidji.org/event/tlc-preschool-back-to-school-night/
END:VEVENT
END:VCALENDAR