BEGIN:VCALENDAR
VERSION:2.0
PRODID:-//Trinity Lutheran Church - Bemidji - ECPv6.15.20//NONSGML v1.0//EN
CALSCALE:GREGORIAN
METHOD:PUBLISH
X-ORIGINAL-URL:https://www.trinitybemidji.org
X-WR-CALDESC:Events for Trinity Lutheran Church - Bemidji
REFRESH-INTERVAL;VALUE=DURATION:PT1H
X-Robots-Tag:noindex
X-PUBLISHED-TTL:PT1H
BEGIN:VTIMEZONE
TZID:America/Chicago
BEGIN:DAYLIGHT
TZOFFSETFROM:-0600
TZOFFSETTO:-0500
TZNAME:CDT
DTSTART:20230312T080000
END:DAYLIGHT
BEGIN:STANDARD
TZOFFSETFROM:-0500
TZOFFSETTO:-0600
TZNAME:CST
DTSTART:20231105T070000
END:STANDARD
BEGIN:DAYLIGHT
TZOFFSETFROM:-0600
TZOFFSETTO:-0500
TZNAME:CDT
DTSTART:20240310T080000
END:DAYLIGHT
BEGIN:STANDARD
TZOFFSETFROM:-0500
TZOFFSETTO:-0600
TZNAME:CST
DTSTART:20241103T070000
END:STANDARD
BEGIN:DAYLIGHT
TZOFFSETFROM:-0600
TZOFFSETTO:-0500
TZNAME:CDT
DTSTART:20250309T080000
END:DAYLIGHT
BEGIN:STANDARD
TZOFFSETFROM:-0500
TZOFFSETTO:-0600
TZNAME:CST
DTSTART:20251102T070000
END:STANDARD
END:VTIMEZONE
BEGIN:VEVENT
DTSTART;TZID=America/Chicago:20240901T090000
DTEND;TZID=America/Chicago:20240901T100000
DTSTAMP:20260424T190141
CREATED:20240118T202703Z
LAST-MODIFIED:20240118T202703Z
UID:29756-1725181200-1725184800@www.trinitybemidji.org
SUMMARY:Divine Worship
DESCRIPTION:
URL:https://www.trinitybemidji.org/event/divine-worship-145/
CATEGORIES:Meeting
END:VEVENT
BEGIN:VEVENT
DTSTART;TZID=America/Chicago:20240901T103000
DTEND;TZID=America/Chicago:20240901T113000
DTSTAMP:20260424T190141
CREATED:20240118T202957Z
LAST-MODIFIED:20240118T202957Z
UID:29808-1725186600-1725190200@www.trinitybemidji.org
SUMMARY:Bible Study
DESCRIPTION:
URL:https://www.trinitybemidji.org/event/bible-study-146/
CATEGORIES:Meeting
END:VEVENT
BEGIN:VEVENT
DTSTART;TZID=America/Chicago:20240901T103000
DTEND;TZID=America/Chicago:20240901T113000
DTSTAMP:20260424T190141
CREATED:20240118T203458Z
LAST-MODIFIED:20240118T203458Z
UID:29910-1725186600-1725190200@www.trinitybemidji.org
SUMMARY:Sunday School
DESCRIPTION:
URL:https://www.trinitybemidji.org/event/sunday-school-91/
CATEGORIES:Meeting
END:VEVENT
BEGIN:VEVENT
DTSTART;TZID=America/Chicago:20240902T133000
DTEND;TZID=America/Chicago:20240902T150000
DTSTAMP:20260424T190141
CREATED:20240118T203257Z
LAST-MODIFIED:20240118T203257Z
UID:29868-1725283800-1725289200@www.trinitybemidji.org
SUMMARY:Afternoon Guild
DESCRIPTION:
URL:https://www.trinitybemidji.org/event/afternoon-guild-13/
CATEGORIES:Meeting
END:VEVENT
BEGIN:VEVENT
DTSTART;TZID=America/Chicago:20240902T170000
DTEND;TZID=America/Chicago:20240902T183000
DTSTAMP:20260424T190141
CREATED:20240118T203113Z
LAST-MODIFIED:20240118T203113Z
UID:29834-1725296400-1725301800@www.trinitybemidji.org
SUMMARY:Active Christian Fellowship
DESCRIPTION:
URL:https://www.trinitybemidji.org/event/active-christian-fellowship-37/
CATEGORIES:Meeting
END:VEVENT
BEGIN:VEVENT
DTSTART;TZID=America/Chicago:20240902T190000
DTEND;TZID=America/Chicago:20240902T200000
DTSTAMP:20260424T190141
CREATED:20240118T203614Z
LAST-MODIFIED:20240118T203614Z
UID:29935-1725303600-1725307200@www.trinitybemidji.org
SUMMARY:Men of Trinity
DESCRIPTION:
URL:https://www.trinitybemidji.org/event/men-of-trinity-14/
CATEGORIES:Meeting
END:VEVENT
BEGIN:VEVENT
DTSTART;TZID=America/Chicago:20240905T133000
DTEND;TZID=America/Chicago:20240905T150000
DTSTAMP:20260424T190141
CREATED:20240118T203643Z
LAST-MODIFIED:20240118T203643Z
UID:29945-1725543000-1725548400@www.trinitybemidji.org
SUMMARY:Ladies Aid
DESCRIPTION:
URL:https://www.trinitybemidji.org/event/ladies-aid-30/
CATEGORIES:Meeting
END:VEVENT
BEGIN:VEVENT
DTSTART;TZID=America/Chicago:20240905T173000
DTEND;TZID=America/Chicago:20240905T190000
DTSTAMP:20260424T190141
CREATED:20240118T203713Z
LAST-MODIFIED:20240118T203713Z
UID:29956-1725557400-1725562800@www.trinitybemidji.org
SUMMARY:Board of Elders
DESCRIPTION:
URL:https://www.trinitybemidji.org/event/board-of-elders-38/
CATEGORIES:Meeting
END:VEVENT
BEGIN:VEVENT
DTSTART;TZID=America/Chicago:20240908T090000
DTEND;TZID=America/Chicago:20240908T100000
DTSTAMP:20260424T190141
CREATED:20240118T202717Z
LAST-MODIFIED:20240118T202717Z
UID:29757-1725786000-1725789600@www.trinitybemidji.org
SUMMARY:Divine Worship
DESCRIPTION:
URL:https://www.trinitybemidji.org/event/divine-worship-146/
CATEGORIES:Meeting
END:VEVENT
BEGIN:VEVENT
DTSTART;TZID=America/Chicago:20240908T103000
DTEND;TZID=America/Chicago:20240908T113000
DTSTAMP:20260424T190141
CREATED:20240118T202957Z
LAST-MODIFIED:20240118T202957Z
UID:29809-1725791400-1725795000@www.trinitybemidji.org
SUMMARY:Bible Study
DESCRIPTION:
URL:https://www.trinitybemidji.org/event/bible-study-147/
CATEGORIES:Meeting
END:VEVENT
BEGIN:VEVENT
DTSTART;TZID=America/Chicago:20240908T103000
DTEND;TZID=America/Chicago:20240908T113000
DTSTAMP:20260424T190141
CREATED:20240118T203458Z
LAST-MODIFIED:20240118T203458Z
UID:29911-1725791400-1725795000@www.trinitybemidji.org
SUMMARY:Sunday School
DESCRIPTION:
URL:https://www.trinitybemidji.org/event/sunday-school-92/
CATEGORIES:Meeting
END:VEVENT
BEGIN:VEVENT
DTSTART;TZID=America/Chicago:20240912T133000
DTEND;TZID=America/Chicago:20240912T143000
DTSTAMP:20260424T190141
CREATED:20240118T203343Z
LAST-MODIFIED:20240118T203343Z
UID:29885-1726147800-1726151400@www.trinitybemidji.org
SUMMARY:Hannah Circle
DESCRIPTION:
URL:https://www.trinitybemidji.org/event/hannah-circle-14/
CATEGORIES:Meeting
END:VEVENT
BEGIN:VEVENT
DTSTART;TZID=America/Chicago:20240915T090000
DTEND;TZID=America/Chicago:20240915T100000
DTSTAMP:20260424T190141
CREATED:20240118T202717Z
LAST-MODIFIED:20240118T202717Z
UID:29758-1726390800-1726394400@www.trinitybemidji.org
SUMMARY:Divine Worship
DESCRIPTION:
URL:https://www.trinitybemidji.org/event/divine-worship-147/
CATEGORIES:Meeting
END:VEVENT
BEGIN:VEVENT
DTSTART;TZID=America/Chicago:20240915T103000
DTEND;TZID=America/Chicago:20240915T113000
DTSTAMP:20260424T190141
CREATED:20240118T202958Z
LAST-MODIFIED:20240118T202958Z
UID:29810-1726396200-1726399800@www.trinitybemidji.org
SUMMARY:Bible Study
DESCRIPTION:
URL:https://www.trinitybemidji.org/event/bible-study-148/
CATEGORIES:Meeting
END:VEVENT
BEGIN:VEVENT
DTSTART;TZID=America/Chicago:20240915T103000
DTEND;TZID=America/Chicago:20240915T113000
DTSTAMP:20260424T190141
CREATED:20240118T203512Z
LAST-MODIFIED:20240118T203512Z
UID:29912-1726396200-1726399800@www.trinitybemidji.org
SUMMARY:Sunday School
DESCRIPTION:
URL:https://www.trinitybemidji.org/event/sunday-school-93/
CATEGORIES:Meeting
END:VEVENT
BEGIN:VEVENT
DTSTART;TZID=America/Chicago:20240916T130000
DTEND;TZID=America/Chicago:20240916T140000
DTSTAMP:20260424T190141
CREATED:20240118T203927Z
LAST-MODIFIED:20240118T203927Z
UID:29997-1726491600-1726495200@www.trinitybemidji.org
SUMMARY:Altar Circle
DESCRIPTION:
URL:https://www.trinitybemidji.org/event/altar-circle-24/
CATEGORIES:Meeting
END:VEVENT
BEGIN:VEVENT
DTSTART;TZID=America/Chicago:20240917T093000
DTEND;TZID=America/Chicago:20240917T223000
DTSTAMP:20260424T190141
CREATED:20240118T203314Z
LAST-MODIFIED:20240118T203314Z
UID:29876-1726565400-1726612200@www.trinitybemidji.org
SUMMARY:Eunice Circle
DESCRIPTION:
URL:https://www.trinitybemidji.org/event/eunice-circle-27/
CATEGORIES:Meeting
END:VEVENT
BEGIN:VEVENT
DTSTART;TZID=America/Chicago:20240919T090000
DTEND;TZID=America/Chicago:20240919T100000
DTSTAMP:20260424T190141
CREATED:20240118T203214Z
LAST-MODIFIED:20240118T203214Z
UID:29854-1726736400-1726740000@www.trinitybemidji.org
SUMMARY:Happy Quilters
DESCRIPTION:
URL:https://www.trinitybemidji.org/event/happy-quilters-31/
CATEGORIES:Meeting
END:VEVENT
BEGIN:VEVENT
DTSTART;TZID=America/Chicago:20240919T180000
DTEND;TZID=America/Chicago:20240919T190000
DTSTAMP:20260424T190141
CREATED:20240118T203743Z
LAST-MODIFIED:20240118T203743Z
UID:29966-1726768800-1726772400@www.trinitybemidji.org
SUMMARY:Church Boards
DESCRIPTION:
URL:https://www.trinitybemidji.org/event/church-boards-32/
CATEGORIES:Meeting
END:VEVENT
BEGIN:VEVENT
DTSTART;TZID=America/Chicago:20240919T190000
DTEND;TZID=America/Chicago:20240919T200000
DTSTAMP:20260424T190141
CREATED:20240118T203813Z
LAST-MODIFIED:20240118T203813Z
UID:29976-1726772400-1726776000@www.trinitybemidji.org
SUMMARY:Church Council
DESCRIPTION:
URL:https://www.trinitybemidji.org/event/church-council-30/
CATEGORIES:Meeting
END:VEVENT
BEGIN:VEVENT
DTSTART;TZID=America/Chicago:20240922T090000
DTEND;TZID=America/Chicago:20240922T100000
DTSTAMP:20260424T190141
CREATED:20240118T202718Z
LAST-MODIFIED:20240118T202718Z
UID:29759-1726995600-1726999200@www.trinitybemidji.org
SUMMARY:Divine Worship
DESCRIPTION:
URL:https://www.trinitybemidji.org/event/divine-worship-148/
CATEGORIES:Meeting
END:VEVENT
BEGIN:VEVENT
DTSTART;TZID=America/Chicago:20240922T103000
DTEND;TZID=America/Chicago:20240922T113000
DTSTAMP:20260424T190141
CREATED:20240118T202958Z
LAST-MODIFIED:20240118T202958Z
UID:29811-1727001000-1727004600@www.trinitybemidji.org
SUMMARY:Bible Study
DESCRIPTION:
URL:https://www.trinitybemidji.org/event/bible-study-149/
CATEGORIES:Meeting
END:VEVENT
BEGIN:VEVENT
DTSTART;TZID=America/Chicago:20240922T103000
DTEND;TZID=America/Chicago:20240922T113000
DTSTAMP:20260424T190141
CREATED:20240118T203512Z
LAST-MODIFIED:20240118T203512Z
UID:29913-1727001000-1727004600@www.trinitybemidji.org
SUMMARY:Sunday School
DESCRIPTION:
URL:https://www.trinitybemidji.org/event/sunday-school-94/
CATEGORIES:Meeting
END:VEVENT
BEGIN:VEVENT
DTSTART;TZID=America/Chicago:20240926T090000
DTEND;TZID=America/Chicago:20240926T100000
DTSTAMP:20260424T190141
CREATED:20240118T203214Z
LAST-MODIFIED:20240118T203214Z
UID:29855-1727341200-1727344800@www.trinitybemidji.org
SUMMARY:Happy Quilters
DESCRIPTION:
URL:https://www.trinitybemidji.org/event/happy-quilters-32/
CATEGORIES:Meeting
END:VEVENT
BEGIN:VEVENT
DTSTART;TZID=America/Chicago:20240929T090000
DTEND;TZID=America/Chicago:20240929T100000
DTSTAMP:20260424T190141
CREATED:20240118T202718Z
LAST-MODIFIED:20240118T202718Z
UID:29760-1727600400-1727604000@www.trinitybemidji.org
SUMMARY:Divine Worship
DESCRIPTION:
URL:https://www.trinitybemidji.org/event/divine-worship-149/
CATEGORIES:Meeting
END:VEVENT
BEGIN:VEVENT
DTSTART;TZID=America/Chicago:20240929T103000
DTEND;TZID=America/Chicago:20240929T113000
DTSTAMP:20260424T190141
CREATED:20240118T203012Z
LAST-MODIFIED:20240118T203012Z
UID:29812-1727605800-1727609400@www.trinitybemidji.org
SUMMARY:Bible Study
DESCRIPTION:
URL:https://www.trinitybemidji.org/event/bible-study-150/
CATEGORIES:Meeting
END:VEVENT
BEGIN:VEVENT
DTSTART;TZID=America/Chicago:20240929T103000
DTEND;TZID=America/Chicago:20240929T113000
DTSTAMP:20260424T190141
CREATED:20240118T203512Z
LAST-MODIFIED:20240118T203512Z
UID:29914-1727605800-1727609400@www.trinitybemidji.org
SUMMARY:Sunday School
DESCRIPTION:
URL:https://www.trinitybemidji.org/event/sunday-school-95/
CATEGORIES:Meeting
END:VEVENT
END:VCALENDAR