BEGIN:VCALENDAR
VERSION:2.0
PRODID:-//Trinity Lutheran Church - Bemidji - ECPv6.15.20//NONSGML v1.0//EN
CALSCALE:GREGORIAN
METHOD:PUBLISH
X-WR-CALNAME:Trinity Lutheran Church - Bemidji
X-ORIGINAL-URL:https://www.trinitybemidji.org
X-WR-CALDESC:Events for Trinity Lutheran Church - Bemidji
REFRESH-INTERVAL;VALUE=DURATION:PT1H
X-Robots-Tag:noindex
X-PUBLISHED-TTL:PT1H
BEGIN:VTIMEZONE
TZID:America/Chicago
BEGIN:DAYLIGHT
TZOFFSETFROM:-0600
TZOFFSETTO:-0500
TZNAME:CDT
DTSTART:20230312T080000
END:DAYLIGHT
BEGIN:STANDARD
TZOFFSETFROM:-0500
TZOFFSETTO:-0600
TZNAME:CST
DTSTART:20231105T070000
END:STANDARD
BEGIN:DAYLIGHT
TZOFFSETFROM:-0600
TZOFFSETTO:-0500
TZNAME:CDT
DTSTART:20240310T080000
END:DAYLIGHT
BEGIN:STANDARD
TZOFFSETFROM:-0500
TZOFFSETTO:-0600
TZNAME:CST
DTSTART:20241103T070000
END:STANDARD
BEGIN:DAYLIGHT
TZOFFSETFROM:-0600
TZOFFSETTO:-0500
TZNAME:CDT
DTSTART:20250309T080000
END:DAYLIGHT
BEGIN:STANDARD
TZOFFSETFROM:-0500
TZOFFSETTO:-0600
TZNAME:CST
DTSTART:20251102T070000
END:STANDARD
END:VTIMEZONE
BEGIN:VEVENT
DTSTART;TZID=America/Chicago:20241003T133000
DTEND;TZID=America/Chicago:20241003T150000
DTSTAMP:20260424T172036
CREATED:20240118T203643Z
LAST-MODIFIED:20240118T203643Z
UID:29946-1727962200-1727967600@www.trinitybemidji.org
SUMMARY:Ladies Aid
DESCRIPTION:
URL:https://www.trinitybemidji.org/event/ladies-aid-31/
CATEGORIES:Meeting
END:VEVENT
BEGIN:VEVENT
DTSTART;TZID=America/Chicago:20241003T173000
DTEND;TZID=America/Chicago:20241003T190000
DTSTAMP:20260424T172036
CREATED:20240118T203727Z
LAST-MODIFIED:20240118T203727Z
UID:29957-1727976600-1727982000@www.trinitybemidji.org
SUMMARY:Board of Elders
DESCRIPTION:
URL:https://www.trinitybemidji.org/event/board-of-elders-39/
CATEGORIES:Meeting
END:VEVENT
BEGIN:VEVENT
DTSTART;TZID=America/Chicago:20241006T090000
DTEND;TZID=America/Chicago:20241006T100000
DTSTAMP:20260424T172036
CREATED:20240118T202719Z
LAST-MODIFIED:20240118T202719Z
UID:29761-1728205200-1728208800@www.trinitybemidji.org
SUMMARY:Divine Worship
DESCRIPTION:
URL:https://www.trinitybemidji.org/event/divine-worship-150/
CATEGORIES:Meeting
END:VEVENT
BEGIN:VEVENT
DTSTART;TZID=America/Chicago:20241006T103000
DTEND;TZID=America/Chicago:20241006T113000
DTSTAMP:20260424T172036
CREATED:20240118T203013Z
LAST-MODIFIED:20240118T203013Z
UID:29813-1728210600-1728214200@www.trinitybemidji.org
SUMMARY:Bible Study
DESCRIPTION:
URL:https://www.trinitybemidji.org/event/bible-study-151/
CATEGORIES:Meeting
END:VEVENT
BEGIN:VEVENT
DTSTART;TZID=America/Chicago:20241006T103000
DTEND;TZID=America/Chicago:20241006T113000
DTSTAMP:20260424T172036
CREATED:20240118T203513Z
LAST-MODIFIED:20240118T203513Z
UID:29915-1728210600-1728214200@www.trinitybemidji.org
SUMMARY:Sunday School
DESCRIPTION:
URL:https://www.trinitybemidji.org/event/sunday-school-96/
CATEGORIES:Meeting
END:VEVENT
BEGIN:VEVENT
DTSTART;TZID=America/Chicago:20241007T133000
DTEND;TZID=America/Chicago:20241007T150000
DTSTAMP:20260424T172036
CREATED:20240118T203257Z
LAST-MODIFIED:20240118T203257Z
UID:29869-1728307800-1728313200@www.trinitybemidji.org
SUMMARY:Afternoon Guild
DESCRIPTION:
URL:https://www.trinitybemidji.org/event/afternoon-guild-14/
CATEGORIES:Meeting
END:VEVENT
BEGIN:VEVENT
DTSTART;TZID=America/Chicago:20241007T170000
DTEND;TZID=America/Chicago:20241007T183000
DTSTAMP:20260424T172036
CREATED:20240118T203113Z
LAST-MODIFIED:20240118T203113Z
UID:29835-1728320400-1728325800@www.trinitybemidji.org
SUMMARY:Active Christian Fellowship
DESCRIPTION:
URL:https://www.trinitybemidji.org/event/active-christian-fellowship-38/
CATEGORIES:Meeting
END:VEVENT
BEGIN:VEVENT
DTSTART;TZID=America/Chicago:20241007T190000
DTEND;TZID=America/Chicago:20241007T200000
DTSTAMP:20260424T172036
CREATED:20240118T203614Z
LAST-MODIFIED:20240118T203614Z
UID:29936-1728327600-1728331200@www.trinitybemidji.org
SUMMARY:Men of Trinity
DESCRIPTION:
URL:https://www.trinitybemidji.org/event/men-of-trinity-15/
CATEGORIES:Meeting
END:VEVENT
BEGIN:VEVENT
DTSTART;TZID=America/Chicago:20241010T133000
DTEND;TZID=America/Chicago:20241010T143000
DTSTAMP:20260424T172036
CREATED:20240118T203344Z
LAST-MODIFIED:20240118T203344Z
UID:29886-1728567000-1728570600@www.trinitybemidji.org
SUMMARY:Hannah Circle
DESCRIPTION:
URL:https://www.trinitybemidji.org/event/hannah-circle-15/
CATEGORIES:Meeting
END:VEVENT
BEGIN:VEVENT
DTSTART;TZID=America/Chicago:20241013T090000
DTEND;TZID=America/Chicago:20241013T100000
DTSTAMP:20260424T172036
CREATED:20240118T202732Z
LAST-MODIFIED:20240118T202732Z
UID:29762-1728810000-1728813600@www.trinitybemidji.org
SUMMARY:Divine Worship
DESCRIPTION:
URL:https://www.trinitybemidji.org/event/divine-worship-151/
CATEGORIES:Meeting
END:VEVENT
BEGIN:VEVENT
DTSTART;TZID=America/Chicago:20241013T103000
DTEND;TZID=America/Chicago:20241013T113000
DTSTAMP:20260424T172036
CREATED:20240118T203014Z
LAST-MODIFIED:20240118T203014Z
UID:29814-1728815400-1728819000@www.trinitybemidji.org
SUMMARY:Bible Study
DESCRIPTION:
URL:https://www.trinitybemidji.org/event/bible-study-152/
CATEGORIES:Meeting
END:VEVENT
BEGIN:VEVENT
DTSTART;TZID=America/Chicago:20241013T103000
DTEND;TZID=America/Chicago:20241013T113000
DTSTAMP:20260424T172036
CREATED:20240118T203513Z
LAST-MODIFIED:20240118T203513Z
UID:29916-1728815400-1728819000@www.trinitybemidji.org
SUMMARY:Sunday School
DESCRIPTION:
URL:https://www.trinitybemidji.org/event/sunday-school-97/
CATEGORIES:Meeting
END:VEVENT
BEGIN:VEVENT
DTSTART;TZID=America/Chicago:20241015T093000
DTEND;TZID=America/Chicago:20241015T223000
DTSTAMP:20260424T172036
CREATED:20240118T203328Z
LAST-MODIFIED:20240118T203328Z
UID:29877-1728984600-1729031400@www.trinitybemidji.org
SUMMARY:Eunice Circle
DESCRIPTION:
URL:https://www.trinitybemidji.org/event/eunice-circle-28/
CATEGORIES:Meeting
END:VEVENT
BEGIN:VEVENT
DTSTART;TZID=America/Chicago:20241017T090000
DTEND;TZID=America/Chicago:20241017T100000
DTSTAMP:20260424T172036
CREATED:20240118T203214Z
LAST-MODIFIED:20240118T203214Z
UID:29856-1729155600-1729159200@www.trinitybemidji.org
SUMMARY:Happy Quilters
DESCRIPTION:
URL:https://www.trinitybemidji.org/event/happy-quilters-33/
CATEGORIES:Meeting
END:VEVENT
BEGIN:VEVENT
DTSTART;TZID=America/Chicago:20241017T180000
DTEND;TZID=America/Chicago:20241017T190000
DTSTAMP:20260424T172036
CREATED:20240118T203757Z
LAST-MODIFIED:20240118T203757Z
UID:29967-1729188000-1729191600@www.trinitybemidji.org
SUMMARY:Church Boards
DESCRIPTION:
URL:https://www.trinitybemidji.org/event/church-boards-33/
CATEGORIES:Meeting
END:VEVENT
BEGIN:VEVENT
DTSTART;TZID=America/Chicago:20241017T190000
DTEND;TZID=America/Chicago:20241017T200000
DTSTAMP:20260424T172036
CREATED:20240118T203827Z
LAST-MODIFIED:20240118T203827Z
UID:29977-1729191600-1729195200@www.trinitybemidji.org
SUMMARY:Church Council
DESCRIPTION:
URL:https://www.trinitybemidji.org/event/church-council-31/
CATEGORIES:Meeting
END:VEVENT
BEGIN:VEVENT
DTSTART;TZID=America/Chicago:20241020T090000
DTEND;TZID=America/Chicago:20241020T100000
DTSTAMP:20260424T172036
CREATED:20240118T202732Z
LAST-MODIFIED:20240118T202732Z
UID:29763-1729414800-1729418400@www.trinitybemidji.org
SUMMARY:Divine Worship
DESCRIPTION:
URL:https://www.trinitybemidji.org/event/divine-worship-152/
CATEGORIES:Meeting
END:VEVENT
BEGIN:VEVENT
DTSTART;TZID=America/Chicago:20241020T103000
DTEND;TZID=America/Chicago:20241020T113000
DTSTAMP:20260424T172036
CREATED:20240118T203014Z
LAST-MODIFIED:20240118T203014Z
UID:29815-1729420200-1729423800@www.trinitybemidji.org
SUMMARY:Bible Study
DESCRIPTION:
URL:https://www.trinitybemidji.org/event/bible-study-153/
CATEGORIES:Meeting
END:VEVENT
BEGIN:VEVENT
DTSTART;TZID=America/Chicago:20241020T103000
DTEND;TZID=America/Chicago:20241020T113000
DTSTAMP:20260424T172036
CREATED:20240118T203527Z
LAST-MODIFIED:20240118T203527Z
UID:29917-1729420200-1729423800@www.trinitybemidji.org
SUMMARY:Sunday School
DESCRIPTION:
URL:https://www.trinitybemidji.org/event/sunday-school-98/
CATEGORIES:Meeting
END:VEVENT
BEGIN:VEVENT
DTSTART;TZID=America/Chicago:20241021T130000
DTEND;TZID=America/Chicago:20241021T140000
DTSTAMP:20260424T172036
CREATED:20240118T203928Z
LAST-MODIFIED:20240118T203928Z
UID:29998-1729515600-1729519200@www.trinitybemidji.org
SUMMARY:Altar Circle
DESCRIPTION:
URL:https://www.trinitybemidji.org/event/altar-circle-25/
CATEGORIES:Meeting
END:VEVENT
BEGIN:VEVENT
DTSTART;TZID=America/Chicago:20241024T090000
DTEND;TZID=America/Chicago:20241024T100000
DTSTAMP:20260424T172036
CREATED:20240118T203227Z
LAST-MODIFIED:20240118T203227Z
UID:29857-1729760400-1729764000@www.trinitybemidji.org
SUMMARY:Happy Quilters
DESCRIPTION:
URL:https://www.trinitybemidji.org/event/happy-quilters-34/
CATEGORIES:Meeting
END:VEVENT
BEGIN:VEVENT
DTSTART;TZID=America/Chicago:20241027T090000
DTEND;TZID=America/Chicago:20241027T100000
DTSTAMP:20260424T172036
CREATED:20240118T202732Z
LAST-MODIFIED:20240118T202732Z
UID:29764-1730019600-1730023200@www.trinitybemidji.org
SUMMARY:Divine Worship
DESCRIPTION:
URL:https://www.trinitybemidji.org/event/divine-worship-153/
CATEGORIES:Meeting
END:VEVENT
BEGIN:VEVENT
DTSTART;TZID=America/Chicago:20241027T103000
DTEND;TZID=America/Chicago:20241027T113000
DTSTAMP:20260424T172036
CREATED:20240118T203014Z
LAST-MODIFIED:20240118T203014Z
UID:29816-1730025000-1730028600@www.trinitybemidji.org
SUMMARY:Bible Study
DESCRIPTION:
URL:https://www.trinitybemidji.org/event/bible-study-154/
CATEGORIES:Meeting
END:VEVENT
BEGIN:VEVENT
DTSTART;TZID=America/Chicago:20241027T103000
DTEND;TZID=America/Chicago:20241027T113000
DTSTAMP:20260424T172036
CREATED:20240118T203527Z
LAST-MODIFIED:20240118T203527Z
UID:29918-1730025000-1730028600@www.trinitybemidji.org
SUMMARY:Sunday School
DESCRIPTION:
URL:https://www.trinitybemidji.org/event/sunday-school-99/
CATEGORIES:Meeting
END:VEVENT
END:VCALENDAR