BEGIN:VCALENDAR
VERSION:2.0
PRODID:-//Trinity Lutheran Church - Bemidji - ECPv6.15.20//NONSGML v1.0//EN
CALSCALE:GREGORIAN
METHOD:PUBLISH
X-WR-CALNAME:Trinity Lutheran Church - Bemidji
X-ORIGINAL-URL:https://www.trinitybemidji.org
X-WR-CALDESC:Events for Trinity Lutheran Church - Bemidji
REFRESH-INTERVAL;VALUE=DURATION:PT1H
X-Robots-Tag:noindex
X-PUBLISHED-TTL:PT1H
BEGIN:VTIMEZONE
TZID:America/Chicago
BEGIN:DAYLIGHT
TZOFFSETFROM:-0600
TZOFFSETTO:-0500
TZNAME:CDT
DTSTART:20240310T080000
END:DAYLIGHT
BEGIN:STANDARD
TZOFFSETFROM:-0500
TZOFFSETTO:-0600
TZNAME:CST
DTSTART:20241103T070000
END:STANDARD
BEGIN:DAYLIGHT
TZOFFSETFROM:-0600
TZOFFSETTO:-0500
TZNAME:CDT
DTSTART:20250309T080000
END:DAYLIGHT
BEGIN:STANDARD
TZOFFSETFROM:-0500
TZOFFSETTO:-0600
TZNAME:CST
DTSTART:20251102T070000
END:STANDARD
BEGIN:DAYLIGHT
TZOFFSETFROM:-0600
TZOFFSETTO:-0500
TZNAME:CDT
DTSTART:20260308T080000
END:DAYLIGHT
BEGIN:STANDARD
TZOFFSETFROM:-0500
TZOFFSETTO:-0600
TZNAME:CST
DTSTART:20261101T070000
END:STANDARD
END:VTIMEZONE
BEGIN:VEVENT
DTSTART;TZID=America/Chicago:20250102T133000
DTEND;TZID=America/Chicago:20250102T150000
DTSTAMP:20260424T121742
CREATED:20250106T203842Z
LAST-MODIFIED:20250106T203842Z
UID:30589-1735824600-1735830000@www.trinitybemidji.org
SUMMARY:Ladies Guild
DESCRIPTION:
URL:https://www.trinitybemidji.org/event/ladies-guild/
CATEGORIES:Meeting
END:VEVENT
BEGIN:VEVENT
DTSTART;TZID=America/Chicago:20250102T173000
DTEND;TZID=America/Chicago:20250102T190000
DTSTAMP:20260424T121742
CREATED:20250106T203911Z
LAST-MODIFIED:20250106T203911Z
UID:30598-1735839000-1735844400@www.trinitybemidji.org
SUMMARY:Board of Elders
DESCRIPTION:
URL:https://www.trinitybemidji.org/event/board-of-elders-42/
CATEGORIES:Meeting
END:VEVENT
BEGIN:VEVENT
DTSTART;TZID=America/Chicago:20250105T090000
DTEND;TZID=America/Chicago:20250105T100000
DTSTAMP:20260424T121742
CREATED:20250106T190151Z
LAST-MODIFIED:20250106T190151Z
UID:30382-1736067600-1736071200@www.trinitybemidji.org
SUMMARY:Divine Worship
DESCRIPTION:
URL:https://www.trinitybemidji.org/event/divine-worship-163/
CATEGORIES:Meeting
END:VEVENT
BEGIN:VEVENT
DTSTART;TZID=America/Chicago:20250105T103000
DTEND;TZID=America/Chicago:20250105T113000
DTSTAMP:20260424T121742
CREATED:20250106T192613Z
LAST-MODIFIED:20250106T192613Z
UID:30434-1736073000-1736076600@www.trinitybemidji.org
SUMMARY:Bible Study
DESCRIPTION:
URL:https://www.trinitybemidji.org/event/bible-study-164/
CATEGORIES:Meeting
END:VEVENT
BEGIN:VEVENT
DTSTART;TZID=America/Chicago:20250105T103000
DTEND;TZID=America/Chicago:20250105T113000
DTSTAMP:20260424T121742
CREATED:20250106T201208Z
LAST-MODIFIED:20250106T201208Z
UID:30539-1736073000-1736076600@www.trinitybemidji.org
SUMMARY:Sunday School
DESCRIPTION:
URL:https://www.trinitybemidji.org/event/sunday-school-108/
CATEGORIES:Meeting
END:VEVENT
BEGIN:VEVENT
DTSTART;TZID=America/Chicago:20250106T173000
DTEND;TZID=America/Chicago:20250106T183000
DTSTAMP:20260424T121742
CREATED:20250106T203811Z
LAST-MODIFIED:20250106T203811Z
UID:30577-1736184600-1736188200@www.trinitybemidji.org
SUMMARY:Men of Trinity
DESCRIPTION:
URL:https://www.trinitybemidji.org/event/men-of-trinity-18/
CATEGORIES:Meeting
END:VEVENT
BEGIN:VEVENT
DTSTART;TZID=America/Chicago:20250109T133000
DTEND;TZID=America/Chicago:20250109T143000
DTSTAMP:20260424T121742
CREATED:20250106T200950Z
LAST-MODIFIED:20250106T200950Z
UID:30530-1736429400-1736433000@www.trinitybemidji.org
SUMMARY:Hannah Circle
DESCRIPTION:
URL:https://www.trinitybemidji.org/event/hannah-circle-18/
CATEGORIES:Meeting
END:VEVENT
BEGIN:VEVENT
DTSTART;TZID=America/Chicago:20250112T090000
DTEND;TZID=America/Chicago:20250112T100000
DTSTAMP:20260424T121742
CREATED:20250106T190151Z
LAST-MODIFIED:20250106T190151Z
UID:30383-1736672400-1736676000@www.trinitybemidji.org
SUMMARY:Divine Worship
DESCRIPTION:
URL:https://www.trinitybemidji.org/event/divine-worship-164/
CATEGORIES:Meeting
END:VEVENT
BEGIN:VEVENT
DTSTART;TZID=America/Chicago:20250112T103000
DTEND;TZID=America/Chicago:20250112T113000
DTSTAMP:20260424T121742
CREATED:20250106T192614Z
LAST-MODIFIED:20250106T192614Z
UID:30435-1736677800-1736681400@www.trinitybemidji.org
SUMMARY:Bible Study
DESCRIPTION:
URL:https://www.trinitybemidji.org/event/bible-study-165/
CATEGORIES:Meeting
END:VEVENT
BEGIN:VEVENT
DTSTART;TZID=America/Chicago:20250112T103000
DTEND;TZID=America/Chicago:20250112T113000
DTSTAMP:20260424T121742
CREATED:20250106T201208Z
LAST-MODIFIED:20250106T201208Z
UID:30540-1736677800-1736681400@www.trinitybemidji.org
SUMMARY:Sunday School
DESCRIPTION:
URL:https://www.trinitybemidji.org/event/sunday-school-109/
CATEGORIES:Meeting
END:VEVENT
BEGIN:VEVENT
DTSTART;TZID=America/Chicago:20250113T183000
DTEND;TZID=America/Chicago:20250113T193000
DTSTAMP:20260424T121742
CREATED:20250106T194023Z
LAST-MODIFIED:20250106T194023Z
UID:30486-1736793000-1736796600@www.trinitybemidji.org
SUMMARY:Active Christian Fellowship
DESCRIPTION:
URL:https://www.trinitybemidji.org/event/active-christian-fellowship-41/
CATEGORIES:Meeting
END:VEVENT
BEGIN:VEVENT
DTSTART;TZID=America/Chicago:20250116T090000
DTEND;TZID=America/Chicago:20250116T100000
DTSTAMP:20260424T121742
CREATED:20250106T194624Z
LAST-MODIFIED:20250106T194624Z
UID:30498-1737018000-1737021600@www.trinitybemidji.org
SUMMARY:Happy Quilters
DESCRIPTION:
URL:https://www.trinitybemidji.org/event/happy-quilters-39/
CATEGORIES:Meeting
END:VEVENT
BEGIN:VEVENT
DTSTART;TZID=America/Chicago:20250119T090000
DTEND;TZID=America/Chicago:20250119T100000
DTSTAMP:20260424T121742
CREATED:20250106T190152Z
LAST-MODIFIED:20250106T190152Z
UID:30384-1737277200-1737280800@www.trinitybemidji.org
SUMMARY:Divine Worship
DESCRIPTION:
URL:https://www.trinitybemidji.org/event/divine-worship-165/
CATEGORIES:Meeting
END:VEVENT
BEGIN:VEVENT
DTSTART;TZID=America/Chicago:20250119T103000
DTEND;TZID=America/Chicago:20250119T113000
DTSTAMP:20260424T121742
CREATED:20250106T192614Z
LAST-MODIFIED:20250106T192614Z
UID:30436-1737282600-1737286200@www.trinitybemidji.org
SUMMARY:Bible Study
DESCRIPTION:
URL:https://www.trinitybemidji.org/event/bible-study-166/
CATEGORIES:Meeting
END:VEVENT
BEGIN:VEVENT
DTSTART;TZID=America/Chicago:20250119T103000
DTEND;TZID=America/Chicago:20250119T113000
DTSTAMP:20260424T121742
CREATED:20250106T201208Z
LAST-MODIFIED:20250106T201208Z
UID:30541-1737282600-1737286200@www.trinitybemidji.org
SUMMARY:Sunday School
DESCRIPTION:
URL:https://www.trinitybemidji.org/event/sunday-school-110/
CATEGORIES:Meeting
END:VEVENT
BEGIN:VEVENT
DTSTART;TZID=America/Chicago:20250121T093000
DTEND;TZID=America/Chicago:20250121T223000
DTSTAMP:20260424T121742
CREATED:20250106T200921Z
LAST-MODIFIED:20250106T200921Z
UID:30521-1737451800-1737498600@www.trinitybemidji.org
SUMMARY:Eunice Circle
DESCRIPTION:
URL:https://www.trinitybemidji.org/event/eunice-circle-31/
CATEGORIES:Meeting
END:VEVENT
BEGIN:VEVENT
DTSTART;TZID=America/Chicago:20250123T090000
DTEND;TZID=America/Chicago:20250123T100000
DTSTAMP:20260424T121742
CREATED:20250106T194624Z
LAST-MODIFIED:20250106T194624Z
UID:30499-1737622800-1737626400@www.trinitybemidji.org
SUMMARY:Happy Quilters
DESCRIPTION:
URL:https://www.trinitybemidji.org/event/happy-quilters-40/
CATEGORIES:Meeting
END:VEVENT
BEGIN:VEVENT
DTSTART;TZID=America/Chicago:20250126T090000
DTEND;TZID=America/Chicago:20250126T100000
DTSTAMP:20260424T121742
CREATED:20250106T190152Z
LAST-MODIFIED:20250106T190152Z
UID:30385-1737882000-1737885600@www.trinitybemidji.org
SUMMARY:Divine Worship
DESCRIPTION:
URL:https://www.trinitybemidji.org/event/divine-worship-166/
CATEGORIES:Meeting
END:VEVENT
BEGIN:VEVENT
DTSTART;TZID=America/Chicago:20250126T103000
DTEND;TZID=America/Chicago:20250126T113000
DTSTAMP:20260424T121742
CREATED:20250106T192809Z
LAST-MODIFIED:20250106T192809Z
UID:30437-1737887400-1737891000@www.trinitybemidji.org
SUMMARY:Bible Study
DESCRIPTION:
URL:https://www.trinitybemidji.org/event/bible-study-167/
CATEGORIES:Meeting
END:VEVENT
BEGIN:VEVENT
DTSTART;TZID=America/Chicago:20250126T103000
DTEND;TZID=America/Chicago:20250126T113000
DTSTAMP:20260424T121742
CREATED:20250106T201407Z
LAST-MODIFIED:20250106T201407Z
UID:30542-1737887400-1737891000@www.trinitybemidji.org
SUMMARY:Sunday School
DESCRIPTION:
URL:https://www.trinitybemidji.org/event/sunday-school-111/
CATEGORIES:Meeting
END:VEVENT
END:VCALENDAR