BEGIN:VCALENDAR
VERSION:2.0
PRODID:-//Trinity Lutheran Church - Bemidji - ECPv6.15.20//NONSGML v1.0//EN
CALSCALE:GREGORIAN
METHOD:PUBLISH
X-ORIGINAL-URL:https://www.trinitybemidji.org
X-WR-CALDESC:Events for Trinity Lutheran Church - Bemidji
REFRESH-INTERVAL;VALUE=DURATION:PT1H
X-Robots-Tag:noindex
X-PUBLISHED-TTL:PT1H
BEGIN:VTIMEZONE
TZID:America/Chicago
BEGIN:DAYLIGHT
TZOFFSETFROM:-0600
TZOFFSETTO:-0500
TZNAME:CDT
DTSTART:20240310T080000
END:DAYLIGHT
BEGIN:STANDARD
TZOFFSETFROM:-0500
TZOFFSETTO:-0600
TZNAME:CST
DTSTART:20241103T070000
END:STANDARD
BEGIN:DAYLIGHT
TZOFFSETFROM:-0600
TZOFFSETTO:-0500
TZNAME:CDT
DTSTART:20250309T080000
END:DAYLIGHT
BEGIN:STANDARD
TZOFFSETFROM:-0500
TZOFFSETTO:-0600
TZNAME:CST
DTSTART:20251102T070000
END:STANDARD
BEGIN:DAYLIGHT
TZOFFSETFROM:-0600
TZOFFSETTO:-0500
TZNAME:CDT
DTSTART:20260308T080000
END:DAYLIGHT
BEGIN:STANDARD
TZOFFSETFROM:-0500
TZOFFSETTO:-0600
TZNAME:CST
DTSTART:20261101T070000
END:STANDARD
END:VTIMEZONE
BEGIN:VEVENT
DTSTART;TZID=America/Chicago:20250601T090000
DTEND;TZID=America/Chicago:20250601T100000
DTSTAMP:20260424T035355
CREATED:20250106T190420Z
LAST-MODIFIED:20250106T190420Z
UID:30403-1748768400-1748772000@www.trinitybemidji.org
SUMMARY:Divine Worship
DESCRIPTION:
URL:https://www.trinitybemidji.org/event/divine-worship-184/
CATEGORIES:Meeting
END:VEVENT
BEGIN:VEVENT
DTSTART;TZID=America/Chicago:20250601T103000
DTEND;TZID=America/Chicago:20250601T113000
DTSTAMP:20260424T035355
CREATED:20250106T193110Z
LAST-MODIFIED:20250106T193110Z
UID:30455-1748773800-1748777400@www.trinitybemidji.org
SUMMARY:Bible Study
DESCRIPTION:
URL:https://www.trinitybemidji.org/event/bible-study-185/
CATEGORIES:Meeting
END:VEVENT
BEGIN:VEVENT
DTSTART;TZID=America/Chicago:20250602T173000
DTEND;TZID=America/Chicago:20250602T183000
DTSTAMP:20260424T035355
CREATED:20250106T203826Z
LAST-MODIFIED:20250106T203826Z
UID:30582-1748885400-1748889000@www.trinitybemidji.org
SUMMARY:Men of Trinity
DESCRIPTION:
URL:https://www.trinitybemidji.org/event/men-of-trinity-23/
CATEGORIES:Meeting
END:VEVENT
BEGIN:VEVENT
DTSTART;TZID=America/Chicago:20250605T133000
DTEND;TZID=America/Chicago:20250605T150000
DTSTAMP:20260424T035355
CREATED:20250106T203857Z
LAST-MODIFIED:20250106T203857Z
UID:30594-1749130200-1749135600@www.trinitybemidji.org
SUMMARY:Ladies Guild
DESCRIPTION:
URL:https://www.trinitybemidji.org/event/ladies-guild-6/
CATEGORIES:Meeting
END:VEVENT
BEGIN:VEVENT
DTSTART;TZID=America/Chicago:20250605T173000
DTEND;TZID=America/Chicago:20250605T190000
DTSTAMP:20260424T035355
CREATED:20250106T203926Z
LAST-MODIFIED:20250106T203926Z
UID:30603-1749144600-1749150000@www.trinitybemidji.org
SUMMARY:Board of Elders
DESCRIPTION:
URL:https://www.trinitybemidji.org/event/board-of-elders-47/
CATEGORIES:Meeting
END:VEVENT
BEGIN:VEVENT
DTSTART;TZID=America/Chicago:20250608T090000
DTEND;TZID=America/Chicago:20250608T100000
DTSTAMP:20260424T035355
CREATED:20250106T190421Z
LAST-MODIFIED:20250106T190421Z
UID:30404-1749373200-1749376800@www.trinitybemidji.org
SUMMARY:Divine Worship
DESCRIPTION:
URL:https://www.trinitybemidji.org/event/divine-worship-185/
CATEGORIES:Meeting
END:VEVENT
BEGIN:VEVENT
DTSTART;TZID=America/Chicago:20250608T103000
DTEND;TZID=America/Chicago:20250608T113000
DTSTAMP:20260424T035355
CREATED:20250106T193110Z
LAST-MODIFIED:20250106T193110Z
UID:30456-1749378600-1749382200@www.trinitybemidji.org
SUMMARY:Bible Study
DESCRIPTION:
URL:https://www.trinitybemidji.org/event/bible-study-186/
CATEGORIES:Meeting
END:VEVENT
BEGIN:VEVENT
DTSTART;TZID=America/Chicago:20250615T090000
DTEND;TZID=America/Chicago:20250615T100000
DTSTAMP:20260424T035355
CREATED:20250106T190421Z
LAST-MODIFIED:20250106T190421Z
UID:30405-1749978000-1749981600@www.trinitybemidji.org
SUMMARY:Divine Worship
DESCRIPTION:
URL:https://www.trinitybemidji.org/event/divine-worship-186/
CATEGORIES:Meeting
END:VEVENT
BEGIN:VEVENT
DTSTART;TZID=America/Chicago:20250615T103000
DTEND;TZID=America/Chicago:20250615T113000
DTSTAMP:20260424T035355
CREATED:20250106T193309Z
LAST-MODIFIED:20250106T193309Z
UID:30457-1749983400-1749987000@www.trinitybemidji.org
SUMMARY:Bible Study
DESCRIPTION:
URL:https://www.trinitybemidji.org/event/bible-study-187/
CATEGORIES:Meeting
END:VEVENT
BEGIN:VEVENT
DTSTART;TZID=America/Chicago:20250616T130000
DTEND;TZID=America/Chicago:20250616T140000
DTSTAMP:20260424T035355
CREATED:20250106T204107Z
LAST-MODIFIED:20250106T204107Z
UID:30632-1750078800-1750082400@www.trinitybemidji.org
SUMMARY:Altar Circle
DESCRIPTION:
URL:https://www.trinitybemidji.org/event/altar-circle-30/
CATEGORIES:Meeting
END:VEVENT
BEGIN:VEVENT
DTSTART;TZID=America/Chicago:20250616T173000
DTEND;TZID=America/Chicago:20250616T183000
DTSTAMP:20260424T035355
CREATED:20250530T145612Z
LAST-MODIFIED:20250530T145819Z
UID:30848-1750095000-1750098600@www.trinitybemidji.org
SUMMARY:Men of Trinity
DESCRIPTION:
URL:https://www.trinitybemidji.org/event/men-of-trinity-30/
CATEGORIES:Meeting
END:VEVENT
BEGIN:VEVENT
DTSTART;TZID=America/Chicago:20250618T120000
DTEND;TZID=America/Chicago:20250618T133000
DTSTAMP:20260424T035355
CREATED:20250616T154459Z
LAST-MODIFIED:20250616T154459Z
UID:30870-1750248000-1750253400@www.trinitybemidji.org
SUMMARY:Bemidji Area Church Musicians Recital
DESCRIPTION:
URL:https://www.trinitybemidji.org/event/bemidji-area-church-musicians-recital/
END:VEVENT
BEGIN:VEVENT
DTSTART;TZID=America/Chicago:20250619T090000
DTEND;TZID=America/Chicago:20250619T100000
DTSTAMP:20260424T035355
CREATED:20250106T195026Z
LAST-MODIFIED:20250106T195026Z
UID:30508-1750323600-1750327200@www.trinitybemidji.org
SUMMARY:Happy Quilters
DESCRIPTION:
URL:https://www.trinitybemidji.org/event/happy-quilters-49/
CATEGORIES:Meeting
END:VEVENT
BEGIN:VEVENT
DTSTART;TZID=America/Chicago:20250619T180000
DTEND;TZID=America/Chicago:20250619T190000
DTSTAMP:20260424T035355
CREATED:20250106T204007Z
LAST-MODIFIED:20250106T204007Z
UID:30614-1750356000-1750359600@www.trinitybemidji.org
SUMMARY:Church Boards
DESCRIPTION:
URL:https://www.trinitybemidji.org/event/church-boards-40/
CATEGORIES:Meeting
END:VEVENT
BEGIN:VEVENT
DTSTART;TZID=America/Chicago:20250619T190000
DTEND;TZID=America/Chicago:20250619T200000
DTSTAMP:20260424T035355
CREATED:20250106T204038Z
LAST-MODIFIED:20250106T204038Z
UID:30624-1750359600-1750363200@www.trinitybemidji.org
SUMMARY:Church Council
DESCRIPTION:
URL:https://www.trinitybemidji.org/event/church-council-38/
CATEGORIES:Meeting
END:VEVENT
BEGIN:VEVENT
DTSTART;TZID=America/Chicago:20250622T090000
DTEND;TZID=America/Chicago:20250622T100000
DTSTAMP:20260424T035355
CREATED:20250106T190422Z
LAST-MODIFIED:20250106T190422Z
UID:30406-1750582800-1750586400@www.trinitybemidji.org
SUMMARY:Divine Worship
DESCRIPTION:
URL:https://www.trinitybemidji.org/event/divine-worship-187/
CATEGORIES:Meeting
END:VEVENT
BEGIN:VEVENT
DTSTART;TZID=America/Chicago:20250622T103000
DTEND;TZID=America/Chicago:20250622T113000
DTSTAMP:20260424T035355
CREATED:20250106T193310Z
LAST-MODIFIED:20250106T193310Z
UID:30458-1750588200-1750591800@www.trinitybemidji.org
SUMMARY:Bible Study
DESCRIPTION:
URL:https://www.trinitybemidji.org/event/bible-study-188/
CATEGORIES:Meeting
END:VEVENT
BEGIN:VEVENT
DTSTART;TZID=America/Chicago:20250626T090000
DTEND;TZID=America/Chicago:20250626T100000
DTSTAMP:20260424T035355
CREATED:20250106T195026Z
LAST-MODIFIED:20250106T195026Z
UID:30509-1750928400-1750932000@www.trinitybemidji.org
SUMMARY:Happy Quilters
DESCRIPTION:
URL:https://www.trinitybemidji.org/event/happy-quilters-50/
CATEGORIES:Meeting
END:VEVENT
BEGIN:VEVENT
DTSTART;TZID=America/Chicago:20250629T090000
DTEND;TZID=America/Chicago:20250629T100000
DTSTAMP:20260424T035355
CREATED:20250106T190620Z
LAST-MODIFIED:20250106T190620Z
UID:30407-1751187600-1751191200@www.trinitybemidji.org
SUMMARY:Divine Worship
DESCRIPTION:
URL:https://www.trinitybemidji.org/event/divine-worship-188/
CATEGORIES:Meeting
END:VEVENT
BEGIN:VEVENT
DTSTART;TZID=America/Chicago:20250629T103000
DTEND;TZID=America/Chicago:20250629T113000
DTSTAMP:20260424T035355
CREATED:20250106T193311Z
LAST-MODIFIED:20250106T193311Z
UID:30459-1751193000-1751196600@www.trinitybemidji.org
SUMMARY:Bible Study
DESCRIPTION:
URL:https://www.trinitybemidji.org/event/bible-study-189/
CATEGORIES:Meeting
END:VEVENT
END:VCALENDAR