BEGIN:VCALENDAR
VERSION:2.0
PRODID:-//Trinity Lutheran Church - Bemidji - ECPv6.15.20//NONSGML v1.0//EN
CALSCALE:GREGORIAN
METHOD:PUBLISH
X-ORIGINAL-URL:https://www.trinitybemidji.org
X-WR-CALDESC:Events for Trinity Lutheran Church - Bemidji
REFRESH-INTERVAL;VALUE=DURATION:PT1H
X-Robots-Tag:noindex
X-PUBLISHED-TTL:PT1H
BEGIN:VTIMEZONE
TZID:America/Chicago
BEGIN:DAYLIGHT
TZOFFSETFROM:-0600
TZOFFSETTO:-0500
TZNAME:CDT
DTSTART:20240310T080000
END:DAYLIGHT
BEGIN:STANDARD
TZOFFSETFROM:-0500
TZOFFSETTO:-0600
TZNAME:CST
DTSTART:20241103T070000
END:STANDARD
BEGIN:DAYLIGHT
TZOFFSETFROM:-0600
TZOFFSETTO:-0500
TZNAME:CDT
DTSTART:20250309T080000
END:DAYLIGHT
BEGIN:STANDARD
TZOFFSETFROM:-0500
TZOFFSETTO:-0600
TZNAME:CST
DTSTART:20251102T070000
END:STANDARD
BEGIN:DAYLIGHT
TZOFFSETFROM:-0600
TZOFFSETTO:-0500
TZNAME:CDT
DTSTART:20260308T080000
END:DAYLIGHT
BEGIN:STANDARD
TZOFFSETFROM:-0500
TZOFFSETTO:-0600
TZNAME:CST
DTSTART:20261101T070000
END:STANDARD
END:VTIMEZONE
BEGIN:VEVENT
DTSTART;TZID=America/Chicago:20250902T173000
DTEND;TZID=America/Chicago:20250902T183000
DTSTAMP:20260423T223149
CREATED:20250106T203827Z
LAST-MODIFIED:20250821T140956Z
UID:30585-1756834200-1756837800@www.trinitybemidji.org
SUMMARY:Men of Trinity
DESCRIPTION:
URL:https://www.trinitybemidji.org/event/men-of-trinity-26/
CATEGORIES:Meeting
END:VEVENT
BEGIN:VEVENT
DTSTART;TZID=America/Chicago:20250904T133000
DTEND;TZID=America/Chicago:20250904T150000
DTSTAMP:20260423T223149
CREATED:20250106T203857Z
LAST-MODIFIED:20250106T203857Z
UID:30595-1756992600-1756998000@www.trinitybemidji.org
SUMMARY:Ladies Guild
DESCRIPTION:
URL:https://www.trinitybemidji.org/event/ladies-guild-7/
CATEGORIES:Meeting
END:VEVENT
BEGIN:VEVENT
DTSTART;TZID=America/Chicago:20250904T173000
DTEND;TZID=America/Chicago:20250904T190000
DTSTAMP:20260423T223149
CREATED:20250106T203927Z
LAST-MODIFIED:20250106T203927Z
UID:30606-1757007000-1757012400@www.trinitybemidji.org
SUMMARY:Board of Elders
DESCRIPTION:
URL:https://www.trinitybemidji.org/event/board-of-elders-50/
CATEGORIES:Meeting
END:VEVENT
BEGIN:VEVENT
DTSTART;TZID=America/Chicago:20250907T090000
DTEND;TZID=America/Chicago:20250907T100000
DTSTAMP:20260423T223149
CREATED:20250106T191022Z
LAST-MODIFIED:20250106T191022Z
UID:30417-1757235600-1757239200@www.trinitybemidji.org
SUMMARY:Divine Worship
DESCRIPTION:
URL:https://www.trinitybemidji.org/event/divine-worship-198/
CATEGORIES:Meeting
END:VEVENT
BEGIN:VEVENT
DTSTART;TZID=America/Chicago:20250907T103000
DTEND;TZID=America/Chicago:20250907T113000
DTSTAMP:20260423T223149
CREATED:20250106T193713Z
LAST-MODIFIED:20250106T193713Z
UID:30469-1757241000-1757244600@www.trinitybemidji.org
SUMMARY:Bible Study
DESCRIPTION:
URL:https://www.trinitybemidji.org/event/bible-study-199/
CATEGORIES:Meeting
END:VEVENT
BEGIN:VEVENT
DTSTART;TZID=America/Chicago:20250907T110000
DTEND;TZID=America/Chicago:20250907T150000
DTSTAMP:20260423T223149
CREATED:20250821T141111Z
LAST-MODIFIED:20250821T141111Z
UID:30930-1757242800-1757257200@www.trinitybemidji.org
SUMMARY:ACF Whist & Pizza
DESCRIPTION:
URL:https://www.trinitybemidji.org/event/acf-whist-pizza/
END:VEVENT
BEGIN:VEVENT
DTSTART;TZID=America/Chicago:20250909T180000
DTEND;TZID=America/Chicago:20250909T190000
DTSTAMP:20260423T223149
CREATED:20250911T144301Z
LAST-MODIFIED:20250911T144301Z
UID:30949-1757440800-1757444400@www.trinitybemidji.org
SUMMARY:Bells
DESCRIPTION:
URL:https://www.trinitybemidji.org/event/bells-30/
END:VEVENT
BEGIN:VEVENT
DTSTART;TZID=America/Chicago:20250911T133000
DTEND;TZID=America/Chicago:20250911T143000
DTSTAMP:20260423T223149
CREATED:20250106T201007Z
LAST-MODIFIED:20250106T201007Z
UID:30535-1757597400-1757601000@www.trinitybemidji.org
SUMMARY:Hannah Circle
DESCRIPTION:
URL:https://www.trinitybemidji.org/event/hannah-circle-23/
CATEGORIES:Meeting
END:VEVENT
BEGIN:VEVENT
DTSTART;TZID=America/Chicago:20250914T090000
DTEND;TZID=America/Chicago:20250914T100000
DTSTAMP:20260423T223149
CREATED:20250106T191023Z
LAST-MODIFIED:20250106T191023Z
UID:30418-1757840400-1757844000@www.trinitybemidji.org
SUMMARY:Divine Worship
DESCRIPTION:
URL:https://www.trinitybemidji.org/event/divine-worship-199/
CATEGORIES:Meeting
END:VEVENT
BEGIN:VEVENT
DTSTART;TZID=America/Chicago:20250914T103000
DTEND;TZID=America/Chicago:20250914T113000
DTSTAMP:20260423T223149
CREATED:20250106T193713Z
LAST-MODIFIED:20250106T193713Z
UID:30470-1757845800-1757849400@www.trinitybemidji.org
SUMMARY:Bible Study
DESCRIPTION:
URL:https://www.trinitybemidji.org/event/bible-study-200/
CATEGORIES:Meeting
END:VEVENT
BEGIN:VEVENT
DTSTART;TZID=America/Chicago:20250914T103000
DTEND;TZID=America/Chicago:20250914T113000
DTSTAMP:20260423T223149
CREATED:20250106T203649Z
LAST-MODIFIED:20250827T134232Z
UID:30561-1757845800-1757849400@www.trinitybemidji.org
SUMMARY:Sunday School Kickoff
DESCRIPTION:
URL:https://www.trinitybemidji.org/event/sunday-school-130/
CATEGORIES:Meeting
END:VEVENT
BEGIN:VEVENT
DTSTART;TZID=America/Chicago:20250915T130000
DTEND;TZID=America/Chicago:20250915T140000
DTSTAMP:20260423T223149
CREATED:20250106T204109Z
LAST-MODIFIED:20250106T204109Z
UID:30635-1757941200-1757944800@www.trinitybemidji.org
SUMMARY:Altar Circle
DESCRIPTION:
URL:https://www.trinitybemidji.org/event/altar-circle-33/
CATEGORIES:Meeting
END:VEVENT
BEGIN:VEVENT
DTSTART;TZID=America/Chicago:20250915T173000
DTEND;TZID=America/Chicago:20250915T183000
DTSTAMP:20260423T223149
CREATED:20250530T150008Z
LAST-MODIFIED:20250530T150008Z
UID:30854-1757957400-1757961000@www.trinitybemidji.org
SUMMARY:Men of Trinity
DESCRIPTION:
URL:https://www.trinitybemidji.org/event/men-of-trinity-33/
CATEGORIES:Meeting
END:VEVENT
BEGIN:VEVENT
DTSTART;TZID=America/Chicago:20250916T093000
DTEND;TZID=America/Chicago:20250916T223000
DTSTAMP:20260423T223149
CREATED:20250106T200935Z
LAST-MODIFIED:20250106T200935Z
UID:30526-1758015000-1758061800@www.trinitybemidji.org
SUMMARY:Eunice Circle
DESCRIPTION:
URL:https://www.trinitybemidji.org/event/eunice-circle-36/
CATEGORIES:Meeting
END:VEVENT
BEGIN:VEVENT
DTSTART;TZID=America/Chicago:20250916T180000
DTEND;TZID=America/Chicago:20250916T190000
DTSTAMP:20260423T223149
CREATED:20250911T144408Z
LAST-MODIFIED:20250911T144408Z
UID:30951-1758045600-1758049200@www.trinitybemidji.org
SUMMARY:Bells
DESCRIPTION:
URL:https://www.trinitybemidji.org/event/bells-31/
END:VEVENT
BEGIN:VEVENT
DTSTART;TZID=America/Chicago:20250918T090000
DTEND;TZID=America/Chicago:20250918T100000
DTSTAMP:20260423T223149
CREATED:20250106T200906Z
LAST-MODIFIED:20250106T200906Z
UID:30514-1758186000-1758189600@www.trinitybemidji.org
SUMMARY:Happy Quilters
DESCRIPTION:
URL:https://www.trinitybemidji.org/event/happy-quilters-55/
CATEGORIES:Meeting
END:VEVENT
BEGIN:VEVENT
DTSTART;TZID=America/Chicago:20250918T180000
DTEND;TZID=America/Chicago:20250918T190000
DTSTAMP:20260423T223149
CREATED:20250106T204008Z
LAST-MODIFIED:20250106T204008Z
UID:30616-1758218400-1758222000@www.trinitybemidji.org
SUMMARY:Church Boards
DESCRIPTION:
URL:https://www.trinitybemidji.org/event/church-boards-42/
CATEGORIES:Meeting
END:VEVENT
BEGIN:VEVENT
DTSTART;TZID=America/Chicago:20250918T190000
DTEND;TZID=America/Chicago:20250918T200000
DTSTAMP:20260423T223149
CREATED:20250106T204039Z
LAST-MODIFIED:20250106T204039Z
UID:30626-1758222000-1758225600@www.trinitybemidji.org
SUMMARY:Church Council
DESCRIPTION:
URL:https://www.trinitybemidji.org/event/church-council-40/
CATEGORIES:Meeting
END:VEVENT
BEGIN:VEVENT
DTSTART;TZID=America/Chicago:20250921T090000
DTEND;TZID=America/Chicago:20250921T100000
DTSTAMP:20260423T223149
CREATED:20250106T191024Z
LAST-MODIFIED:20250106T191024Z
UID:30419-1758445200-1758448800@www.trinitybemidji.org
SUMMARY:Divine Worship
DESCRIPTION:
URL:https://www.trinitybemidji.org/event/divine-worship-200/
CATEGORIES:Meeting
END:VEVENT
BEGIN:VEVENT
DTSTART;TZID=America/Chicago:20250921T103000
DTEND;TZID=America/Chicago:20250921T113000
DTSTAMP:20260423T223149
CREATED:20250106T193714Z
LAST-MODIFIED:20250106T193714Z
UID:30471-1758450600-1758454200@www.trinitybemidji.org
SUMMARY:Bible Study
DESCRIPTION:
URL:https://www.trinitybemidji.org/event/bible-study-201/
CATEGORIES:Meeting
END:VEVENT
BEGIN:VEVENT
DTSTART;TZID=America/Chicago:20250921T103000
DTEND;TZID=America/Chicago:20250921T113000
DTSTAMP:20260423T223149
CREATED:20250106T203726Z
LAST-MODIFIED:20250106T203726Z
UID:30562-1758450600-1758454200@www.trinitybemidji.org
SUMMARY:Sunday School
DESCRIPTION:
URL:https://www.trinitybemidji.org/event/sunday-school-131/
CATEGORIES:Meeting
END:VEVENT
BEGIN:VEVENT
DTSTART;TZID=America/Chicago:20250923T180000
DTEND;TZID=America/Chicago:20250923T190000
DTSTAMP:20260423T223149
CREATED:20250911T145115Z
LAST-MODIFIED:20250911T145115Z
UID:30955-1758650400-1758654000@www.trinitybemidji.org
SUMMARY:Bells
DESCRIPTION:
URL:https://www.trinitybemidji.org/event/bells-32/
CATEGORIES:Meeting
END:VEVENT
BEGIN:VEVENT
DTSTART;TZID=America/Chicago:20250925T090000
DTEND;TZID=America/Chicago:20250925T100000
DTSTAMP:20260423T223149
CREATED:20250106T200907Z
LAST-MODIFIED:20250106T200907Z
UID:30515-1758790800-1758794400@www.trinitybemidji.org
SUMMARY:Happy Quilters
DESCRIPTION:
URL:https://www.trinitybemidji.org/event/happy-quilters-56/
CATEGORIES:Meeting
END:VEVENT
BEGIN:VEVENT
DTSTART;TZID=America/Chicago:20250928T090000
DTEND;TZID=America/Chicago:20250928T100000
DTSTAMP:20260423T223149
CREATED:20250106T191024Z
LAST-MODIFIED:20250106T191024Z
UID:30420-1759050000-1759053600@www.trinitybemidji.org
SUMMARY:Divine Worship
DESCRIPTION:
URL:https://www.trinitybemidji.org/event/divine-worship-201/
CATEGORIES:Meeting
END:VEVENT
BEGIN:VEVENT
DTSTART;TZID=America/Chicago:20250928T103000
DTEND;TZID=America/Chicago:20250928T113000
DTSTAMP:20260423T223149
CREATED:20250106T193912Z
LAST-MODIFIED:20250106T193912Z
UID:30472-1759055400-1759059000@www.trinitybemidji.org
SUMMARY:Bible Study
DESCRIPTION:
URL:https://www.trinitybemidji.org/event/bible-study-202/
CATEGORIES:Meeting
END:VEVENT
BEGIN:VEVENT
DTSTART;TZID=America/Chicago:20250928T103000
DTEND;TZID=America/Chicago:20250928T113000
DTSTAMP:20260423T223149
CREATED:20250106T203726Z
LAST-MODIFIED:20250106T203726Z
UID:30563-1759055400-1759059000@www.trinitybemidji.org
SUMMARY:Sunday School
DESCRIPTION:
URL:https://www.trinitybemidji.org/event/sunday-school-132/
CATEGORIES:Meeting
END:VEVENT
BEGIN:VEVENT
DTSTART;TZID=America/Chicago:20250930T180000
DTEND;TZID=America/Chicago:20250930T190000
DTSTAMP:20260423T223149
CREATED:20250911T145116Z
LAST-MODIFIED:20250911T145116Z
UID:30956-1759255200-1759258800@www.trinitybemidji.org
SUMMARY:Bells
DESCRIPTION:
URL:https://www.trinitybemidji.org/event/bells-33/
CATEGORIES:Meeting
END:VEVENT
END:VCALENDAR