BEGIN:VCALENDAR
VERSION:2.0
PRODID:-//Trinity Lutheran Church - Bemidji - ECPv6.15.20//NONSGML v1.0//EN
CALSCALE:GREGORIAN
METHOD:PUBLISH
X-WR-CALNAME:Trinity Lutheran Church - Bemidji
X-ORIGINAL-URL:https://www.trinitybemidji.org
X-WR-CALDESC:Events for Trinity Lutheran Church - Bemidji
REFRESH-INTERVAL;VALUE=DURATION:PT1H
X-Robots-Tag:noindex
X-PUBLISHED-TTL:PT1H
BEGIN:VTIMEZONE
TZID:America/Chicago
BEGIN:DAYLIGHT
TZOFFSETFROM:-0600
TZOFFSETTO:-0500
TZNAME:CDT
DTSTART:20240310T080000
END:DAYLIGHT
BEGIN:STANDARD
TZOFFSETFROM:-0500
TZOFFSETTO:-0600
TZNAME:CST
DTSTART:20241103T070000
END:STANDARD
BEGIN:DAYLIGHT
TZOFFSETFROM:-0600
TZOFFSETTO:-0500
TZNAME:CDT
DTSTART:20250309T080000
END:DAYLIGHT
BEGIN:STANDARD
TZOFFSETFROM:-0500
TZOFFSETTO:-0600
TZNAME:CST
DTSTART:20251102T070000
END:STANDARD
BEGIN:DAYLIGHT
TZOFFSETFROM:-0600
TZOFFSETTO:-0500
TZNAME:CDT
DTSTART:20260308T080000
END:DAYLIGHT
BEGIN:STANDARD
TZOFFSETFROM:-0500
TZOFFSETTO:-0600
TZNAME:CST
DTSTART:20261101T070000
END:STANDARD
END:VTIMEZONE
BEGIN:VEVENT
DTSTART;TZID=America/Chicago:20251001T130000
DTEND;TZID=America/Chicago:20251001T160000
DTSTAMP:20260423T204912
CREATED:20250925T175942Z
LAST-MODIFIED:20250925T175942Z
UID:30986-1759323600-1759334400@www.trinitybemidji.org
SUMMARY:Bible Study
DESCRIPTION:
URL:https://www.trinitybemidji.org/event/bible-study-216/
CATEGORIES:Meeting
END:VEVENT
BEGIN:VEVENT
DTSTART;TZID=America/Chicago:20251001T180000
DTEND;TZID=America/Chicago:20251001T190000
DTSTAMP:20260423T204912
CREATED:20250925T180035Z
LAST-MODIFIED:20250925T180035Z
UID:31007-1759341600-1759345200@www.trinitybemidji.org
SUMMARY:Confirmation
DESCRIPTION:
URL:https://www.trinitybemidji.org/event/confirmation-39/
CATEGORIES:Meeting
END:VEVENT
BEGIN:VEVENT
DTSTART;TZID=America/Chicago:20251002T133000
DTEND;TZID=America/Chicago:20251002T150000
DTSTAMP:20260423T204912
CREATED:20250106T203858Z
LAST-MODIFIED:20250106T203858Z
UID:30596-1759411800-1759417200@www.trinitybemidji.org
SUMMARY:Ladies Guild
DESCRIPTION:
URL:https://www.trinitybemidji.org/event/ladies-guild-8/
CATEGORIES:Meeting
END:VEVENT
BEGIN:VEVENT
DTSTART;TZID=America/Chicago:20251002T173000
DTEND;TZID=America/Chicago:20251002T190000
DTSTAMP:20260423T204912
CREATED:20250106T203941Z
LAST-MODIFIED:20250106T203941Z
UID:30607-1759426200-1759431600@www.trinitybemidji.org
SUMMARY:Board of Elders
DESCRIPTION:
URL:https://www.trinitybemidji.org/event/board-of-elders-51/
CATEGORIES:Meeting
END:VEVENT
BEGIN:VEVENT
DTSTART;TZID=America/Chicago:20251005T090000
DTEND;TZID=America/Chicago:20251005T100000
DTSTAMP:20260423T204912
CREATED:20250106T191025Z
LAST-MODIFIED:20250106T191025Z
UID:30421-1759654800-1759658400@www.trinitybemidji.org
SUMMARY:Divine Worship
DESCRIPTION:
URL:https://www.trinitybemidji.org/event/divine-worship-202/
CATEGORIES:Meeting
END:VEVENT
BEGIN:VEVENT
DTSTART;TZID=America/Chicago:20251005T103000
DTEND;TZID=America/Chicago:20251005T113000
DTSTAMP:20260423T204912
CREATED:20250106T193913Z
LAST-MODIFIED:20250106T193913Z
UID:30473-1759660200-1759663800@www.trinitybemidji.org
SUMMARY:Bible Study
DESCRIPTION:
URL:https://www.trinitybemidji.org/event/bible-study-203/
CATEGORIES:Meeting
END:VEVENT
BEGIN:VEVENT
DTSTART;TZID=America/Chicago:20251005T103000
DTEND;TZID=America/Chicago:20251005T113000
DTSTAMP:20260423T204912
CREATED:20250106T203727Z
LAST-MODIFIED:20250106T203727Z
UID:30564-1759660200-1759663800@www.trinitybemidji.org
SUMMARY:Sunday School
DESCRIPTION:
URL:https://www.trinitybemidji.org/event/sunday-school-133/
CATEGORIES:Meeting
END:VEVENT
BEGIN:VEVENT
DTSTART;TZID=America/Chicago:20251006T173000
DTEND;TZID=America/Chicago:20251006T183000
DTSTAMP:20260423T204912
CREATED:20250106T203828Z
LAST-MODIFIED:20250106T203828Z
UID:30586-1759771800-1759775400@www.trinitybemidji.org
SUMMARY:Men of Trinity
DESCRIPTION:
URL:https://www.trinitybemidji.org/event/men-of-trinity-27/
CATEGORIES:Meeting
END:VEVENT
BEGIN:VEVENT
DTSTART;TZID=America/Chicago:20251007T180000
DTEND;TZID=America/Chicago:20251007T190000
DTSTAMP:20260423T204912
CREATED:20250911T145117Z
LAST-MODIFIED:20250911T145117Z
UID:30957-1759860000-1759863600@www.trinitybemidji.org
SUMMARY:Bells
DESCRIPTION:
URL:https://www.trinitybemidji.org/event/bells-34/
CATEGORIES:Meeting
END:VEVENT
BEGIN:VEVENT
DTSTART;TZID=America/Chicago:20251008T130000
DTEND;TZID=America/Chicago:20251008T160000
DTSTAMP:20260423T204912
CREATED:20250925T175943Z
LAST-MODIFIED:20250925T175943Z
UID:30987-1759928400-1759939200@www.trinitybemidji.org
SUMMARY:Bible Study
DESCRIPTION:
URL:https://www.trinitybemidji.org/event/bible-study-217/
CATEGORIES:Meeting
END:VEVENT
BEGIN:VEVENT
DTSTART;TZID=America/Chicago:20251008T161500
DTEND;TZID=America/Chicago:20251008T173000
DTSTAMP:20260423T204912
CREATED:20250925T180035Z
LAST-MODIFIED:20250925T180035Z
UID:31008-1759940100-1759944600@www.trinitybemidji.org
SUMMARY:Confirmation
DESCRIPTION:
URL:https://www.trinitybemidji.org/event/confirmation-40/
CATEGORIES:Meeting
END:VEVENT
BEGIN:VEVENT
DTSTART;TZID=America/Chicago:20251009T133000
DTEND;TZID=America/Chicago:20251009T143000
DTSTAMP:20260423T204912
CREATED:20250106T201007Z
LAST-MODIFIED:20250106T201007Z
UID:30536-1760016600-1760020200@www.trinitybemidji.org
SUMMARY:Hannah Circle
DESCRIPTION:
URL:https://www.trinitybemidji.org/event/hannah-circle-24/
CATEGORIES:Meeting
END:VEVENT
BEGIN:VEVENT
DTSTART;TZID=America/Chicago:20251012T090000
DTEND;TZID=America/Chicago:20251012T100000
DTSTAMP:20260423T204912
CREATED:20250106T191223Z
LAST-MODIFIED:20250106T191223Z
UID:30422-1760259600-1760263200@www.trinitybemidji.org
SUMMARY:Divine Worship
DESCRIPTION:
URL:https://www.trinitybemidji.org/event/divine-worship-203/
CATEGORIES:Meeting
END:VEVENT
BEGIN:VEVENT
DTSTART;TZID=America/Chicago:20251012T103000
DTEND;TZID=America/Chicago:20251012T113000
DTSTAMP:20260423T204912
CREATED:20250106T193914Z
LAST-MODIFIED:20250106T193914Z
UID:30474-1760265000-1760268600@www.trinitybemidji.org
SUMMARY:Bible Study
DESCRIPTION:
URL:https://www.trinitybemidji.org/event/bible-study-204/
CATEGORIES:Meeting
END:VEVENT
BEGIN:VEVENT
DTSTART;TZID=America/Chicago:20251012T103000
DTEND;TZID=America/Chicago:20251012T113000
DTSTAMP:20260423T204912
CREATED:20250106T203727Z
LAST-MODIFIED:20250106T203727Z
UID:30565-1760265000-1760268600@www.trinitybemidji.org
SUMMARY:Sunday School
DESCRIPTION:
URL:https://www.trinitybemidji.org/event/sunday-school-134/
CATEGORIES:Meeting
END:VEVENT
BEGIN:VEVENT
DTSTART;TZID=America/Chicago:20251014T180000
DTEND;TZID=America/Chicago:20251014T190000
DTSTAMP:20260423T204912
CREATED:20250911T145118Z
LAST-MODIFIED:20250911T145118Z
UID:30958-1760464800-1760468400@www.trinitybemidji.org
SUMMARY:Bells
DESCRIPTION:
URL:https://www.trinitybemidji.org/event/bells-35/
CATEGORIES:Meeting
END:VEVENT
BEGIN:VEVENT
DTSTART;TZID=America/Chicago:20251015T130000
DTEND;TZID=America/Chicago:20251015T160000
DTSTAMP:20260423T204912
CREATED:20250925T175945Z
LAST-MODIFIED:20250925T175945Z
UID:30988-1760533200-1760544000@www.trinitybemidji.org
SUMMARY:Bible Study
DESCRIPTION:
URL:https://www.trinitybemidji.org/event/bible-study-218/
CATEGORIES:Meeting
END:VEVENT
BEGIN:VEVENT
DTSTART;TZID=America/Chicago:20251015T161500
DTEND;TZID=America/Chicago:20251015T173000
DTSTAMP:20260423T204912
CREATED:20250925T180035Z
LAST-MODIFIED:20250925T180035Z
UID:31009-1760544900-1760549400@www.trinitybemidji.org
SUMMARY:Confirmation
DESCRIPTION:
URL:https://www.trinitybemidji.org/event/confirmation-41/
CATEGORIES:Meeting
END:VEVENT
BEGIN:VEVENT
DTSTART;TZID=America/Chicago:20251015T180000
DTEND;TZID=America/Chicago:20251015T190000
DTSTAMP:20260423T204912
CREATED:20250925T180007Z
LAST-MODIFIED:20250925T180007Z
UID:30998-1760551200-1760554800@www.trinitybemidji.org
SUMMARY:Choir
DESCRIPTION:
URL:https://www.trinitybemidji.org/event/choir/
CATEGORIES:Meeting
END:VEVENT
BEGIN:VEVENT
DTSTART;TZID=America/Chicago:20251016T090000
DTEND;TZID=America/Chicago:20251016T100000
DTSTAMP:20260423T204912
CREATED:20250106T200907Z
LAST-MODIFIED:20250106T200907Z
UID:30516-1760605200-1760608800@www.trinitybemidji.org
SUMMARY:Happy Quilters
DESCRIPTION:
URL:https://www.trinitybemidji.org/event/happy-quilters-57/
CATEGORIES:Meeting
END:VEVENT
BEGIN:VEVENT
DTSTART;TZID=America/Chicago:20251016T180000
DTEND;TZID=America/Chicago:20251016T190000
DTSTAMP:20260423T204912
CREATED:20250106T204022Z
LAST-MODIFIED:20250106T204022Z
UID:30617-1760637600-1760641200@www.trinitybemidji.org
SUMMARY:Church Boards
DESCRIPTION:
URL:https://www.trinitybemidji.org/event/church-boards-43/
CATEGORIES:Meeting
END:VEVENT
BEGIN:VEVENT
DTSTART;TZID=America/Chicago:20251016T190000
DTEND;TZID=America/Chicago:20251016T200000
DTSTAMP:20260423T204912
CREATED:20250106T204052Z
LAST-MODIFIED:20250106T204052Z
UID:30627-1760641200-1760644800@www.trinitybemidji.org
SUMMARY:Church Council
DESCRIPTION:
URL:https://www.trinitybemidji.org/event/church-council-41/
CATEGORIES:Meeting
END:VEVENT
BEGIN:VEVENT
DTSTART;TZID=America/Chicago:20251019T090000
DTEND;TZID=America/Chicago:20251019T100000
DTSTAMP:20260423T204912
CREATED:20250106T191224Z
LAST-MODIFIED:20250106T191224Z
UID:30423-1760864400-1760868000@www.trinitybemidji.org
SUMMARY:Divine Worship
DESCRIPTION:
URL:https://www.trinitybemidji.org/event/divine-worship-204/
CATEGORIES:Meeting
END:VEVENT
BEGIN:VEVENT
DTSTART;TZID=America/Chicago:20251019T103000
DTEND;TZID=America/Chicago:20251019T113000
DTSTAMP:20260423T204912
CREATED:20250106T193914Z
LAST-MODIFIED:20250106T193914Z
UID:30475-1760869800-1760873400@www.trinitybemidji.org
SUMMARY:Bible Study
DESCRIPTION:
URL:https://www.trinitybemidji.org/event/bible-study-205/
CATEGORIES:Meeting
END:VEVENT
BEGIN:VEVENT
DTSTART;TZID=America/Chicago:20251019T103000
DTEND;TZID=America/Chicago:20251019T113000
DTSTAMP:20260423T204912
CREATED:20250106T203728Z
LAST-MODIFIED:20250106T203728Z
UID:30566-1760869800-1760873400@www.trinitybemidji.org
SUMMARY:Sunday School
DESCRIPTION:
URL:https://www.trinitybemidji.org/event/sunday-school-135/
CATEGORIES:Meeting
END:VEVENT
BEGIN:VEVENT
DTSTART;TZID=America/Chicago:20251020T130000
DTEND;TZID=America/Chicago:20251020T140000
DTSTAMP:20260423T204912
CREATED:20250106T204109Z
LAST-MODIFIED:20250106T204109Z
UID:30636-1760965200-1760968800@www.trinitybemidji.org
SUMMARY:Altar Circle
DESCRIPTION:
URL:https://www.trinitybemidji.org/event/altar-circle-34/
CATEGORIES:Meeting
END:VEVENT
BEGIN:VEVENT
DTSTART;TZID=America/Chicago:20251021T093000
DTEND;TZID=America/Chicago:20251021T223000
DTSTAMP:20260423T204912
CREATED:20250106T200949Z
LAST-MODIFIED:20250106T200949Z
UID:30527-1761039000-1761085800@www.trinitybemidji.org
SUMMARY:Eunice Circle
DESCRIPTION:
URL:https://www.trinitybemidji.org/event/eunice-circle-37/
CATEGORIES:Meeting
END:VEVENT
BEGIN:VEVENT
DTSTART;TZID=America/Chicago:20251021T180000
DTEND;TZID=America/Chicago:20251021T190000
DTSTAMP:20260423T204912
CREATED:20250911T145119Z
LAST-MODIFIED:20250911T145119Z
UID:30959-1761069600-1761073200@www.trinitybemidji.org
SUMMARY:Bells
DESCRIPTION:
URL:https://www.trinitybemidji.org/event/bells-36/
CATEGORIES:Meeting
END:VEVENT
BEGIN:VEVENT
DTSTART;TZID=America/Chicago:20251022T130000
DTEND;TZID=America/Chicago:20251022T160000
DTSTAMP:20260423T204912
CREATED:20250925T175945Z
LAST-MODIFIED:20250925T175945Z
UID:30989-1761138000-1761148800@www.trinitybemidji.org
SUMMARY:Bible Study
DESCRIPTION:
URL:https://www.trinitybemidji.org/event/bible-study-219/
CATEGORIES:Meeting
END:VEVENT
BEGIN:VEVENT
DTSTART;TZID=America/Chicago:20251022T161500
DTEND;TZID=America/Chicago:20251022T173000
DTSTAMP:20260423T204912
CREATED:20250925T180036Z
LAST-MODIFIED:20250925T180036Z
UID:31010-1761149700-1761154200@www.trinitybemidji.org
SUMMARY:Confirmation
DESCRIPTION:
URL:https://www.trinitybemidji.org/event/confirmation-42/
CATEGORIES:Meeting
END:VEVENT
END:VCALENDAR