BEGIN:VCALENDAR
VERSION:2.0
PRODID:-//Trinity Lutheran Church - Bemidji - ECPv6.15.20//NONSGML v1.0//EN
CALSCALE:GREGORIAN
METHOD:PUBLISH
X-ORIGINAL-URL:https://www.trinitybemidji.org
X-WR-CALDESC:Events for Trinity Lutheran Church - Bemidji
REFRESH-INTERVAL;VALUE=DURATION:PT1H
X-Robots-Tag:noindex
X-PUBLISHED-TTL:PT1H
BEGIN:VTIMEZONE
TZID:America/Chicago
BEGIN:DAYLIGHT
TZOFFSETFROM:-0600
TZOFFSETTO:-0500
TZNAME:CDT
DTSTART:20250309T080000
END:DAYLIGHT
BEGIN:STANDARD
TZOFFSETFROM:-0500
TZOFFSETTO:-0600
TZNAME:CST
DTSTART:20251102T070000
END:STANDARD
BEGIN:DAYLIGHT
TZOFFSETFROM:-0600
TZOFFSETTO:-0500
TZNAME:CDT
DTSTART:20260308T080000
END:DAYLIGHT
BEGIN:STANDARD
TZOFFSETFROM:-0500
TZOFFSETTO:-0600
TZNAME:CST
DTSTART:20261101T070000
END:STANDARD
BEGIN:DAYLIGHT
TZOFFSETFROM:-0600
TZOFFSETTO:-0500
TZNAME:CDT
DTSTART:20270314T080000
END:DAYLIGHT
BEGIN:STANDARD
TZOFFSETFROM:-0500
TZOFFSETTO:-0600
TZNAME:CST
DTSTART:20271107T070000
END:STANDARD
END:VTIMEZONE
BEGIN:VEVENT
DTSTART;TZID=America/Chicago:20260204T130000
DTEND;TZID=America/Chicago:20260204T160000
DTSTAMP:20260423T135753
CREATED:20260105T173855Z
LAST-MODIFIED:20260105T173855Z
UID:31242-1770210000-1770220800@www.trinitybemidji.org
SUMMARY:Bible Study
DESCRIPTION:
URL:https://www.trinitybemidji.org/event/bible-study-283/
CATEGORIES:Meeting
END:VEVENT
BEGIN:VEVENT
DTSTART;TZID=America/Chicago:20260205T133000
DTEND;TZID=America/Chicago:20260205T150000
DTSTAMP:20260423T135753
CREATED:20260105T174625Z
LAST-MODIFIED:20260105T174625Z
UID:31393-1770298200-1770303600@www.trinitybemidji.org
SUMMARY:Ladies Guild
DESCRIPTION:
URL:https://www.trinitybemidji.org/event/ladies-guild-11/
CATEGORIES:Meeting
END:VEVENT
BEGIN:VEVENT
DTSTART;TZID=America/Chicago:20260205T173000
DTEND;TZID=America/Chicago:20260205T190000
DTSTAMP:20260423T135753
CREATED:20260105T174655Z
LAST-MODIFIED:20260105T174655Z
UID:31402-1770312600-1770318000@www.trinitybemidji.org
SUMMARY:Board of Elders
DESCRIPTION:
URL:https://www.trinitybemidji.org/event/board-of-elders-55/
CATEGORIES:Meeting
END:VEVENT
BEGIN:VEVENT
DTSTART;TZID=America/Chicago:20260207T080000
DTEND;TZID=America/Chicago:20260207T140000
DTSTAMP:20260423T135753
CREATED:20260202T175009Z
LAST-MODIFIED:20260202T175444Z
UID:31460-1770451200-1770472800@www.trinitybemidji.org
SUMMARY:Rummage Sale
DESCRIPTION:
URL:https://www.trinitybemidji.org/event/rummage-sale/
END:VEVENT
BEGIN:VEVENT
DTSTART;TZID=America/Chicago:20260208T090000
DTEND;TZID=America/Chicago:20260208T100000
DTSTAMP:20260423T135753
CREATED:20260105T173011Z
LAST-MODIFIED:20260105T173011Z
UID:31140-1770541200-1770544800@www.trinitybemidji.org
SUMMARY:Divine Worship
DESCRIPTION:
URL:https://www.trinitybemidji.org/event/divine-worship-219/
CATEGORIES:Meeting
END:VEVENT
BEGIN:VEVENT
DTSTART;TZID=America/Chicago:20260208T103000
DTEND;TZID=America/Chicago:20260208T113000
DTSTAMP:20260423T135753
CREATED:20260105T173430Z
LAST-MODIFIED:20260105T173430Z
UID:31191-1770546600-1770550200@www.trinitybemidji.org
SUMMARY:Bible Study
DESCRIPTION:
URL:https://www.trinitybemidji.org/event/bible-study-232/
CATEGORIES:Meeting
END:VEVENT
BEGIN:VEVENT
DTSTART;TZID=America/Chicago:20260208T103000
DTEND;TZID=America/Chicago:20260208T113000
DTSTAMP:20260423T135753
CREATED:20260105T174325Z
LAST-MODIFIED:20260105T174325Z
UID:31334-1770546600-1770550200@www.trinitybemidji.org
SUMMARY:Sunday School
DESCRIPTION:
URL:https://www.trinitybemidji.org/event/sunday-school-150/
CATEGORIES:Meeting
END:VEVENT
BEGIN:VEVENT
DTSTART;TZID=America/Chicago:20260208T113000
DTEND;TZID=America/Chicago:20260208T150000
DTSTAMP:20260423T135753
CREATED:20260202T175143Z
LAST-MODIFIED:20260202T175143Z
UID:31462-1770550200-1770562800@www.trinitybemidji.org
SUMMARY:Board Games & Bingo
DESCRIPTION:
URL:https://www.trinitybemidji.org/event/board-games-bingo/
END:VEVENT
BEGIN:VEVENT
DTSTART;TZID=America/Chicago:20260209T173000
DTEND;TZID=America/Chicago:20260209T183000
DTSTAMP:20260423T135753
CREATED:20260105T174511Z
LAST-MODIFIED:20260202T175632Z
UID:31370-1770658200-1770661800@www.trinitybemidji.org
SUMMARY:Men of Trinity
DESCRIPTION:
URL:https://www.trinitybemidji.org/event/men-of-trinity-36/
CATEGORIES:Meeting
END:VEVENT
BEGIN:VEVENT
DTSTART;TZID=America/Chicago:20260211T130000
DTEND;TZID=America/Chicago:20260211T160000
DTSTAMP:20260423T135753
CREATED:20260105T173855Z
LAST-MODIFIED:20260105T173855Z
UID:31243-1770814800-1770825600@www.trinitybemidji.org
SUMMARY:Bible Study
DESCRIPTION:
URL:https://www.trinitybemidji.org/event/bible-study-284/
CATEGORIES:Meeting
END:VEVENT
BEGIN:VEVENT
DTSTART;TZID=America/Chicago:20260212T133000
DTEND;TZID=America/Chicago:20260212T143000
DTSTAMP:20260423T135753
CREATED:20260105T174255Z
LAST-MODIFIED:20260105T174255Z
UID:31322-1770903000-1770906600@www.trinitybemidji.org
SUMMARY:Hannah Circle
DESCRIPTION:
URL:https://www.trinitybemidji.org/event/hannah-circle-27/
CATEGORIES:Meeting
END:VEVENT
BEGIN:VEVENT
DTSTART;TZID=America/Chicago:20260215T090000
DTEND;TZID=America/Chicago:20260215T100000
DTSTAMP:20260423T135753
CREATED:20260105T173013Z
LAST-MODIFIED:20260105T173013Z
UID:31141-1771146000-1771149600@www.trinitybemidji.org
SUMMARY:Divine Worship
DESCRIPTION:
URL:https://www.trinitybemidji.org/event/divine-worship-220/
CATEGORIES:Meeting
END:VEVENT
BEGIN:VEVENT
DTSTART;TZID=America/Chicago:20260215T103000
DTEND;TZID=America/Chicago:20260215T113000
DTSTAMP:20260423T135753
CREATED:20260105T173431Z
LAST-MODIFIED:20260105T173431Z
UID:31192-1771151400-1771155000@www.trinitybemidji.org
SUMMARY:Bible Study
DESCRIPTION:
URL:https://www.trinitybemidji.org/event/bible-study-233/
CATEGORIES:Meeting
END:VEVENT
BEGIN:VEVENT
DTSTART;TZID=America/Chicago:20260215T103000
DTEND;TZID=America/Chicago:20260215T113000
DTSTAMP:20260423T135753
CREATED:20260105T174325Z
LAST-MODIFIED:20260105T174325Z
UID:31335-1771151400-1771155000@www.trinitybemidji.org
SUMMARY:Sunday School
DESCRIPTION:
URL:https://www.trinitybemidji.org/event/sunday-school-151/
CATEGORIES:Meeting
END:VEVENT
BEGIN:VEVENT
DTSTART;TZID=America/Chicago:20260217T093000
DTEND;TZID=America/Chicago:20260217T223000
DTSTAMP:20260423T135753
CREATED:20260105T174225Z
LAST-MODIFIED:20260105T174225Z
UID:31314-1771320600-1771367400@www.trinitybemidji.org
SUMMARY:Eunice Circle
DESCRIPTION:
URL:https://www.trinitybemidji.org/event/eunice-circle-41/
CATEGORIES:Meeting
END:VEVENT
BEGIN:VEVENT
DTSTART;TZID=America/Chicago:20260218T130000
DTEND;TZID=America/Chicago:20260218T160000
DTSTAMP:20260423T135753
CREATED:20260105T173855Z
LAST-MODIFIED:20260105T173855Z
UID:31244-1771419600-1771430400@www.trinitybemidji.org
SUMMARY:Bible Study
DESCRIPTION:
URL:https://www.trinitybemidji.org/event/bible-study-285/
CATEGORIES:Meeting
END:VEVENT
BEGIN:VEVENT
DTSTART;TZID=America/Chicago:20260218T173000
DTEND;TZID=America/Chicago:20260218T183000
DTSTAMP:20260423T135753
CREATED:20260202T180230Z
LAST-MODIFIED:20260202T180230Z
UID:31468-1771435800-1771439400@www.trinitybemidji.org
SUMMARY:Lenten Meal
DESCRIPTION:
URL:https://www.trinitybemidji.org/event/lenten-meal-5/
END:VEVENT
BEGIN:VEVENT
DTSTART;TZID=America/Chicago:20260218T183000
DTEND;TZID=America/Chicago:20260218T193000
DTSTAMP:20260423T135753
CREATED:20260202T180747Z
LAST-MODIFIED:20260202T180747Z
UID:31485-1771439400-1771443000@www.trinitybemidji.org
SUMMARY:Ash Wednesday Worship
DESCRIPTION:
URL:https://www.trinitybemidji.org/event/ash-wednesday-worship-2/
END:VEVENT
BEGIN:VEVENT
DTSTART;TZID=America/Chicago:20260219T090000
DTEND;TZID=America/Chicago:20260219T100000
DTSTAMP:20260423T135753
CREATED:20260105T174125Z
LAST-MODIFIED:20260105T174125Z
UID:31292-1771491600-1771495200@www.trinitybemidji.org
SUMMARY:Happy Quilters
DESCRIPTION:
URL:https://www.trinitybemidji.org/event/happy-quilters-64/
CATEGORIES:Meeting
END:VEVENT
BEGIN:VEVENT
DTSTART;TZID=America/Chicago:20260219T180000
DTEND;TZID=America/Chicago:20260219T190000
DTSTAMP:20260423T135753
CREATED:20260105T174725Z
LAST-MODIFIED:20260105T174725Z
UID:31413-1771524000-1771527600@www.trinitybemidji.org
SUMMARY:Church Boards
DESCRIPTION:
URL:https://www.trinitybemidji.org/event/church-boards-46/
CATEGORIES:Meeting
END:VEVENT
BEGIN:VEVENT
DTSTART;TZID=America/Chicago:20260219T190000
DTEND;TZID=America/Chicago:20260219T200000
DTSTAMP:20260423T135753
CREATED:20260105T174755Z
LAST-MODIFIED:20260105T174755Z
UID:31423-1771527600-1771531200@www.trinitybemidji.org
SUMMARY:Church Council
DESCRIPTION:
URL:https://www.trinitybemidji.org/event/church-council-44/
CATEGORIES:Meeting
END:VEVENT
BEGIN:VEVENT
DTSTART;TZID=America/Chicago:20260222T090000
DTEND;TZID=America/Chicago:20260222T100000
DTSTAMP:20260423T135753
CREATED:20260105T173014Z
LAST-MODIFIED:20260105T173014Z
UID:31142-1771750800-1771754400@www.trinitybemidji.org
SUMMARY:Divine Worship
DESCRIPTION:
URL:https://www.trinitybemidji.org/event/divine-worship-221/
CATEGORIES:Meeting
END:VEVENT
BEGIN:VEVENT
DTSTART;TZID=America/Chicago:20260222T103000
DTEND;TZID=America/Chicago:20260222T113000
DTSTAMP:20260423T135753
CREATED:20260105T173431Z
LAST-MODIFIED:20260105T173431Z
UID:31193-1771756200-1771759800@www.trinitybemidji.org
SUMMARY:Bible Study
DESCRIPTION:
URL:https://www.trinitybemidji.org/event/bible-study-234/
CATEGORIES:Meeting
END:VEVENT
BEGIN:VEVENT
DTSTART;TZID=America/Chicago:20260222T103000
DTEND;TZID=America/Chicago:20260222T113000
DTSTAMP:20260423T135753
CREATED:20260105T174340Z
LAST-MODIFIED:20260105T174340Z
UID:31336-1771756200-1771759800@www.trinitybemidji.org
SUMMARY:Sunday School
DESCRIPTION:
URL:https://www.trinitybemidji.org/event/sunday-school-152/
CATEGORIES:Meeting
END:VEVENT
BEGIN:VEVENT
DTSTART;TZID=America/Chicago:20260223T173000
DTEND;TZID=America/Chicago:20260223T183000
DTSTAMP:20260423T135753
CREATED:20260105T174525Z
LAST-MODIFIED:20260202T175701Z
UID:31371-1771867800-1771871400@www.trinitybemidji.org
SUMMARY:Men of Trinity
DESCRIPTION:
URL:https://www.trinitybemidji.org/event/men-of-trinity-37/
CATEGORIES:Meeting
END:VEVENT
BEGIN:VEVENT
DTSTART;TZID=America/Chicago:20260225T130000
DTEND;TZID=America/Chicago:20260225T160000
DTSTAMP:20260423T135753
CREATED:20260105T173855Z
LAST-MODIFIED:20260105T173855Z
UID:31245-1772024400-1772035200@www.trinitybemidji.org
SUMMARY:Bible Study
DESCRIPTION:
URL:https://www.trinitybemidji.org/event/bible-study-286/
CATEGORIES:Meeting
END:VEVENT
BEGIN:VEVENT
DTSTART;TZID=America/Chicago:20260225T173000
DTEND;TZID=America/Chicago:20260225T183000
DTSTAMP:20260423T135753
CREATED:20260202T180337Z
LAST-MODIFIED:20260202T180337Z
UID:31471-1772040600-1772044200@www.trinitybemidji.org
SUMMARY:Lenten Meal
DESCRIPTION:
URL:https://www.trinitybemidji.org/event/lenten-meal-6/
END:VEVENT
BEGIN:VEVENT
DTSTART;TZID=America/Chicago:20260225T183000
DTEND;TZID=America/Chicago:20260225T193000
DTSTAMP:20260423T135753
CREATED:20260202T180828Z
LAST-MODIFIED:20260202T180828Z
UID:31487-1772044200-1772047800@www.trinitybemidji.org
SUMMARY:Midweek Lenten Service
DESCRIPTION:
URL:https://www.trinitybemidji.org/event/midweek-lenten-service/
END:VEVENT
BEGIN:VEVENT
DTSTART;TZID=America/Chicago:20260226T090000
DTEND;TZID=America/Chicago:20260226T100000
DTSTAMP:20260423T135753
CREATED:20260105T174125Z
LAST-MODIFIED:20260105T174125Z
UID:31293-1772096400-1772100000@www.trinitybemidji.org
SUMMARY:Happy Quilters
DESCRIPTION:
URL:https://www.trinitybemidji.org/event/happy-quilters-65/
CATEGORIES:Meeting
END:VEVENT
END:VCALENDAR