BEGIN:VCALENDAR
VERSION:2.0
PRODID:-//Trinity Lutheran Church - Bemidji - ECPv6.15.20//NONSGML v1.0//EN
CALSCALE:GREGORIAN
METHOD:PUBLISH
X-WR-CALNAME:Trinity Lutheran Church - Bemidji
X-ORIGINAL-URL:https://www.trinitybemidji.org
X-WR-CALDESC:Events for Trinity Lutheran Church - Bemidji
REFRESH-INTERVAL;VALUE=DURATION:PT1H
X-Robots-Tag:noindex
X-PUBLISHED-TTL:PT1H
BEGIN:VTIMEZONE
TZID:America/Chicago
BEGIN:DAYLIGHT
TZOFFSETFROM:-0600
TZOFFSETTO:-0500
TZNAME:CDT
DTSTART:20250309T080000
END:DAYLIGHT
BEGIN:STANDARD
TZOFFSETFROM:-0500
TZOFFSETTO:-0600
TZNAME:CST
DTSTART:20251102T070000
END:STANDARD
BEGIN:DAYLIGHT
TZOFFSETFROM:-0600
TZOFFSETTO:-0500
TZNAME:CDT
DTSTART:20260308T080000
END:DAYLIGHT
BEGIN:STANDARD
TZOFFSETFROM:-0500
TZOFFSETTO:-0600
TZNAME:CST
DTSTART:20261101T070000
END:STANDARD
BEGIN:DAYLIGHT
TZOFFSETFROM:-0600
TZOFFSETTO:-0500
TZNAME:CDT
DTSTART:20270314T080000
END:DAYLIGHT
BEGIN:STANDARD
TZOFFSETFROM:-0500
TZOFFSETTO:-0600
TZNAME:CST
DTSTART:20271107T070000
END:STANDARD
END:VTIMEZONE
BEGIN:VEVENT
DTSTART;TZID=America/Chicago:20260701T130000
DTEND;TZID=America/Chicago:20260701T160000
DTSTAMP:20260423T153400
CREATED:20260105T173955Z
LAST-MODIFIED:20260105T173955Z
UID:31263-1782910800-1782921600@www.trinitybemidji.org
SUMMARY:Bible Study
DESCRIPTION:
URL:https://www.trinitybemidji.org/event/bible-study-304/
CATEGORIES:Meeting
END:VEVENT
BEGIN:VEVENT
DTSTART;TZID=America/Chicago:20260702T173000
DTEND;TZID=America/Chicago:20260702T190000
DTSTAMP:20260423T153400
CREATED:20260105T174710Z
LAST-MODIFIED:20260105T174710Z
UID:31407-1783013400-1783018800@www.trinitybemidji.org
SUMMARY:Board of Elders
DESCRIPTION:
URL:https://www.trinitybemidji.org/event/board-of-elders-60/
CATEGORIES:Meeting
END:VEVENT
BEGIN:VEVENT
DTSTART;TZID=America/Chicago:20260705T090000
DTEND;TZID=America/Chicago:20260705T100000
DTSTAMP:20260423T153400
CREATED:20260105T173114Z
LAST-MODIFIED:20260105T173114Z
UID:31161-1783242000-1783245600@www.trinitybemidji.org
SUMMARY:Divine Worship
DESCRIPTION:
URL:https://www.trinitybemidji.org/event/divine-worship-240/
CATEGORIES:Meeting
END:VEVENT
BEGIN:VEVENT
DTSTART;TZID=America/Chicago:20260705T103000
DTEND;TZID=America/Chicago:20260705T113000
DTSTAMP:20260423T153400
CREATED:20260105T173724Z
LAST-MODIFIED:20260105T173724Z
UID:31212-1783247400-1783251000@www.trinitybemidji.org
SUMMARY:Bible Study
DESCRIPTION:
URL:https://www.trinitybemidji.org/event/bible-study-253/
CATEGORIES:Meeting
END:VEVENT
BEGIN:VEVENT
DTSTART;TZID=America/Chicago:20260706T173000
DTEND;TZID=America/Chicago:20260706T183000
DTSTAMP:20260423T153400
CREATED:20260105T174541Z
LAST-MODIFIED:20260105T174541Z
UID:31380-1783359000-1783362600@www.trinitybemidji.org
SUMMARY:Men of Trinity
DESCRIPTION:
URL:https://www.trinitybemidji.org/event/men-of-trinity-46/
CATEGORIES:Meeting
END:VEVENT
BEGIN:VEVENT
DTSTART;TZID=America/Chicago:20260708T130000
DTEND;TZID=America/Chicago:20260708T160000
DTSTAMP:20260423T153400
CREATED:20260105T173955Z
LAST-MODIFIED:20260105T173955Z
UID:31264-1783515600-1783526400@www.trinitybemidji.org
SUMMARY:Bible Study
DESCRIPTION:
URL:https://www.trinitybemidji.org/event/bible-study-305/
CATEGORIES:Meeting
END:VEVENT
BEGIN:VEVENT
DTSTART;TZID=America/Chicago:20260712T090000
DTEND;TZID=America/Chicago:20260712T100000
DTSTAMP:20260423T153400
CREATED:20260105T173114Z
LAST-MODIFIED:20260105T173114Z
UID:31162-1783846800-1783850400@www.trinitybemidji.org
SUMMARY:Divine Worship
DESCRIPTION:
URL:https://www.trinitybemidji.org/event/divine-worship-241/
CATEGORIES:Meeting
END:VEVENT
BEGIN:VEVENT
DTSTART;TZID=America/Chicago:20260712T103000
DTEND;TZID=America/Chicago:20260712T113000
DTSTAMP:20260423T153400
CREATED:20260105T173725Z
LAST-MODIFIED:20260105T173725Z
UID:31213-1783852200-1783855800@www.trinitybemidji.org
SUMMARY:Bible Study
DESCRIPTION:
URL:https://www.trinitybemidji.org/event/bible-study-254/
CATEGORIES:Meeting
END:VEVENT
BEGIN:VEVENT
DTSTART;TZID=America/Chicago:20260715T130000
DTEND;TZID=America/Chicago:20260715T160000
DTSTAMP:20260423T153400
CREATED:20260105T173955Z
LAST-MODIFIED:20260105T173955Z
UID:31265-1784120400-1784131200@www.trinitybemidji.org
SUMMARY:Bible Study
DESCRIPTION:
URL:https://www.trinitybemidji.org/event/bible-study-306/
CATEGORIES:Meeting
END:VEVENT
BEGIN:VEVENT
DTSTART;TZID=America/Chicago:20260716T090000
DTEND;TZID=America/Chicago:20260716T100000
DTSTAMP:20260423T153400
CREATED:20260105T174155Z
LAST-MODIFIED:20260105T174155Z
UID:31302-1784192400-1784196000@www.trinitybemidji.org
SUMMARY:Happy Quilters
DESCRIPTION:
URL:https://www.trinitybemidji.org/event/happy-quilters-74/
CATEGORIES:Meeting
END:VEVENT
BEGIN:VEVENT
DTSTART;TZID=America/Chicago:20260716T180000
DTEND;TZID=America/Chicago:20260716T190000
DTSTAMP:20260423T153400
CREATED:20260105T174740Z
LAST-MODIFIED:20260105T174740Z
UID:31418-1784224800-1784228400@www.trinitybemidji.org
SUMMARY:Church Boards
DESCRIPTION:
URL:https://www.trinitybemidji.org/event/church-boards-51/
CATEGORIES:Meeting
END:VEVENT
BEGIN:VEVENT
DTSTART;TZID=America/Chicago:20260716T190000
DTEND;TZID=America/Chicago:20260716T200000
DTSTAMP:20260423T153400
CREATED:20260105T174810Z
LAST-MODIFIED:20260105T174810Z
UID:31428-1784228400-1784232000@www.trinitybemidji.org
SUMMARY:Church Council
DESCRIPTION:
URL:https://www.trinitybemidji.org/event/church-council-49/
CATEGORIES:Meeting
END:VEVENT
BEGIN:VEVENT
DTSTART;TZID=America/Chicago:20260719T090000
DTEND;TZID=America/Chicago:20260719T100000
DTSTAMP:20260423T153400
CREATED:20260105T173115Z
LAST-MODIFIED:20260105T173115Z
UID:31163-1784451600-1784455200@www.trinitybemidji.org
SUMMARY:Divine Worship
DESCRIPTION:
URL:https://www.trinitybemidji.org/event/divine-worship-242/
CATEGORIES:Meeting
END:VEVENT
BEGIN:VEVENT
DTSTART;TZID=America/Chicago:20260719T103000
DTEND;TZID=America/Chicago:20260719T113000
DTSTAMP:20260423T153400
CREATED:20260105T173725Z
LAST-MODIFIED:20260105T173725Z
UID:31214-1784457000-1784460600@www.trinitybemidji.org
SUMMARY:Bible Study
DESCRIPTION:
URL:https://www.trinitybemidji.org/event/bible-study-255/
CATEGORIES:Meeting
END:VEVENT
BEGIN:VEVENT
DTSTART;TZID=America/Chicago:20260720T130000
DTEND;TZID=America/Chicago:20260720T140000
DTSTAMP:20260423T153400
CREATED:20260105T174840Z
LAST-MODIFIED:20260105T174840Z
UID:31437-1784552400-1784556000@www.trinitybemidji.org
SUMMARY:Altar Circle
DESCRIPTION:
URL:https://www.trinitybemidji.org/event/altar-circle-41/
CATEGORIES:Meeting
END:VEVENT
BEGIN:VEVENT
DTSTART;TZID=America/Chicago:20260720T173000
DTEND;TZID=America/Chicago:20260720T183000
DTSTAMP:20260423T153400
CREATED:20260105T174555Z
LAST-MODIFIED:20260105T174555Z
UID:31381-1784568600-1784572200@www.trinitybemidji.org
SUMMARY:Men of Trinity
DESCRIPTION:
URL:https://www.trinitybemidji.org/event/men-of-trinity-47/
CATEGORIES:Meeting
END:VEVENT
BEGIN:VEVENT
DTSTART;TZID=America/Chicago:20260722T130000
DTEND;TZID=America/Chicago:20260722T160000
DTSTAMP:20260423T153400
CREATED:20260105T174009Z
LAST-MODIFIED:20260105T174009Z
UID:31266-1784725200-1784736000@www.trinitybemidji.org
SUMMARY:Bible Study
DESCRIPTION:
URL:https://www.trinitybemidji.org/event/bible-study-307/
CATEGORIES:Meeting
END:VEVENT
BEGIN:VEVENT
DTSTART;TZID=America/Chicago:20260723T090000
DTEND;TZID=America/Chicago:20260723T100000
DTSTAMP:20260423T153400
CREATED:20260105T174155Z
LAST-MODIFIED:20260105T174155Z
UID:31303-1784797200-1784800800@www.trinitybemidji.org
SUMMARY:Happy Quilters
DESCRIPTION:
URL:https://www.trinitybemidji.org/event/happy-quilters-75/
CATEGORIES:Meeting
END:VEVENT
BEGIN:VEVENT
DTSTART;TZID=America/Chicago:20260726T090000
DTEND;TZID=America/Chicago:20260726T100000
DTSTAMP:20260423T153400
CREATED:20260105T173115Z
LAST-MODIFIED:20260105T173115Z
UID:31164-1785056400-1785060000@www.trinitybemidji.org
SUMMARY:Divine Worship
DESCRIPTION:
URL:https://www.trinitybemidji.org/event/divine-worship-243/
CATEGORIES:Meeting
END:VEVENT
BEGIN:VEVENT
DTSTART;TZID=America/Chicago:20260726T103000
DTEND;TZID=America/Chicago:20260726T113000
DTSTAMP:20260423T153400
CREATED:20260105T173725Z
LAST-MODIFIED:20260105T173725Z
UID:31215-1785061800-1785065400@www.trinitybemidji.org
SUMMARY:Bible Study
DESCRIPTION:
URL:https://www.trinitybemidji.org/event/bible-study-256/
CATEGORIES:Meeting
END:VEVENT
BEGIN:VEVENT
DTSTART;TZID=America/Chicago:20260729T130000
DTEND;TZID=America/Chicago:20260729T160000
DTSTAMP:20260423T153400
CREATED:20260105T174010Z
LAST-MODIFIED:20260105T174010Z
UID:31267-1785330000-1785340800@www.trinitybemidji.org
SUMMARY:Bible Study
DESCRIPTION:
URL:https://www.trinitybemidji.org/event/bible-study-308/
CATEGORIES:Meeting
END:VEVENT
END:VCALENDAR